Workbook

Sheet Cover
B2: United Rentals, Inc. (NYSE: URI)
B3: Company Model — built by Shortcut
B4: $ millions, except per share
B6: Period | C6: 3Q26E
B7: Period end | C7: 46295
B8: Days in period | C8: =C7-EOMONTH(C7,-3) -> 92
B10: Company | C10: United Rentals, Inc.
B11: Ticker / exchange | C11: URI / NYSE (NYSE:URI)
B12: Fiscal year end | C12: 31-Dec (calendar); 3Q26 = quarter ended 30-Sep-2026 (supplied label FQ3 2026 - Sep 2026 confirmed)
B13: Reporting currency / units | C13: USD; $ millions except per-share; EPS per diluted common share
B14: EPS basis (consensus) | C14: Normalized diluted EPS = issuer "adjusted EPS" (adds back merger intangibles, acquired-fleet depreciation & FV mark-up, restructuring, impairment, debt losses)
B15: Information cutoff | C15: 2026-10-18 21:34 UTC
B16: Expected report date | C16: 21-Oct-2026 after market close (issuer-confirmed 08-Oct-26; matches supplied CapIQ date); call 22-Oct-2026 08:30 ET
B17: Market cap ($bn) / index | C17: =Inputs!C111 -> 64.087356 | D17: S&P 500 member
B19: Headline: 3Q26E vs consensus vs guidance | C19: Shortcut 3Q26E | D19: Consensus (CapIQ, 18-Oct-26) | E19: Variance | F19: Variance % | G19: Guidance mid (implied 3Q) | H19: Est. vs guidance %
B20: Total revenue ($M) | C20: ='Income Statement'!H16 -> 4699.0925 | D20: =Inputs!C21 -> 4709.32 | E20: =IF(ISNUMBER(D20),C20-D20,"n/a") -> -10.227499 | F20: =IF(ISNUMBER(D20),C20/D20-1,"n/a") -> -0.0021717572 | G20: =Guidance!C58 -> 4639.018 | H20: =IF(ISNUMBER(G20),C20/G20-1,"n/a") -> 0.012949828
B21: Adjusted EBITDA ($M) | C21: ='Income Statement'!H108 -> 2175.2739 | D21: =Inputs!C71 -> 2171 | E21: =IF(ISNUMBER(D21),C21-D21,"n/a") -> 4.2738863 | F21: =IF(ISNUMBER(D21),C21/D21-1,"n/a") -> 0.0019686256 | G21: =Guidance!C63 -> 2142.2693 | H21: =IF(ISNUMBER(G21),C21/G21-1,"n/a") -> 0.015406366
B22: Net income — GAAP ($M) | C22: ='Income Statement'!H60 -> 821.57452 | D22: =Inputs!C76 -> 828.95 | E22: =IF(ISNUMBER(D22),C22-D22,"n/a") -> -7.3754835 | F22: =IF(ISNUMBER(D22),C22/D22-1,"n/a") -> -0.0088973805 | G22: n/a | H22: =IF(ISNUMBER(G22),C22/G22-1,"n/a") -> n/a
B23: Net income — adjusted / consensus basis ($M) | C23: ='Income Statement'!H95 -> 865.01652 | D23: =Inputs!C75 -> 861.55 | E23: =IF(ISNUMBER(D23),C23-D23,"n/a") -> 3.4665165 | F23: =IF(ISNUMBER(D23),C23/D23-1,"n/a") -> 0.0040235813 | G23: n/a | H23: =IF(ISNUMBER(G23),C23/G23-1,"n/a") -> n/a
B24: Diluted EPS — GAAP ($) | C24: ='Income Statement'!H67 -> 13.226899 | D24: =Inputs!C53 -> 13.32 | E24: =IF(ISNUMBER(D24),C24-D24,"n/a") -> -0.093100964 | F24: =IF(ISNUMBER(D24),C24/D24-1,"n/a") -> -0.0069895619 | G24: n/a | H24: =IF(ISNUMBER(G24),C24/G24-1,"n/a") -> n/a
B25: Diluted EPS — normalized / adjusted ($) [scored] | C25: ='Income Statement'!H81 -> 13.926291 | D25: =Inputs!C19 -> 14.03 | E25: =IF(ISNUMBER(D25),C25-D25,"n/a") -> -0.10370859 | F25: =IF(ISNUMBER(D25),C25/D25-1,"n/a") -> -0.0073919169 | G25: n/a | H25: =IF(ISNUMBER(G25),C25/G25-1,"n/a") -> n/a
B26: Overall model integrity check (mechanical; not forecast validation) | C26: =IF(AND(C30,AND('Revenue summary'!C77:H77),AND('Revenue summary'!C78:H78),AND('Revenue summary'!C109:H109),AND('Revenue summary'!C139:H139),AND('Income Statement'!C70:H70),AND('Income Statement'!C84:H84),AND('Income Statement'!C113:H113),(ABS('Balance Sheet'!C41)+ABS('Balance Sheet'!D41)+ABS('Balance Sheet'!E41)+ABS('Balance Sheet'!F41)+ABS('Balance Sheet'!G41)+ABS('Balance Sheet'!H41))<0.01,(ABS('Balance Sheet'!C43)+ABS('Balance Sheet'!D43)+ABS('Balance Sheet'!E43)+ABS('Balance Sheet'!F43)+ABS('Balance Sheet'!G43))<0.01,(ABS('Cash Flow Statement'!C52)+ABS('Cash Flow Statement'!D52)+ABS('Cash Flow Statement'!E52)+ABS('Cash Flow Statement'!F52)+ABS('Cash Flow Statement'!G52)+ABS('Cash Flow Statement'!H52))<0.01,(ABS('Cash Flow Statement'!C53)+ABS('Cash Flow Statement'!D53)+ABS('Cash Flow Statement'!E53)+ABS('Cash Flow Statement'!F53)+ABS('Cash Flow Statement'!G53)+ABS('Cash Flow Statement'!H53))<0.01,AND('Share Count'!C18:H18),ISNUMBER('Cash Flow Statement'!H59),ISNUMBER('Segment - General Rentals'!H141),ISNUMBER('Segment - Specialty'!H145),_xlfn.IFERROR('Balance Sheet'!H11>=0,FALSE),_xlfn.IFERROR(AND(ISNUMBER('Segment - General Rentals'!H139),ISNUMBER('Segment - Specialty'!H143),ISNUMBER('Segment - General Rentals'!H142),ISNUMBER('Segment - Specialty'!H146),'Segment - General Rentals'!H139>0,'Segment - Specialty'!H143>0,'Segment - General Rentals'!H142>0,'Segment - Specialty'!H146>0),FALSE)),"PASS","FAIL") -> PASS
B27: P(beat consensus EPS) | C27: =Inputs!C124 -> 0.52
B28: Confidence | C28: =Inputs!C125 -> low
B30: Check: Cover ties to statements (TRUE) | C30: =AND(C20='Income Statement'!H16,C25='Income Statement'!H81,C22='Income Statement'!H60,C23='Income Statement'!H95) -> TRUE
B31: Consensus n = 17 normalized-EPS estimates (eps_normalized_n_est); revenue n = 15. Guidance midpoint = FY26 guide less 1H26 actual x 2025 3Q share of 2H.
B32: Issuer does not guide EPS or net income; those guidance cells are n/a by design. Frozen CapIQ consensus is the scoring baseline.
B33: C26 = mechanical integrity only. 3Q26E identities hold by construction (Revenue summary H125 residual -> H109/H139; IS H84 = H95/H66; IS H113 = ISNUMBER; BS balances via CF cash; CF H59 net-borrowing plug to target cash H58) and are disclosed as assumptions, not independent forecast validation.

Sheet Revenue summary
B2: United Rentals, Inc. (NYSE: URI)
B3: Revenue summary and rental revenue drivers
B4: $ millions, except per share
B6: Period | C6: 3Q25A | D6: 4Q25A | E6: 1Q26A | F6: 2Q26A | G6: FY25A | H6: 3Q26E
B7: Period end | C7: 45930 | D7: 46022 | E7: 46112 | F7: 46203 | G7: 46022 | H7: 46295
B8: Days in period | C8: =C7-EOMONTH(C7,-3) -> 92 | D8: =D7-EOMONTH(D7,-3) -> 92 | E8: =E7-EOMONTH(E7,-3) -> 90 | F8: =F7-EOMONTH(F7,-3) -> 91 | G8: =G7-EOMONTH(G7,-12) -> 365 | H8: =H7-EOMONTH(H7,-3) -> 92
J9: Notes / sources
B10: Revenue by reportable segment
B11: General Rentals total revenue | C11: ='Segment - General Rentals'!C81 -> 2826 | D11: ='Segment - General Rentals'!D81 -> 2904 | E11: ='Segment - General Rentals'!E81 -> 2683 | F11: ='Segment - General Rentals'!F81 -> 2855 | G11: ='Segment - General Rentals'!G81 -> 11001 | H11: ='Segment - General Rentals'!H81 -> 3013.68 | J11: Links to Segment - General Rentals
B12: % Y/Y | C12: =C11/Inputs!C152-1 -> 0.029508197 | D12: =D11/Inputs!D152-1 -> 0.0010341262 | E12: =E11/Inputs!E152-1 -> 0.042751652 | F12: =F11/Inputs!F152-1 -> 0.058191253 | G12: =G11/Inputs!G152-1 -> 0.014384509 | H12: =H11/C11-1 -> 0.066411878
B13: % Q/Q | C13: =C11/Inputs!F152-1 -> 0.04744255 | D13: =D11/C11-1 -> 0.027600849 | E13: =E11/D11-1 -> -0.076101928 | F13: =F11/E11-1 -> 0.064107343 | H13: =H11/F11-1 -> 0.055579673
B14: % of total revenue | C14: =C11/C27 -> 0.66824308 | D14: =D11/D27 -> 0.69011407 | E14: =E11/E27 -> 0.67327478 | F14: =F11/F27 -> 0.64739229 | G14: =G11/G27 -> 0.68333437 | H14: =H11/H27 -> 0.64133234
B15: Organic growth | C15: n/a | D15: n/a | E15: n/a | F15: n/a | G15: n/a | H15: n/a | J15: Organic = (1+Y/Y)/((1+M&A)(1+FX))-1; n/a because issuer does not disclose M&A or FX contributions
B16: M&A / scope (not disclosed) | C16: n/a | D16: n/a | E16: n/a | F16: n/a | G16: n/a | H16: n/a
B17: FX impact (not disclosed) | C17: n/a | D17: n/a | E17: n/a | F17: n/a | G17: n/a | H17: n/a
B18: Total Y/Y | C18: =C12 -> 0.029508197 | D18: =D12 -> 0.0010341262 | E18: =E12 -> 0.042751652 | F18: =F12 -> 0.058191253 | G18: =G12 -> 0.014384509 | H18: =H12 -> 0.066411878
B19: Specialty total revenue | C19: ='Segment - Specialty'!C81 -> 1403 | D19: ='Segment - Specialty'!D81 -> 1304 | E19: ='Segment - Specialty'!E81 -> 1302 | F19: ='Segment - Specialty'!F81 -> 1555 | G19: ='Segment - Specialty'!G81 -> 5098 | H19: ='Segment - Specialty'!H81 -> 1685.4125 | J19: Links to Segment - Specialty
B20: % Y/Y | C20: =C19/Inputs!C158-1 -> 0.12510024 | D20: =D19/Inputs!D158-1 -> 0.092127303 | E20: =E19/Inputs!E158-1 -> 0.13612565 | F20: =F19/Inputs!F158-1 -> 0.24899598 | G20: =G19/Inputs!G158-1 -> 0.13288889 | H20: =H19/C19-1 -> 0.2012919
B21: % Q/Q | C21: =C19/Inputs!F158-1 -> 0.12690763 | D21: =D19/C19-1 -> -0.070563079 | E21: =E19/D19-1 -> -0.0015337423 | F21: =F19/E19-1 -> 0.19431644 | H21: =H19/F19-1 -> 0.083866581
B22: % of total revenue | C22: =C19/C27 -> 0.33175692 | D22: =D19/D27 -> 0.30988593 | E22: =E19/E27 -> 0.32672522 | F22: =F19/F27 -> 0.35260771 | G22: =G19/G27 -> 0.31666563 | H22: =H19/H27 -> 0.35866766
B23: Organic growth | C23: n/a | D23: n/a | E23: n/a | F23: n/a | G23: n/a | H23: n/a | J23: Organic = (1+Y/Y)/((1+M&A)(1+FX))-1; n/a because issuer does not disclose M&A or FX contributions
B24: M&A / scope (not disclosed) | C24: n/a | D24: n/a | E24: n/a | F24: n/a | G24: n/a | H24: n/a
B25: FX impact (not disclosed) | C25: n/a | D25: n/a | E25: n/a | F25: n/a | G25: n/a | H25: n/a
B26: Total Y/Y | C26: =C20 -> 0.12510024 | D26: =D20 -> 0.092127303 | E26: =E20 -> 0.13612565 | F26: =F20 -> 0.24899598 | G26: =G20 -> 0.13288889 | H26: =H20 -> 0.2012919
B27: Total revenues | C27: =C11+C19 -> 4229 | D27: =D11+D19 -> 4208 | E27: =E11+E19 -> 3985 | F27: =F11+F19 -> 4410 | G27: =G11+G19 -> 16099 | H27: =H11+H19 -> 4699.0925
B28: % Y/Y | C28: =C27/Inputs!C182-1 -> 0.059368737 | D28: =D27/Inputs!D182-1 -> 0.027594628 | E28: =E27/Inputs!E182-1 -> 0.071524603 | F28: =F27/Inputs!F182-1 -> 0.11843774 | G28: =G27/Inputs!G182-1 -> 0.049136527 | H28: =H27/C27-1 -> 0.11115926
B29: % Q/Q | C29: =C27/Inputs!F182-1 -> 0.072533604 | D29: =D27/C27-1 -> -0.0049657129 | E29: =E27/D27-1 -> -0.052994297 | F29: =F27/E27-1 -> 0.10664994 | H29: =H27/F27-1 -> 0.065553855
B30: Organic growth | C30: n/a | D30: n/a | E30: n/a | F30: n/a | G30: n/a | H30: n/a | J30: Organic = (1+Y/Y)/((1+M&A)(1+FX))-1; n/a because issuer does not disclose M&A or FX contributions
B31: M&A / scope (not disclosed) | C31: n/a | D31: n/a | E31: n/a | F31: n/a | G31: n/a | H31: n/a
B32: FX impact (not disclosed) | C32: n/a | D32: n/a | E32: n/a | F32: n/a | G32: n/a | H32: n/a
B33: Total Y/Y | C33: =C28 -> 0.059368737 | D33: =D28 -> 0.027594628 | E33: =E28 -> 0.071524603 | F33: =F28 -> 0.11843774 | G33: =G28 -> 0.049136527 | H33: =H28 -> 0.11115926
B35: Revenue by type (consolidated = General Rentals + Specialty)
B36: Equipment rentals | C36: ='Segment - General Rentals'!C43+'Segment - Specialty'!C43 -> 3665 | D36: ='Segment - General Rentals'!D43+'Segment - Specialty'!D43 -> 3581 | E36: ='Segment - General Rentals'!E43+'Segment - Specialty'!E43 -> 3419 | F36: ='Segment - General Rentals'!F43+'Segment - Specialty'!F43 -> 3849 | G36: ='Segment - General Rentals'!G43+'Segment - Specialty'!G43 -> 13806 | H36: ='Segment - General Rentals'!H43+'Segment - Specialty'!H43 -> 4090.2125
B37: % Y/Y | C37: =C36/Inputs!C177-1 -> 0.058330927 | D37: =D36/Inputs!D177-1 -> 0.046464056 | E37: =E36/Inputs!E177-1 -> 0.087122417 | F37: =F36/Inputs!F177-1 -> 0.12708638 | G37: =G36/Inputs!G177-1 -> 0.059636196 | H37: =H36/C36-1 -> 0.11601978
B38: % Q/Q | C38: =C36/Inputs!F177-1 -> 0.073206442 | D38: =D36/C36-1 -> -0.022919509 | E38: =E36/D36-1 -> -0.04523876 | F38: =F36/E36-1 -> 0.12576777 | H38: =H36/F36-1 -> 0.062668875
B39: % of total revenue | C39: =C36/C27 -> 0.86663514 | D39: =D36/D27 -> 0.8509981 | E39: =E36/E27 -> 0.85796738 | F39: =F36/F27 -> 0.87278912 | G39: =G36/G27 -> 0.85756879 | H39: =H36/H27 -> 0.87042605
B40: Organic growth | C40: n/a | D40: n/a | E40: n/a | F40: n/a | G40: n/a | H40: n/a | J40: Organic = (1+Y/Y)/((1+M&A)(1+FX))-1; n/a because issuer does not disclose M&A or FX contributions
B41: M&A / scope (not disclosed) | C41: n/a | D41: n/a | E41: n/a | F41: n/a | G41: n/a | H41: n/a
B42: FX impact (not disclosed) | C42: n/a | D42: n/a | E42: n/a | F42: n/a | G42: n/a | H42: n/a
B43: Total Y/Y | C43: =C37 -> 0.058330927 | D43: =D37 -> 0.046464056 | E43: =E37 -> 0.087122417 | F43: =F37 -> 0.12708638 | G43: =G37 -> 0.059636196 | H43: =H37 -> 0.11601978
...

Sheet Segment - General Rentals
B2: United Rentals, Inc. (NYSE: URI)
B3: Segment - General Rentals: revenue and rental gross profit drivers
B4: $ millions, except per share
B6: Period | C6: 3Q25A | D6: 4Q25A | E6: 1Q26A | F6: 2Q26A | G6: FY25A | H6: 3Q26E
B7: Period end | C7: 45930 | D7: 46022 | E7: 46112 | F7: 46203 | G7: 46022 | H7: 46295
B8: Days in period | C8: =C7-EOMONTH(C7,-3) -> 92 | D8: =D7-EOMONTH(D7,-3) -> 92 | E8: =E7-EOMONTH(E7,-3) -> 90 | F8: =F7-EOMONTH(F7,-3) -> 91 | G8: =G7-EOMONTH(G7,-12) -> 365 | H8: =H7-EOMONTH(H7,-3) -> 92
J9: Notes / sources
B10: Rental revenue drivers — segment fleet (OEC) ladder, $M (allocated from company ladder)
B11: Segment capex (reported) | C11: =Inputs!C139-Inputs!C137 -> 1227 | D11: =Inputs!C141-Inputs!C139 -> 360 | E11: 647 | F11: =Inputs!C143-E11 -> 1632 | G11: =Inputs!C141 -> 3409 | H11: =('Revenue summary'!H84-'Cash Flow Statement'!H31)*H14 -> 1230.05 | J11: Quarterly = difference of YTD segment capex disclosures (Inputs E); includes non-rental capex
B12: % Y/Y | C12: n/a | D12: n/a | E12: n/a | F12: n/a | G12: n/a | H12: =H11/C11-1 -> 0.0024857376
B13: Δ Q/Q (abs.) | C13: n/a | D13: =D11-C11 -> -867 | E13: =E11-D11 -> 287 | F13: =F11-E11 -> 985 | H13: =H11-F11 -> -401.95
B14: Share of company capex (driver) | C14: =C11/(C11+'Segment - Specialty'!C11) -> 0.77805961 | D14: =D11/(D11+'Segment - Specialty'!D11) -> 0.6728972 | E14: =E11/(E11+'Segment - Specialty'!E11) -> 0.68829787 | F14: =F11/(F11+'Segment - Specialty'!F11) -> 0.75695733 | G14: =G11/(G11+'Segment - Specialty'!G11) -> 0.74627846 | H14: 0.73 | J14: GR share 77.8% 3Q25, 75.7% 2Q26, 74.6% FY25; Specialty mix rising
B15: Δ Q/Q (bps) | C15: n/a | D15: =(D14-C14)*10000 -> -1051.6241 | E15: =(E14-D14)*10000 -> 154.00676 | F15: =(F14-E14)*10000 -> 686.59456 | H15: =(H14-F14)*10000 -> -269.57328
B16: Share of fleet OEC (dep. proxy) | C16: =C103/(C103+'Segment - Specialty'!C107) -> 0.74853801 | D16: =D103/(D103+'Segment - Specialty'!D107) -> 0.75071633 | E16: =E103/(E103+'Segment - Specialty'!E107) -> 0.74449339 | F16: =F103/(F103+'Segment - Specialty'!F107) -> 0.72869318 | G16: =G103/(G103+'Segment - Specialty'!G107) -> 0.75692884 | H16: =H30/'Revenue summary'!H93 -> 0.72545766 | J16: Segment OEC not disclosed; historical closing OEC allocated by share of rental depreciation; 3Q26E derived from allocated flows. FY25 (G16) = FY depreciation share, not the 4Q25 closing-OEC share behind G30
B17: Δ Y/Y (bps) | C17: n/a | D17: n/a | E17: n/a | F17: n/a | G17: n/a | H17: =(H16-C16)*10000 -> -230.80356
B18: Opening fleet OEC (allocated) | C18: =Inputs!F239*C16 -> 16535.205 | D18: =C30 -> 17081.637 | E18: =D30 -> 16876.103 | F18: =E30 -> 16818.106 | G18: n/a | H18: =F30 -> 17306.463
B19: Δ Y/Y (abs.) | C19: n/a | D19: n/a | E19: n/a | F19: n/a | G19: n/a | H19: =H18-C18 -> 771.25839
B20: Δ Q/Q (abs.) | C20: n/a | D20: =D18-C18 -> 546.43275 | E20: =E18-D18 -> -205.53428 | F20: =F18-E18 -> -57.997425 | H20: =H18-F18 -> 488.35734
B21: + Gross rental capex (allocated) | C21: ='Revenue summary'!C84*C14 -> 1159.3088 | D21: ='Revenue summary'!D84*D14 -> 288.6729 | E21: ='Revenue summary'!E84*E14 -> 601.57234 | F21: ='Revenue summary'!F84*F14 -> 1557.0612 | G21: ='Revenue summary'!G84*G14 -> 3126.1605 | H21: ='Revenue summary'!H84*H14 -> 1160.7
B22: Δ Y/Y (abs.) | C22: n/a | D22: n/a | E22: n/a | F22: n/a | G22: n/a | H22: =H21-C21 -> 1.3911858
B23: Δ Q/Q (abs.) | C23: n/a | D23: =D21-C21 -> -870.63592 | E23: =E21-D21 -> 312.89944 | F23: =F21-E21 -> 955.48888 | H23: =H21-F21 -> -396.36122
B24: - OEC sold (allocated) | C24: ='Revenue summary'!C87*C52 -> 509.32733 | D24: ='Revenue summary'!D87*D52 -> 677.29084 | E24: ='Revenue summary'!E87*E52 -> 584.8 | F24: ='Revenue summary'!F87*F52 -> 537.01818 | G24: n/a | H24: ='Revenue summary'!H87*H52 -> 573.75
B25: Δ Y/Y (abs.) | C25: n/a | D25: n/a | E25: n/a | F25: n/a | G25: n/a | H25: =H24-C24 -> 64.422673
B26: Δ Q/Q (abs.) | C26: n/a | D26: =D24-C24 -> 167.96351 | E26: =E24-D24 -> -92.490837 | F26: =F24-E24 -> -47.781818 | H26: =H24-F24 -> 36.731818
B27: +/- Other / reallocation (derived) | C27: =C30-C18-C21+C24 -> -103.54874 | D27: =D30-D18-D21+D24 -> 183.08366 | E27: =E30-E18-E21+E24 -> -74.769765 | F27: =F30-F18-F21+F24 -> -531.6857 | G27: n/a | H27: ='Revenue summary'!H90*H14 -> 0
B28: Δ Y/Y (abs.) | C28: n/a | D28: n/a | E28: n/a | F28: n/a | G28: n/a | H28: =H27-C27 -> 103.54874
B29: Δ Q/Q (abs.) | C29: n/a | D29: =D27-C27 -> 286.6324 | E29: =E27-D27 -> -257.85343 | F29: =F27-E27 -> -456.91594 | H29: =H27-F27 -> 531.6857
B30: Closing fleet OEC (allocated) | C30: ='Revenue summary'!C93*C16 -> 17081.637 | D30: ='Revenue summary'!D93*D16 -> 16876.103 | E30: ='Revenue summary'!E93*E16 -> 16818.106 | F30: ='Revenue summary'!F93*F16 -> 17306.463 | G30: =D30 -> 16876.103 | H30: =H18+H21-H24+H27 -> 17893.413
B31: Δ Y/Y (abs.) | C31: n/a | D31: n/a | E31: n/a | F31: n/a | G31: n/a | H31: =H30-C30 -> 811.77564
B32: Δ Q/Q (abs.) | C32: n/a | D32: =D30-C30 -> -205.53428 | E32: =E30-D30 -> -57.997425 | F32: =F30-E30 -> 488.35734 | H32: =H30-F30 -> 586.95
B33: Average fleet OEC (allocated) | C33: =(C18+C30)/2 -> 16808.421 | D33: =(D18+D30)/2 -> 16978.87 | E33: =(E18+E30)/2 -> 16847.104 | F33: =(F18+F30)/2 -> 17062.284 | G33: n/a | H33: =(H18+H30)/2 -> 17599.938
B34: Δ Y/Y (abs.) | C34: n/a | D34: n/a | E34: n/a | F34: n/a | G34: n/a | H34: =H33-C33 -> 791.51702
B35: Δ Q/Q (abs.) | C35: n/a | D35: =D33-C33 -> 170.44924 | E35: =E33-D33 -> -131.76585 | F35: =F33-E33 -> 215.17996 | H35: =H33-F33 -> 537.65367
B36: Average OEC % Y/Y | C36: n/a | D36: n/a | E36: n/a | F36: n/a | G36: n/a | H36: =H33/C33-1 -> 0.047090504
B37: Rental yield (ann. rentals / avg OEC) | C37: =C43*365/C8/C33 -> 0.56648623 | D37: =D43*365/D8/D33 -> 0.560332 | E37: =E43*365/E8/E33 -> 0.53658083 | F37: =F43*365/F8/F33 -> 0.56842163 | G37: n/a | H37: =H43*365/H8/H33 -> 0.57498353
B38: Δ Y/Y (bps) | C38: n/a | D38: n/a | E38: n/a | F38: n/a | G38: n/a | H38: =(H37-C37)*10000 -> 84.972935
B39: Δ Q/Q (bps) | C39: n/a | D39: =(D37-C37)*10000 -> -61.542333 | E39: =(E37-D37)*10000 -> -237.51167 | F39: =(F37-E37)*10000 -> 318.40792 | H39: =(H37-F37)*10000 -> 65.619015
B40: Yield change Y/Y (driver) | C40: n/a | D40: n/a | E40: n/a | F40: n/a | G40: n/a | H40: 0.015 | J40: Rate/time-utilization/mix: company fleet productivity +3.4% 2Q26, +2.3% 1Q26; GR margin trends
B42: Revenue
B43: Equipment rentals | C43: 2400 | D43: =G43-Inputs!E147-Inputs!F147-C43 -> 2398 | E43: 2229 | F43: 2418 | G43: 9165 | H43: =C43*(H33/C33)*(1+H40) -> 2550.7125 | J43: 3Q26E = 3Q25 x (avg OEC 3Q26 / avg OEC 3Q25) x (1 + yield change)
...

Sheet Segment - Specialty
B2: United Rentals, Inc. (NYSE: URI)
B3: Segment - Specialty: revenue and rental gross profit drivers
B4: $ millions, except per share
B6: Period | C6: 3Q25A | D6: 4Q25A | E6: 1Q26A | F6: 2Q26A | G6: FY25A | H6: 3Q26E
B7: Period end | C7: 45930 | D7: 46022 | E7: 46112 | F7: 46203 | G7: 46022 | H7: 46295
B8: Days in period | C8: =C7-EOMONTH(C7,-3) -> 92 | D8: =D7-EOMONTH(D7,-3) -> 92 | E8: =E7-EOMONTH(E7,-3) -> 90 | F8: =F7-EOMONTH(F7,-3) -> 91 | G8: =G7-EOMONTH(G7,-12) -> 365 | H8: =H7-EOMONTH(H7,-3) -> 92
J9: Notes / sources
B10: Rental revenue drivers — segment fleet (OEC) ladder, $M (allocated from company ladder)
B11: Segment capex (reported) | C11: =Inputs!C140-Inputs!C138 -> 350 | D11: =Inputs!C142-Inputs!C140 -> 175 | E11: 293 | F11: =Inputs!C144-E11 -> 524 | G11: =Inputs!C142 -> 1159 | H11: =('Revenue summary'!H84-'Cash Flow Statement'!H31)*H14 -> 454.95 | J11: Quarterly = difference of YTD segment capex disclosures (Inputs E); includes non-rental capex
B12: % Y/Y | C12: n/a | D12: n/a | E12: n/a | F12: n/a | G12: n/a | H12: =H11/C11-1 -> 0.29985714
B13: Δ Q/Q (abs.) | C13: n/a | D13: =D11-C11 -> -175 | E13: =E11-D11 -> 118 | F13: =F11-E11 -> 231 | H13: =H11-F11 -> -69.05
B14: Share of company capex (driver) | C14: =C11/('Segment - General Rentals'!C11+C11) -> 0.22194039 | D14: =D11/('Segment - General Rentals'!D11+D11) -> 0.3271028 | E14: =E11/('Segment - General Rentals'!E11+E11) -> 0.31170213 | F14: =F11/('Segment - General Rentals'!F11+F11) -> 0.24304267 | G14: =G11/('Segment - General Rentals'!G11+G11) -> 0.25372154 | H14: =1-'Segment - General Rentals'!H14 -> 0.27
B15: Δ Q/Q (bps) | C15: n/a | D15: =(D14-C14)*10000 -> 1051.6241 | E15: =(E14-D14)*10000 -> -154.00676 | F15: =(F14-E14)*10000 -> -686.59456 | H15: =(H14-F14)*10000 -> 269.57328
B16: Share of fleet OEC (dep. proxy) | C16: =C107/('Segment - General Rentals'!C103+C107) -> 0.25146199 | D16: =D107/('Segment - General Rentals'!D103+D107) -> 0.24928367 | E16: =E107/('Segment - General Rentals'!E103+E107) -> 0.25550661 | F16: =F107/('Segment - General Rentals'!F103+F107) -> 0.27130682 | G16: =G107/('Segment - General Rentals'!G103+G107) -> 0.24307116 | H16: =H30/'Revenue summary'!H93 -> 0.27454234 | J16: Segment OEC not disclosed; historical closing OEC allocated by share of rental depreciation; 3Q26E derived from allocated flows. FY25 (G16) = FY depreciation share, not the 4Q25 closing-OEC share behind G30
B17: Δ Y/Y (bps) | C17: n/a | D17: n/a | E17: n/a | F17: n/a | G17: n/a | H17: =(H16-C16)*10000 -> 230.80356
B18: Opening fleet OEC (allocated) | C18: =Inputs!F239*C16 -> 5554.7953 | D18: =C30 -> 5738.3626 | E18: =D30 -> 5603.8968 | F18: =E30 -> 5771.8943 | G18: n/a | H18: =F30 -> 6443.5369
B19: Δ Y/Y (abs.) | C19: n/a | D19: n/a | E19: n/a | F19: n/a | G19: n/a | H19: =H18-C18 -> 888.74161
B20: Δ Q/Q (abs.) | C20: n/a | D20: =D18-C18 -> 183.56725 | E20: =E18-D18 -> -134.46572 | F20: =F18-E18 -> 167.99742 | H20: =H18-F18 -> 671.64266
B21: + Gross rental capex (allocated) | C21: ='Revenue summary'!C84*C14 -> 330.69119 | D21: ='Revenue summary'!D84*D14 -> 140.3271 | E21: ='Revenue summary'!E84*E14 -> 272.42766 | F21: ='Revenue summary'!F84*F14 -> 499.93878 | G21: ='Revenue summary'!G84*G14 -> 1062.8395 | H21: ='Revenue summary'!H84*H14 -> 429.3
B22: Δ Y/Y (abs.) | C22: n/a | D22: n/a | E22: n/a | F22: n/a | G22: n/a | H22: =H21-C21 -> 98.608814
B23: Δ Q/Q (abs.) | C23: n/a | D23: =D21-C21 -> -190.36408 | E23: =E21-D21 -> 132.10056 | F23: =F21-E21 -> 227.51112 | H23: =H21-F21 -> -70.638776
B24: - OEC sold (allocated) | C24: ='Revenue summary'!C87*C52 -> 109.67267 | D24: ='Revenue summary'!D87*D52 -> 91.633466 | E24: ='Revenue summary'!E87*E52 -> 95.2 | F24: ='Revenue summary'!F87*F52 -> 86.981818 | G24: n/a | H24: ='Revenue summary'!H87*H52 -> 101.25
B25: Δ Y/Y (abs.) | C25: n/a | D25: n/a | E25: n/a | F25: n/a | G25: n/a | H25: =H24-C24 -> -8.4226727
B26: Δ Q/Q (abs.) | C26: n/a | D26: =D24-C24 -> -18.039207 | E26: =E24-D24 -> 3.5665339 | F26: =F24-E24 -> -8.2181818 | H26: =H24-F24 -> 14.268182
B27: +/- Other / reallocation (derived) | C27: =C30-C18-C21+C24 -> -37.451262 | D27: =D30-D18-D21+D24 -> -183.15936 | E27: =E30-E18-E21+E24 -> -9.2302346 | F27: =F30-F18-F21+F24 -> 258.6857 | G27: n/a | H27: ='Revenue summary'!H90*H14 -> 0
B28: Δ Y/Y (abs.) | C28: n/a | D28: n/a | E28: n/a | F28: n/a | G28: n/a | H28: =H27-C27 -> 37.451262
B29: Δ Q/Q (abs.) | C29: n/a | D29: =D27-C27 -> -145.7081 | E29: =E27-D27 -> 173.92913 | F29: =F27-E27 -> 267.91594 | H29: =H27-F27 -> -258.6857
B30: Closing fleet OEC (allocated) | C30: ='Revenue summary'!C93*C16 -> 5738.3626 | D30: ='Revenue summary'!D93*D16 -> 5603.8968 | E30: ='Revenue summary'!E93*E16 -> 5771.8943 | F30: ='Revenue summary'!F93*F16 -> 6443.5369 | G30: =D30 -> 5603.8968 | H30: =H18+H21-H24+H27 -> 6771.5869
B31: Δ Y/Y (abs.) | C31: n/a | D31: n/a | E31: n/a | F31: n/a | G31: n/a | H31: =H30-C30 -> 1033.2244
B32: Δ Q/Q (abs.) | C32: n/a | D32: =D30-C30 -> -134.46572 | E32: =E30-D30 -> 167.99742 | F32: =F30-E30 -> 671.64266 | H32: =H30-F30 -> 328.05
B33: Average fleet OEC (allocated) | C33: =(C18+C30)/2 -> 5646.5789 | D33: =(D18+D30)/2 -> 5671.1297 | E33: =(E18+E30)/2 -> 5687.8956 | F33: =(F18+F30)/2 -> 6107.7156 | G33: n/a | H33: =(H18+H30)/2 -> 6607.5619
B34: Δ Y/Y (abs.) | C34: n/a | D34: n/a | E34: n/a | F34: n/a | G34: n/a | H34: =H33-C33 -> 960.98298
B35: Δ Q/Q (abs.) | C35: n/a | D35: =D33-C33 -> 24.550763 | E35: =E33-D33 -> 16.76585 | F35: =F33-E33 -> 419.82004 | H35: =H33-F33 -> 499.84633
B36: Average OEC % Y/Y | C36: n/a | D36: n/a | E36: n/a | F36: n/a | G36: n/a | H36: =H33/C33-1 -> 0.17018853
B37: Rental yield (ann. rentals / avg OEC) | C37: =C43*365/C8/C33 -> 0.88881251 | D37: =D43*365/D8/D33 -> 0.82759946 | E37: =E43*365/E8/E33 -> 0.848488 | F37: =F43*365/F8/F33 -> 0.93974992 | G37: n/a | H37: =H43*365/H8/H33 -> 0.92436501
B38: Δ Y/Y (bps) | C38: n/a | D38: n/a | E38: n/a | F38: n/a | G38: n/a | H38: =(H37-C37)*10000 -> 355.525
B39: Δ Q/Q (bps) | C39: n/a | D39: =(D37-C37)*10000 -> -612.13044 | E39: =(E37-D37)*10000 -> 208.88532 | F39: =(F37-E37)*10000 -> 912.61927 | H39: =(H37-F37)*10000 -> -153.84915
B40: Yield change Y/Y (driver) | C40: n/a | D40: n/a | E40: n/a | F40: n/a | G40: n/a | H40: 0.04 | J40: Specialty yield up with ancillary/re-rent mix and power/HVAC demand; Specialty rentals +24.8% 2Q26
B42: Revenue
B43: Equipment rentals | C43: 1265 | D43: =G43-Inputs!E153-Inputs!F153-C43 -> 1183 | E43: 1190 | F43: 1431 | G43: 4641 | H43: =C43*(H33/C33)*(1+H40) -> 1539.5 | J43: 3Q26E = 3Q25 x (avg OEC 3Q26 / avg OEC 3Q25) x (1 + yield change)
...

Sheet Income Statement
B2: United Rentals, Inc. (NYSE: URI)
B3: Income Statement (GAAP) with non-GAAP bridge
B4: $ millions, except per share
B6: Period | C6: 3Q25A | D6: 4Q25A | E6: 1Q26A | F6: 2Q26A | G6: FY25A | H6: 3Q26E
B7: Period end | C7: 45930 | D7: 46022 | E7: 46112 | F7: 46203 | G7: 46022 | H7: 46295
B8: Days in period | C8: =C7-EOMONTH(C7,-3) -> 92 | D8: =D7-EOMONTH(D7,-3) -> 92 | E8: =E7-EOMONTH(E7,-3) -> 90 | F8: =F7-EOMONTH(F7,-3) -> 91 | G8: =G7-EOMONTH(G7,-12) -> 365 | H8: =H7-EOMONTH(H7,-3) -> 92
J9: Notes / sources
B10: Revenues
B11: Equipment rentals | C11: ='Revenue summary'!C36 -> 3665 | D11: ='Revenue summary'!D36 -> 3581 | E11: ='Revenue summary'!E36 -> 3419 | F11: ='Revenue summary'!F36 -> 3849 | G11: ='Revenue summary'!G36 -> 13806 | H11: ='Revenue summary'!H36 -> 4090.2125
B12: Sales of rental equipment | C12: ='Revenue summary'!C44 -> 333 | D12: ='Revenue summary'!D44 -> 386 | E12: ='Revenue summary'!E44 -> 350 | F12: ='Revenue summary'!F44 -> 330 | G12: ='Revenue summary'!G44 -> 1413 | H12: ='Revenue summary'!H44 -> 357.75
B13: Sales of new equipment | C13: ='Revenue summary'!C52 -> 95 | D13: ='Revenue summary'!D52 -> 108 | E13: ='Revenue summary'!E52 -> 84 | F13: ='Revenue summary'!F52 -> 86 | G13: ='Revenue summary'!G52 -> 348 | H13: ='Revenue summary'!H52 -> 105
B14: Contractor supplies sales | C14: ='Revenue summary'!C60 -> 43 | D14: ='Revenue summary'!D60 -> 43 | E14: ='Revenue summary'!E60 -> 40 | F14: ='Revenue summary'!F60 -> 44 | G14: ='Revenue summary'!G60 -> 163 | H14: ='Revenue summary'!H60 -> 45.84
B15: Service and other revenues | C15: ='Revenue summary'!C68 -> 93 | D15: ='Revenue summary'!D68 -> 90 | E15: ='Revenue summary'!E68 -> 92 | F15: ='Revenue summary'!F68 -> 101 | G15: ='Revenue summary'!G68 -> 369 | H15: ='Revenue summary'!H68 -> 100.29
B16: Total revenues | C16: =C11+C12+C13+C14+C15 -> 4229 | D16: =D11+D12+D13+D14+D15 -> 4208 | E16: =E11+E12+E13+E14+E15 -> 3985 | F16: =F11+F12+F13+F14+F15 -> 4410 | G16: =G11+G12+G13+G14+G15 -> 16099 | H16: =H11+H12+H13+H14+H15 -> 4699.0925
B17: % Y/Y | C17: =C16/Inputs!C182-1 -> 0.059368737 | D17: =D16/Inputs!D182-1 -> 0.027594628 | E17: =E16/Inputs!E182-1 -> 0.071524603 | F17: =F16/Inputs!F182-1 -> 0.11843774 | G17: =G16/Inputs!G182-1 -> 0.049136527 | H17: =H16/C16-1 -> 0.11115926
B18: % Q/Q | C18: =C16/Inputs!F182-1 -> 0.072533604 | D18: =D16/C16-1 -> -0.0049657129 | E18: =E16/D16-1 -> -0.052994297 | F18: =F16/E16-1 -> 0.10664994 | H18: =H16/F16-1 -> 0.065553855
B19: Cost of revenues
B20: Cost of equip. rentals ex dep. | C20: ='Segment - General Rentals'!C128+'Segment - Specialty'!C132 -> 1530 | D20: ='Segment - General Rentals'!D128+'Segment - Specialty'!D132 -> 1537 | E20: ='Segment - General Rentals'!E128+'Segment - Specialty'!E132 -> 1492 | F20: ='Segment - General Rentals'!F128+'Segment - Specialty'!F132 -> 1644 | G20: ='Segment - General Rentals'!G128+'Segment - Specialty'!G132 -> 5888 | H20: ='Segment - General Rentals'!H128+'Segment - Specialty'!H132 -> 1722.0248
B21: Depreciation of rental equipment | C21: ='Segment - General Rentals'!C103+'Segment - Specialty'!C107 -> 684 | D21: ='Segment - General Rentals'!D103+'Segment - Specialty'!D107 -> 698 | E21: ='Segment - General Rentals'!E103+'Segment - Specialty'!E107 -> 681 | F21: ='Segment - General Rentals'!F103+'Segment - Specialty'!F107 -> 704 | G21: ='Segment - General Rentals'!G103+'Segment - Specialty'!G107 -> 2670 | H21: ='Segment - General Rentals'!H103+'Segment - Specialty'!H107 -> 736.8412
B22: Cost of rental equipment sales | C22: 186 | D22: 211 | E22: 190 | F22: 176 | G22: =Inputs!E194+Inputs!F194+C22+D22 -> 778 | H22: =H12*(1-H34) -> 193.185
B23: Cost of new equipment sales | C23: 75 | D23: 86 | E23: 70 | F23: 68 | G23: =Inputs!E195+Inputs!F195+C23+D23 -> 278 | H23: =H13*(1-H36) -> 83.475
B24: Cost of contractor supplies sales | C24: 32 | D24: 27 | E24: 28 | F24: 30 | G24: =Inputs!E196+Inputs!F196+C24+D24 -> 113 | H24: =H14*(1-H38) -> 33.0048
B25: Cost of service and other revenues | C25: 57 | D25: 59 | E25: 55 | F25: 56 | G25: =Inputs!E197+Inputs!F197+C25+D25 -> 228 | H25: =H15*(1-H40) -> 59.1711
B26: Total cost of revenues | C26: =C20+C21+C22+C23+C24+C25 -> 2564 | D26: =D20+D21+D22+D23+D24+D25 -> 2618 | E26: =E20+E21+E22+E23+E24+E25 -> 2516 | F26: =F20+F21+F22+F23+F24+F25 -> 2678 | G26: =G20+G21+G22+G23+G24+G25 -> 9955 | H26: =H20+H21+H22+H23+H24+H25 -> 2827.7019
B27: Gross profit | C27: =C16-C26 -> 1665 | D27: =D16-D26 -> 1590 | E27: =E16-E26 -> 1469 | F27: =F16-F26 -> 1732 | G27: =G16-G26 -> 6144 | H27: =H16-H26 -> 1871.3906
B28: % Y/Y | C28: =C27/Inputs!C183-1 -> 0.010315534 | D28: =D27/Inputs!D183-1 -> -0.029304029 | E28: =E27/Inputs!E183-1 -> 0.083333333 | F28: =F27/Inputs!F183-1 -> 0.12981083 | G28: =G27/Inputs!G183-1 -> -0.00097560976 | H28: =H27/C27-1 -> 0.1239583
B29: Gross margin | C29: =C27/C16 -> 0.3937101 | D29: =D27/D16 -> 0.37785171 | E29: =E27/E16 -> 0.36863237 | F29: =F27/F16 -> 0.39274376 | G29: =G27/G16 -> 0.38163861 | H29: =H27/H16 -> 0.3982451
B30: Δ Y/Y (bps) | C30: =(C29-Inputs!C183/Inputs!C182)*10000 -> -191.15554 | D30: =(D29-Inputs!D183/Inputs!D182)*10000 -> -221.48289 | E30: =(E29-Inputs!E183/Inputs!E182)*10000 -> 40.182278 | F30: =(F29-Inputs!F183/Inputs!F182)*10000 -> 39.535029 | G30: =(G29-Inputs!G183/Inputs!G182)*10000 -> -191.43403 | H30: =(H29-C29)*10000 -> 45.350062
B31: Memo: equipment rentals gross profit | C31: =C11-C20-C21 -> 1451 | D31: =D11-D20-D21 -> 1346 | E31: =E11-E20-E21 -> 1246 | F31: =F11-F20-F21 -> 1501 | G31: =G11-G20-G21 -> 5248 | H31: =H11-H20-H21 -> 1631.3465
B32: Equipment rentals gross margin | C32: =C31/C11 -> 0.39590723 | D32: =D31/D11 -> 0.37587266 | E32: =E31/E11 -> 0.36443405 | F32: =F31/F11 -> 0.38997142 | G32: =G31/G11 -> 0.38012458 | H32: =H31/H11 -> 0.3988415
B33: Δ Y/Y (bps) | C33: =(C32-(Inputs!C177-Inputs!C192-Inputs!C193)/Inputs!C177)*10000 -> -204.94733 | D33: =(D32-(Inputs!D177-Inputs!D192-Inputs!D193)/Inputs!D177)*10000 -> -238.93557 | E33: =(E32-(Inputs!E177-Inputs!E192-Inputs!E193)/Inputs!E177)*10000 -> 51.335681 | F33: =(F32-(Inputs!F177-Inputs!F192-Inputs!F193)/Inputs!F177)*10000 -> 31.485807 | G33: =(G32-(Inputs!G177-Inputs!G192-Inputs!G193)/Inputs!G177)*10000 -> -188.31591 | H33: =(H32-C32)*10000 -> 29.342666
B34: Used equip. GAAP margin (driver) | C34: =1-C22/C12 -> 0.44144144 | D34: =1-D22/D12 -> 0.45336788 | E34: =1-E22/E12 -> 0.45714286 | F34: =1-F22/F12 -> 0.46666667 | G34: =1-G22/G12 -> 0.44939844 | H34: 0.46 | J34: Used GAAP margin 46.7% 2Q26, 45.7% 1Q26, 44.1% 3Q25
B35: Δ Y/Y (bps) | C35: =(C34-(1-Inputs!C194/Inputs!C178))*10000 -> -102.71954 | D35: =(D34-(1-Inputs!D194/Inputs!D178))*10000 -> -1.7194736 | E35: =(E34-(1-Inputs!E194/Inputs!E178))*10000 -> 141.72035 | F35: =(F34-(1-Inputs!F194/Inputs!F178))*10000 -> 60.988433 | G35: =(G34-(1-Inputs!G194/Inputs!G178))*10000 -> -173.99716 | H35: =(H34-C34)*10000 -> 185.58559
B36: New equip. margin (driver) | C36: =1-C23/C13 -> 0.21052632 | D36: =1-D23/D13 -> 0.2037037 | E36: =1-E23/E13 -> 0.16666667 | F36: =1-F23/F13 -> 0.20930233 | G36: =1-G23/G13 -> 0.20114943 | H36: 0.205 | J36: New equipment margin ~21%
B37: Δ Y/Y (bps) | C37: =(C36-(1-Inputs!C195/Inputs!C179))*10000 -> 546.8216 | D37: =(D36-(1-Inputs!D195/Inputs!D179))*10000 -> 57.87037 | E37: =(E36-(1-Inputs!E195/Inputs!E179))*10000 -> -333.33333 | F37: =(F36-(1-Inputs!F195/Inputs!F179))*10000 -> 226.35659 | G37: =(G36-(1-Inputs!G195/Inputs!G179))*10000 -> 132.06163 | H37: =(H36-C36)*10000 -> -55.263158
B38: Supplies margin (driver) | C38: =1-C24/C14 -> 0.25581395 | D38: =1-D24/D14 -> 0.37209302 | E38: =1-E24/E14 -> 0.3 | F38: =1-F24/F14 -> 0.31818182 | G38: =1-G24/G14 -> 0.30674847 | H38: 0.28 | J38: Supplies margin 26-32%
B39: Δ Y/Y (bps) | C39: =(C38-(1-Inputs!C196/Inputs!C180))*10000 -> -599.7552 | D39: =(D38-(1-Inputs!D196/Inputs!D180))*10000 -> -381.63387 | E39: =(E38-(1-Inputs!E196/Inputs!E180))*10000 -> 222.22222 | F39: =(F38-(1-Inputs!F196/Inputs!F180))*10000 -> 11.086475 | G39: =(G38-(1-Inputs!G196/Inputs!G180))*10000 -> -287.35405 | H39: =(H38-C38)*10000 -> 241.86047
B40: Service margin (driver) | C40: =1-C25/C15 -> 0.38709677 | D40: =1-D25/D15 -> 0.34444444 | E40: =1-E25/E15 -> 0.40217391 | F40: =1-F25/F15 -> 0.44554455 | G40: =1-G25/G15 -> 0.38211382 | H40: 0.41 | J40: Service margin 39-45%
B41: Δ Y/Y (bps) | C41: =(C40-(1-Inputs!C197/Inputs!C181))*10000 -> -107.52688 | D41: =(D40-(1-Inputs!D197/Inputs!D181))*10000 -> -43.927649 | E41: =(E40-(1-Inputs!E197/Inputs!E181))*10000 -> 175.58528 | F41: =(F40-(1-Inputs!F197/Inputs!F181))*10000 -> 350.18239 | G41: =(G40-(1-Inputs!G197/Inputs!G181))*10000 -> -5.6774311 | H41: =(H40-C40)*10000 -> 229.03226
B42: Operating expenses
...

Sheet Balance Sheet
B2: United Rentals, Inc. (NYSE: URI)
B3: Balance Sheet (condensed, as reported)
B4: $ millions, except per share
B6: Period | C6: 3Q25A | D6: 4Q25A | E6: 1Q26A | F6: 2Q26A | G6: FY25A | H6: 3Q26E
B7: Period end | C7: 45930 | D7: 46022 | E7: 46112 | F7: 46203 | G7: 46022 | H7: 46295
B8: Days in period | C8: =C7-EOMONTH(C7,-3) -> 92 | D8: =D7-EOMONTH(D7,-3) -> 92 | E8: =E7-EOMONTH(E7,-3) -> 90 | F8: =F7-EOMONTH(F7,-3) -> 91 | G8: =G7-EOMONTH(G7,-12) -> 365 | H8: =H7-EOMONTH(H7,-3) -> 92
J9: Notes / sources
B10: Assets
B11: Cash and cash equivalents | C11: 512 | D11: 459 | E11: 156 | F11: 112 | G11: =D11 -> 459 | H11: ='Cash Flow Statement'!H51 -> 110
B12: Accounts receivable, net | C12: 2579 | D12: 2510 | E12: 2561 | F12: 2797 | G12: =D12 -> 2510 | H12: =F12-'Cash Flow Statement'!H22 -> 2957
B13: Inventory | C13: 234 | D13: 240 | E13: 256 | F13: 294 | G13: =D13 -> 240 | H13: =F13-'Cash Flow Statement'!H23 -> 299
B14: Prepaid expenses and other assets | C14: 458 | D14: 399 | E14: 338 | F14: 390 | G14: =D14 -> 399 | H14: =F14-'Cash Flow Statement'!H24 -> 430
B15: Total current assets | C15: =C11+C12+C13+C14 -> 3783 | D15: =D11+D12+D13+D14 -> 3608 | E15: =E11+E12+E13+E14 -> 3311 | F15: =F11+F12+F13+F14 -> 3593 | G15: =G11+G12+G13+G14 -> 3608 | H15: =H11+H12+H13+H14 -> 3796
B16: Rental equipment, net | C16: 16405 | D16: 16069 | E16: 16164 | F16: 17350 | G16: =D16 -> 16069 | H16: =F16+'Revenue summary'!H84-'Income Statement'!H21-'Income Statement'!H22 -> 18009.974 | J16: 3Q26E = 2Q26 + accrued gross rental capex (Revenue summary H84) - rental depreciation - NBV of units sold
B17: Property and equipment, net | C17: 1075 | D17: 1134 | E17: 1126 | F17: 1134 | G17: =D17 -> 1134 | H17: =F17-'Cash Flow Statement'!H31-('Income Statement'!H47-H45)-('Cash Flow Statement'!H33+'Cash Flow Statement'!H15) -> 1143
B18: Goodwill | C18: 6884 | D18: 7119 | E18: 7285 | F18: 7201 | G18: =D18 -> 7119 | H18: =F18 -> 7201
B19: Other intangible assets, net | C19: 531 | D19: 477 | E19: 547 | F19: 561 | G19: =D19 -> 477 | H19: =F19-H45 -> 521
B20: Operating lease right-of-use assets | C20: 1326 | D20: 1395 | E20: 1389 | F20: 1412 | G20: =D20 -> 1395 | H20: =F20 -> 1412
B21: Other long-term assets | C21: 61 | D21: 64 | E21: 66 | F21: 63 | G21: =D21 -> 64 | H21: =F21 -> 63
B22: Total assets | C22: =C15+C16+C17+C18+C19+C20+C21 -> 30065 | D22: =D15+D16+D17+D18+D19+D20+D21 -> 29866 | E22: =E15+E16+E17+E18+E19+E20+E21 -> 29888 | F22: =F15+F16+F17+F18+F19+F20+F21 -> 31314 | G22: =G15+G16+G17+G18+G19+G20+G21 -> 29866 | H22: =H15+H16+H17+H18+H19+H20+H21 -> 32145.974
B23: Liabilities
B24: Short-term debt & current LTD | C24: 1548 | D24: 1577 | E24: 1623 | F24: 1541 | G24: =D24 -> 1577 | H24: =F24 -> 1541
B25: Accounts payable | C25: 1276 | D25: 776 | E25: 1085 | F25: 1610 | G25: =D25 -> 776 | H25: =F25+'Cash Flow Statement'!H25-'Cash Flow Statement'!H57 -> 1360 | J25: 3Q26E = 2Q26 + operating AP change (CF H25) - capex-payables unwind (CF H57); model AP classification assumption, consistent with historical BS/CF AP tie-out
B26: Accrued expenses and other liabilities | C26: 1387 | D26: 1466 | E26: 1419 | F26: 1552 | G26: =D26 -> 1466 | H26: =F26+'Cash Flow Statement'!H26+'Cash Flow Statement'!H19 -> 1597
B27: Total current liabilities | C27: =C24+C25+C26 -> 4211 | D27: =D24+D25+D26 -> 3819 | E27: =E24+E25+E26 -> 4127 | F27: =F24+F25+F26 -> 4703 | G27: =G24+G25+G26 -> 3819 | H27: =H24+H25+H26 -> 4498
B28: Long-term debt | C28: 12600 | D28: 12652 | E28: 12263 | F28: 12689 | G28: =D28 -> 12652 | H28: =F28+'Cash Flow Statement'!H41+'Cash Flow Statement'!H42+'Cash Flow Statement'!H13+'Cash Flow Statement'!H44 -> 13246.665
B29: Deferred taxes | C29: 2971 | D29: 3115 | E29: 3199 | F29: 3333 | G29: =D29 -> 3115 | H29: =F29+'Cash Flow Statement'!H21 -> 3453
B30: Operating lease liabilities | C30: 1064 | D30: 1124 | E30: 1133 | F30: 1155 | G30: =D30 -> 1124 | H30: =F30 -> 1155
B31: Other long-term liabilities | C31: 219 | D31: 188 | E31: 198 | F31: 210 | G31: =D31 -> 188 | H31: =F31 -> 210
B32: Total liabilities | C32: =C27+C28+C29+C30+C31 -> 21065 | D32: =D27+D28+D29+D30+D31 -> 20898 | E32: =E27+E28+E29+E30+E31 -> 20920 | F32: =F27+F28+F29+F30+F31 -> 22090 | G32: =G27+G28+G29+G30+G31 -> 20898 | H32: =H27+H28+H29+H30+H31 -> 22562.665
B33: Stockholders' equity
B34: Common stock | C34: 1 | D34: 1 | E34: 1 | F34: 1 | G34: =D34 -> 1 | H34: =F34 -> 1
B35: Additional paid-in capital | C35: 2751 | D35: 2769 | E35: 2762 | F35: 2803 | G35: =D35 -> 2769 | H35: =F35+'Cash Flow Statement'!H18 -> 2841
B36: Retained earnings | C36: 15304 | D36: 15843 | E36: 16250 | F36: 16879 | G36: =D36 -> 15843 | H36: =F36+'Income Statement'!H60+'Cash Flow Statement'!H46 -> 17578.309
B37: Treasury stock | C37: -8773 | D37: -9396 | E37: -9773 | F37: -10152 | G37: =D37 -> -9396 | H37: =F37+'Cash Flow Statement'!H45 -> -10530
B38: Accumulated other comprehensive loss | C38: -283 | D38: -249 | E38: -272 | F38: -307 | G38: =D38 -> -249 | H38: =F38+'Cash Flow Statement'!H48 -> -307
B39: Total stockholders' equity | C39: =C34+C35+C36+C37+C38 -> 9000 | D39: =D34+D35+D36+D37+D38 -> 8968 | E39: =E34+E35+E36+E37+E38 -> 8968 | F39: =F34+F35+F36+F37+F38 -> 9224 | G39: =G34+G35+G36+G37+G38 -> 8968 | H39: =H34+H35+H36+H37+H38 -> 9583.3086
B40: Total liabilities & equity | C40: =C32+C39 -> 30065 | D40: =D32+D39 -> 29866 | E40: =E32+E39 -> 29888 | F40: =F32+F39 -> 31314 | G40: =G32+G39 -> 29866 | H40: =H32+H39 -> 32145.974
B41: Check: assets - liab. - equity | C41: =C22-C32-C39 -> 0 | D41: =D22-D32-D39 -> 0 | E41: =E22-E32-E39 -> 0 | F41: =F22-F32-F39 -> 0 | G41: =G22-G32-G39 -> 0 | H41: =H22-H32-H39 -> 0
B42: Total assets — as reported | C42: 30065 | D42: 29866 | E42: 29888 | F42: 31314 | G42: =D42 -> 29866 | H42: n/a
...

Sheet Cash Flow Statement
B2: United Rentals, Inc. (NYSE: URI)
B3: Cash Flow Statement (condensed, as reported; quarterly = three months)
B4: $ millions, except per share
B6: Period | C6: 3Q25A | D6: 4Q25A | E6: 1Q26A | F6: 2Q26A | G6: FY25A | H6: 3Q26E
B7: Period end | C7: 45930 | D7: 46022 | E7: 46112 | F7: 46203 | G7: 46022 | H7: 46295
B8: Days in period | C8: =C7-EOMONTH(C7,-3) -> 92 | D8: =D7-EOMONTH(D7,-3) -> 92 | E8: =E7-EOMONTH(E7,-3) -> 90 | F8: =F7-EOMONTH(F7,-3) -> 91 | G8: =G7-EOMONTH(G7,-12) -> 365 | H8: =H7-EOMONTH(H7,-3) -> 92
J9: Notes / sources
B10: Operating activities
B11: Net income | C11: 701 | D11: 653 | E11: 531 | F11: 753 | G11: =Inputs!E206+Inputs!F206+C11+D11 -> 2494 | H11: ='Income Statement'!H60 -> 821.57452
B12: Depreciation and amortization | C12: 793 | D12: 805 | E12: 795 | F12: 820 | G12: =Inputs!E207+Inputs!F207+C12+D12 -> 3108 | H12: ='Income Statement'!H21+'Income Statement'!H47 -> 853.8412
B13: Amort. of deferred financing/OID | C13: 3 | D13: 4 | E13: 4 | F13: 4 | G13: =Inputs!E208+Inputs!F208+C13+D13 -> 15 | H13: 4
B14: Gain on sales of rental equipment | C14: -147 | D14: -175 | E14: -160 | F14: -154 | G14: =Inputs!E209+Inputs!F209+C14+D14 -> -635 | H14: =-('Income Statement'!H12-'Income Statement'!H22) -> -164.565
B15: Gain on sales of non-rental equipment | C15: -5 | D15: -3 | E15: -4 | F15: -3 | G15: =Inputs!E210+Inputs!F210+C15+D15 -> -18 | H15: -4
B16: Gain on sale of business | C16: 0 | D16: 0 | E16: 0 | F16: -49 | G16: =Inputs!E211+Inputs!F211+C16+D16 -> 0 | H16: 0
B17: Insurance proceeds (damaged equip.) | C17: -13 | D17: -14 | E17: -10 | F17: -13 | G17: =Inputs!E212+Inputs!F212+C17+D17 -> -50 | H17: -13 | J17: Reclass -13 CFO / +13 investing nets to zero cash and FCF; matching insurance gain in 3Q26E NI not proved (OCF scope caveat: 1,358.9 ex-reclass)
B18: Stock compensation expense, net | C18: 32 | D18: 32 | E18: 36 | F18: 43 | G18: =Inputs!E213+Inputs!F213+C18+D18 -> 134 | H18: ='Income Statement'!H106 -> 38
B19: Restructuring charge | C19: 0 | D19: 0 | E19: 45 | F19: 6 | G19: =Inputs!E214+Inputs!F214+C19+D19 -> 1 | H19: ='Income Statement'!H46 -> 5
B20: Debt-related activity | C20: 2 | D20: 0 | E20: 0 | F20: 0 | G20: =Inputs!E215+Inputs!F215+C20+D20 -> 15 | H20: 0
B21: Increase (decrease) in deferred taxes | C21: 297 | D21: 146 | E21: 83 | F21: 137 | G21: =Inputs!E216+Inputs!F216+C21+D21 -> 405 | H21: 120 | J21: Bonus depreciation (H.R.1) keeps deferred tax build elevated; 2Q26 $137M
B22: (Inc.) dec. in receivables | C22: -213 | D22: 88 | E22: -29 | F22: -243 | G22: =Inputs!E217+Inputs!F217+C22+D22 -> -120 | H22: -160 | J22: Seasonal Q3 build (3Q25 -$213M)
B23: (Increase) decrease in inventory | C23: 8 | D23: -5 | E23: -14 | F23: -40 | G23: =Inputs!E218+Inputs!F218+C23+D23 -> -38 | H23: -5
B24: (Inc.) dec. in prepaid & other | C24: -88 | D24: 67 | E24: 75 | F24: -45 | G24: =Inputs!E219+Inputs!F219+C24+D24 -> -135 | H24: -40
B25: Inc. (dec.) in accounts payable | C25: -191 | D25: -360 | E25: 198 | F25: 425 | G25: =Inputs!E220+Inputs!F220+C25+D25 -> -22 | H25: -150 | J25: Model assumption: operating AP change (seasonal; 3Q25 reported -$191M), excl. capex payables. History: BS dAP - CF AP = accrued - cash capex (4Q25 -140/-144, 1Q26 +111/+107, 2Q26 +100/+104); capex unwind is H57 only
B26: Inc. (dec.) in accrued expenses | C26: 2 | D26: 18 | E26: -36 | F26: 150 | G26: =Inputs!E221+Inputs!F221+C26+D26 -> 36 | H26: 40
B27: Cash from operating activities | C27: =C11+C12+C13+C14+C15+C16+C17+C18+C19+C20+C21+C22+C23+C24+C25+C26 -> 1181 | D27: =D11+D12+D13+D14+D15+D16+D17+D18+D19+D20+D21+D22+D23+D24+D25+D26 -> 1256 | E27: =E11+E12+E13+E14+E15+E16+E17+E18+E19+E20+E21+E22+E23+E24+E25+E26 -> 1514 | F27: =F11+F12+F13+F14+F15+F16+F17+F18+F19+F20+F21+F22+F23+F24+F25+F26 -> 1791 | G27: =G11+G12+G13+G14+G15+G16+G17+G18+G19+G20+G21+G22+G23+G24+G25+G26 -> 5190 | H27: =H11+H12+H13+H14+H15+H16+H17+H18+H19+H20+H21+H22+H23+H24+H25+H26 -> 1345.8507
B28: % Y/Y | C28: n/a | D28: n/a | E28: n/a | F28: n/a | G28: n/a | H28: =H27/C27-1 -> 0.1395857
B29: Investing activities
B30: Purchases of rental equipment | C30: -1455 | D30: -573 | E30: -767 | F30: -1953 | G30: =Inputs!E222+Inputs!F222+C30+D30 -> -4149 | H30: =-('Revenue summary'!H84+H57) -> -1690
B31: Purchases of non-rental equip. | C31: -91 | D31: -106 | E31: -66 | F31: -99 | G31: =Inputs!E223+Inputs!F223+C31+D31 -> -379 | H31: -95
B32: Proceeds: rental equipment sales | C32: 333 | D32: 386 | E32: 350 | F32: 330 | G32: =Inputs!E224+Inputs!F224+C32+D32 -> 1413 | H32: ='Income Statement'!H12 -> 357.75
B33: Proceeds: non-rental equip. sales | C33: 13 | D33: 12 | E33: 13 | F33: 13 | G33: =Inputs!E225+Inputs!F225+C33+D33 -> 56 | H33: 13
B34: Proceeds from sale of business | C34: 0 | D34: 0 | E34: 0 | F34: 82 | G34: =Inputs!E226+Inputs!F226+C34+D34 -> 0 | H34: 0
B35: Insurance proceeds (damaged equip.) | C35: 13 | D35: 14 | E35: 10 | F35: 13 | G35: =Inputs!E227+Inputs!F227+C35+D35 -> 50 | H35: =-H17 -> 13
B36: Acquisitions, net of cash | C36: -6 | D36: -335 | E36: -396 | F36: -4 | G36: =Inputs!E228+Inputs!F228+C36+D36 -> -357 | H36: 0 | J36: No acquisition announced in 3Q26
B37: Purchases of investments | C37: -1 | D37: -1 | E37: 0 | F37: 0 | G37: =Inputs!E229+Inputs!F229+C37+D37 -> -3 | H37: 0
B38: Proceeds from sales of investments | C38: 0 | D38: 0 | E38: 3 | F38: 0 | G38: =Inputs!E230+Inputs!F230+C38+D38 -> 0 | H38: 0
B39: Net cash used in investing activities | C39: =C30+C31+C32+C33+C34+C35+C36+C37+C38 -> -1194 | D39: =D30+D31+D32+D33+D34+D35+D36+D37+D38 -> -603 | E39: =E30+E31+E32+E33+E34+E35+E36+E37+E38 -> -853 | F39: =F30+F31+F32+F33+F34+F35+F36+F37+F38 -> -1618 | G39: =G30+G31+G32+G33+G34+G35+G36+G37+G38 -> -3369 | H39: =H30+H31+H32+H33+H34+H35+H36+H37+H38 -> -1401.25
B40: Financing activities
B41: Proceeds from debt | C41: 2638 | D41: 3715 | E41: 2055 | F41: 2448 | G41: =Inputs!E231+Inputs!F231+C41+D41 -> 11182 | H41: =MAX(H59,0) -> 553.6652
B42: Payments of debt | C42: -1910 | D42: -3667 | E42: -2449 | F42: -2145 | G42: =Inputs!E232+Inputs!F232+C42+D42 -> -10529 | H42: =MIN(H59,0) -> 0
...

Sheet Share Count
B2: United Rentals, Inc. (NYSE: URI)
B3: Share Count, buybacks and dividends
B4: $ millions, except per share
B6: Period | C6: 3Q25A | D6: 4Q25A | E6: 1Q26A | F6: 2Q26A | G6: FY25A | H6: 3Q26E
B7: Period end | C7: 45930 | D7: 46022 | E7: 46112 | F7: 46203 | G7: 46022 | H7: 46295
B8: Days in period | C8: =C7-EOMONTH(C7,-3) -> 92 | D8: =D7-EOMONTH(D7,-3) -> 92 | E8: =E7-EOMONTH(E7,-3) -> 90 | F8: =F7-EOMONTH(F7,-3) -> 91 | G8: =G7-EOMONTH(G7,-12) -> 365 | H8: =H7-EOMONTH(H7,-3) -> 92
J9: Notes / sources
B10: Weighted average shares (M)
B11: Weighted average basic shares | C11: 64.2 | D11: 63.4 | E11: 62.9 | F11: 62.6 | G11: 64.4 | H11: =H31-H30*H28+H30*H29 -> 62.063918
B12: % Y/Y | C12: =C11/Inputs!C190-1 -> -0.027272727 | D12: =D11/Inputs!D190-1 -> -0.033536585 | E12: =E11/Inputs!E190-1 -> -0.036753446 | F12: =F11/Inputs!F190-1 -> -0.035439137 | G12: =G11/Inputs!G190-1 -> -0.028657617 | H12: =H11/C11-1 -> -0.033272312
B13: Δ Q/Q (abs.) | C13: =C11-Inputs!F190 -> -0.7 | D13: =D11-C11 -> -0.8 | E13: =E11-D11 -> -0.5 | F13: =F11-E11 -> -0.3 | H13: =H11-F11 -> -0.53608243
B14: Dilutive RSUs / options | C14: 0.1 | D14: 0.2 | E14: 0.1 | F14: 0 | G14: 0.2 | H14: 0.05
B15: Weighted average diluted shares | C15: 64.3 | D15: 63.6 | E15: 63 | F15: 62.6 | G15: 64.6 | H15: =H11+H14 -> 62.113918
B16: % Y/Y | C16: =C15/Inputs!C191-1 -> -0.028700906 | D16: =D15/Inputs!D191-1 -> -0.03343465 | E16: =E15/Inputs!E191-1 -> -0.036697248 | F16: =F15/Inputs!F191-1 -> -0.035439137 | G16: =G15/Inputs!G191-1 -> -0.03003003 | H16: =H15/C15-1 -> -0.033998172
B17: Δ Q/Q (abs.) | C17: =C15-Inputs!F191 -> -0.6 | D17: =D15-C15 -> -0.7 | E17: =E15-D15 -> -0.6 | F17: =F15-E15 -> -0.4 | H17: =H15-F15 -> -0.48608243
B18: Check: basic + dilutive = diluted | C18: =ABS(C11+C14-C15)<0.051 -> TRUE | D18: =ABS(D11+D14-D15)<0.051 -> TRUE | E18: =ABS(E11+E14-E15)<0.051 -> TRUE | F18: =ABS(F11+F14-F15)<0.051 -> TRUE | G18: =ABS(G11+G14-G15)<0.051 -> TRUE | H18: =ABS(H11+H14-H15)<0.051 -> TRUE
B19: Shares outstanding and repurchases
B20: Shares out. at filing cover (M) | C20: 63.630147 | D20: 62.998147 | E20: 62.646557 | F20: 62.242489 | G20: =D20 -> 62.998147 | H20: n/a | J20: Cover dates: 20-Oct-25, 26-Jan-26, 20-Apr-26, 20-Jul-26
B21: Repurchases incl. withholding ($M) | C21: =-'Cash Flow Statement'!C45 -> 618 | D21: =-'Cash Flow Statement'!D45 -> 631 | E21: =-'Cash Flow Statement'!E45 -> 421 | F21: =-'Cash Flow Statement'!F45 -> 395 | G21: =-'Cash Flow Statement'!G45 -> 1969 | H21: =-'Cash Flow Statement'!H45 -> 378
B22: FY26 planned repurchases ($M) | C22: n/a | D22: n/a | E22: n/a | F22: n/a | G22: n/a | H22: =Guidance!C51 -> 1500
B23: Less: 6M26 program repurchases ($M) | C23: n/a | D23: n/a | E23: n/a | F23: n/a | G23: n/a | H23: 750
B24: Program buyback in qtr = (plan-H1)/2 | C24: n/a | D24: n/a | E24: n/a | F24: n/a | G24: n/a | H24: =(H22-H23)/2 -> 375
B25: Tax withholding on RSU vesting ($M) | C25: n/a | D25: n/a | E25: n/a | F25: n/a | G25: n/a | H25: 3
B26: Total repurchases ($M) | C26: =C21 -> 618 | D26: =D21 -> 631 | E26: =E21 -> 421 | F26: =F21 -> 395 | G26: =G21 -> 1969 | H26: =H24+H25 -> 378
B27: Average repurchase price ($/share) | C27: n/a | D27: n/a | E27: n/a | F27: n/a | G27: n/a | H27: 1050 | J27: Q3 trading ~$950-1,180 (52-wk range $702-1,179; 16-Oct close $1,030)
B28: Shares repurchased (M) | C28: n/a | D28: n/a | E28: n/a | F28: n/a | G28: n/a | H28: =H24/H27 -> 0.35714286
B29: Shares issued (RSU vesting, net) (M) | C29: n/a | D29: n/a | E29: n/a | F29: n/a | G29: n/a | H29: 0
B30: In-quarter weighting (mid-period) | C30: n/a | D30: n/a | E30: n/a | F30: n/a | G30: n/a | H30: 0.5 | J30: Assumes repurchases spread evenly through the quarter
B31: Opening shares out. (20-Jul-26) | C31: n/a | D31: n/a | E31: n/a | F31: n/a | G31: n/a | H31: =F20 -> 62.242489 | J31: Assumption: 20-Jul-26 cover count used as 1-Jul opening, dilutive 0.05 (H14); judgmental, alternate ~+0.10M shares = ~-$0.02 EPS; retained
B32: Closing shares outstanding (M, est.) | C32: n/a | D32: n/a | E32: n/a | F32: n/a | G32: n/a | H32: =H31-H28+H29 -> 61.885346
B33: Dividends
B34: Dividends declared per share ($) | C34: 1.79 | D34: 1.79 | E34: 1.97 | F34: 1.97 | G34: 7.16 | H34: 1.97 | J34: $1.97 declared for Aug-26 payment
B35: Dividends paid ($M) | C35: =-'Cash Flow Statement'!C46 -> 115 | D35: =-'Cash Flow Statement'!D46 -> 114 | E35: =-'Cash Flow Statement'!E46 -> 125 | F35: =-'Cash Flow Statement'!F46 -> 123 | G35: =-'Cash Flow Statement'!G46 -> 464 | H35: =H34*(H31+H32)/2 -> 122.26592
B36: Share count behind forecast EPS
B37: Diluted shares used in 3Q26E EPS (M) | C37: =C15 -> 64.3 | D37: =D15 -> 63.6 | E37: =E15 -> 63 | F37: =F15 -> 62.6 | G37: =G15 -> 64.6 | H37: =H15 -> 62.113918
B38: Adjusted EPS on these shares ($) | C38: ='Income Statement'!C81 -> 11.7 | D38: ='Income Statement'!D81 -> 11.09 | E38: ='Income Statement'!E81 -> 9.71 | F38: ='Income Statement'!F81 -> 12.76 | G38: ='Income Statement'!G81 -> 42.06 | H38: ='Income Statement'!H81 -> 13.926291

Sheet Guidance
B2: United Rentals, Inc. (NYSE: URI)
B3: Guidance history, track record and implied 3Q26
B4: $ millions, except per share
B6: Period | C6: 3Q26E
B7: Period end | C7: 46295
B8: Days in period | C8: =C7-EOMONTH(C7,-3) -> 92
J9: Notes / sources
B10: Metric | C10: Date given | D10: Period | E10: Low | F10: High | G10: Midpoint | H10: Actual | I10: Above / below mid
B11: FY25 guidance (given 23-Jul-25, per 3Q25 release "prior outlook")
B12: Total revenue ($M) | C12: 45861 | D12: FY25 | E12: 15800 | F12: 16100 | G12: =(E12+F12)/2 -> 15950 | H12: ='Income Statement'!G16 -> 16099 | I12: =IF(ISNUMBER(H12),IF(H12>G12,"Beat",IF(H12<G12,"Miss","In line")),"Pending") -> Beat
B13: Adjusted EBITDA ($M) | C13: 45861 | D13: FY25 | E13: 7300 | F13: 7450 | G13: =(E13+F13)/2 -> 7375 | H13: ='Income Statement'!G108 -> 7328 | I13: =IF(ISNUMBER(H13),IF(H13>G13,"Beat",IF(H13<G13,"Miss","In line")),"Pending") -> Miss
B14: Gross rental capex ($M) | C14: 45861 | D14: FY25 | E14: 3650 | F14: 3950 | G14: =(E14+F14)/2 -> 3800 | H14: ='Revenue summary'!G84 -> 4189 | I14: =IF(ISNUMBER(H14),IF(H14>G14,"Above",IF(H14<G14,"Below","In line")),"Pending") -> Above
B15: Operating cash flow ($M) | C15: 45861 | D15: FY25 | E15: 4900 | F15: 5500 | G15: =(E15+F15)/2 -> 5200 | H15: ='Cash Flow Statement'!G27 -> 5190 | I15: =IF(ISNUMBER(H15),IF(H15>G15,"Beat",IF(H15<G15,"Miss","In line")),"Pending") -> Miss
B16: FY25 guidance (given 22-Oct-25)
B17: Total revenue ($M) | C17: 45952 | D17: FY25 | E17: 16000 | F17: 16200 | G17: =(E17+F17)/2 -> 16100 | H17: ='Income Statement'!G16 -> 16099 | I17: =IF(ISNUMBER(H17),IF(H17>G17,"Beat",IF(H17<G17,"Miss","In line")),"Pending") -> Miss
B18: Adjusted EBITDA ($M) | C18: 45952 | D18: FY25 | E18: 7325 | F18: 7425 | G18: =(E18+F18)/2 -> 7375 | H18: ='Income Statement'!G108 -> 7328 | I18: =IF(ISNUMBER(H18),IF(H18>G18,"Beat",IF(H18<G18,"Miss","In line")),"Pending") -> Miss
B19: Gross rental capex ($M) | C19: 45952 | D19: FY25 | E19: 4000 | F19: 4200 | G19: =(E19+F19)/2 -> 4100 | H19: ='Revenue summary'!G84 -> 4189 | I19: =IF(ISNUMBER(H19),IF(H19>G19,"Above",IF(H19<G19,"Below","In line")),"Pending") -> Above
B20: Net rental capex ($M) | C20: 45952 | D20: FY25 | E20: 2550 | F20: 2750 | G20: =(E20+F20)/2 -> 2650 | H20: ='Cash Flow Statement'!G56 -> 2776 | I20: =IF(ISNUMBER(H20),IF(H20>G20,"Above",IF(H20<G20,"Below","In line")),"Pending") -> Above
B21: Operating cash flow ($M) | C21: 45952 | D21: FY25 | E21: 5000 | F21: 5400 | G21: =(E21+F21)/2 -> 5200 | H21: ='Cash Flow Statement'!G27 -> 5190 | I21: =IF(ISNUMBER(H21),IF(H21>G21,"Beat",IF(H21<G21,"Miss","In line")),"Pending") -> Miss
B22: FCF ex merger/restructuring ($M) | C22: 45952 | D22: FY25 | E22: 2100 | F22: 2300 | G22: =(E22+F22)/2 -> 2200 | H22: 2186 | I22: =IF(ISNUMBER(H22),IF(H22>G22,"Beat",IF(H22<G22,"Miss","In line")),"Pending") -> Miss
B23: FY26 guidance (initial, 28-Jan-26)
B24: Total revenue ($M) | C24: 46050 | D24: FY26 | E24: 16800 | F24: 17300 | G24: =(E24+F24)/2 -> 17050 | H24: n/a | I24: =IF(ISNUMBER(H24),IF(H24>G24,"Beat",IF(H24<G24,"Miss","In line")),"Pending") -> Pending
B25: Adjusted EBITDA ($M) | C25: 46050 | D25: FY26 | E25: 7575 | F25: 7825 | G25: =(E25+F25)/2 -> 7700 | H25: n/a | I25: =IF(ISNUMBER(H25),IF(H25>G25,"Beat",IF(H25<G25,"Miss","In line")),"Pending") -> Pending
B26: Gross rental capex ($M) | C26: 46050 | D26: FY26 | E26: 4300 | F26: 4700 | G26: =(E26+F26)/2 -> 4500 | H26: n/a | I26: =IF(ISNUMBER(H26),IF(H26>G26,"Above",IF(H26<G26,"Below","In line")),"Pending") -> Pending
B27: Net rental capex ($M) | C27: 46050 | D27: FY26 | E27: 2850 | F27: 3250 | G27: =(E27+F27)/2 -> 3050 | H27: n/a | I27: =IF(ISNUMBER(H27),IF(H27>G27,"Above",IF(H27<G27,"Below","In line")),"Pending") -> Pending
B28: Operating cash flow ($M) | C28: 46050 | D28: FY26 | E28: 5300 | F28: 6100 | G28: =(E28+F28)/2 -> 5700 | H28: n/a | I28: =IF(ISNUMBER(H28),IF(H28>G28,"Beat",IF(H28<G28,"Miss","In line")),"Pending") -> Pending
B29: FCF ex restructuring ($M) | C29: 46050 | D29: FY26 | E29: 2150 | F29: 2450 | G29: =(E29+F29)/2 -> 2300 | H29: n/a | I29: =IF(ISNUMBER(H29),IF(H29>G29,"Beat",IF(H29<G29,"Miss","In line")),"Pending") -> Pending
B30: FY26 guidance (raised, 22-Apr-26)
B31: Total revenue ($M) | C31: 46134 | D31: FY26 | E31: 16900 | F31: 17400 | G31: =(E31+F31)/2 -> 17150 | H31: n/a | I31: =IF(ISNUMBER(H31),IF(H31>G31,"Beat",IF(H31<G31,"Miss","In line")),"Pending") -> Pending
B32: Adjusted EBITDA ($M) | C32: 46134 | D32: FY26 | E32: 7625 | F32: 7875 | G32: =(E32+F32)/2 -> 7750 | H32: n/a | I32: =IF(ISNUMBER(H32),IF(H32>G32,"Beat",IF(H32<G32,"Miss","In line")),"Pending") -> Pending
B33: Gross rental capex ($M) | C33: 46134 | D33: FY26 | E33: 4400 | F33: 4800 | G33: =(E33+F33)/2 -> 4600 | H33: n/a | I33: =IF(ISNUMBER(H33),IF(H33>G33,"Above",IF(H33<G33,"Below","In line")),"Pending") -> Pending
B34: Net rental capex ($M) | C34: 46134 | D34: FY26 | E34: 2950 | F34: 3350 | G34: =(E34+F34)/2 -> 3150 | H34: n/a | I34: =IF(ISNUMBER(H34),IF(H34>G34,"Above",IF(H34<G34,"Below","In line")),"Pending") -> Pending
B35: Operating cash flow ($M) | C35: 46134 | D35: FY26 | E35: 5400 | F35: 6200 | G35: =(E35+F35)/2 -> 5800 | H35: n/a | I35: =IF(ISNUMBER(H35),IF(H35>G35,"Beat",IF(H35<G35,"Miss","In line")),"Pending") -> Pending
B36: FCF ex restructuring ($M) | C36: 46134 | D36: FY26 | E36: 2150 | F36: 2450 | G36: =(E36+F36)/2 -> 2300 | H36: n/a | I36: =IF(ISNUMBER(H36),IF(H36>G36,"Beat",IF(H36<G36,"Miss","In line")),"Pending") -> Pending
B37: FY26 guidance (raised, 22-Jul-26) — current at cutoff
B38: Total revenue ($M) | C38: 46225 | D38: FY26 | E38: 17500 | F38: 17800 | G38: =(E38+F38)/2 -> 17650 | H38: n/a | I38: =IF(ISNUMBER(H38),IF(H38>G38,"Beat",IF(H38<G38,"Miss","In line")),"Pending") -> Pending
B39: Adjusted EBITDA ($M) | C39: 46225 | D39: FY26 | E39: 7975 | F39: 8125 | G39: =(E39+F39)/2 -> 8050 | H39: n/a | I39: =IF(ISNUMBER(H39),IF(H39>G39,"Beat",IF(H39<G39,"Miss","In line")),"Pending") -> Pending
B40: Gross rental capex ($M) | C40: 46225 | D40: FY26 | E40: 4850 | F40: 5250 | G40: =(E40+F40)/2 -> 5050 | H40: n/a | I40: =IF(ISNUMBER(H40),IF(H40>G40,"Above",IF(H40<G40,"Below","In line")),"Pending") -> Pending
B41: Net rental capex ($M) | C41: 46225 | D41: FY26 | E41: 3400 | F41: 3800 | G41: =(E41+F41)/2 -> 3600 | H41: n/a | I41: =IF(ISNUMBER(H41),IF(H41>G41,"Above",IF(H41<G41,"Below","In line")),"Pending") -> Pending
B42: Operating cash flow ($M) | C42: 46225 | D42: FY26 | E42: 5850 | F42: 6650 | G42: =(E42+F42)/2 -> 6250 | H42: n/a | I42: =IF(ISNUMBER(H42),IF(H42>G42,"Beat",IF(H42<G42,"Miss","In line")),"Pending") -> Pending
...

Sheet Sources
B2: United Rentals, Inc. (NYSE: URI)
B3: Sources
B4: $ millions, except per share
B6: Period | C6: 3Q26E
B7: Period end | C7: 46295
B8: Days in period | C8: =C7-EOMONTH(C7,-3) -> 92
B10: Source | C10: ID | D10: Pub. date | E10: Publisher | F10: Retrieved (UTC) | G10: Feeds | H10: URL or file
B11: URI 3Q25 earnings release (Ex.99.1) | C11: S1 | D11: 45952 | E11: United Rentals / SEC EDGAR | F11: 2026-10-18/19 (pre-cutoff publication) | G11: 3Q25A IS, BS, CF, fleet productivity, adj. EPS/EBITDA, guidance (Oct-25) | H11: https://www.sec.gov/Archives/edgar/data/1067701/000106770125000041/uri-9302025xex991.htm
B12: URI 4Q25/FY25 earnings release (Ex.99.1) | C12: S2 | D12: 46050 | E12: United Rentals / SEC EDGAR | F12: 2026-10-18/19 (pre-cutoff publication) | G12: 4Q25A/FY25A IS, BS, CF, adj. EPS/EBITDA, FY26 initial guidance | H12: https://www.sec.gov/Archives/edgar/data/1067701/000106770126000009/uri-12312025xex991.htm
B13: URI 1Q26 earnings release (Ex.99.1) | C13: S3 | D13: 46134 | E13: United Rentals / SEC EDGAR | F13: 2026-10-18/19 (pre-cutoff publication) | G13: 1Q26A IS, BS, CF, adj. EPS/EBITDA, guidance (Apr-26); 1Q25 comparatives | H13: https://www.sec.gov/Archives/edgar/data/1067701/000106770126000018/uri-3312026xex991.htm
B14: URI 2Q26 earnings release (Ex.99.1) | C14: S4 | D14: 46225 | E14: United Rentals / SEC EDGAR | F14: 2026-10-18/19 (pre-cutoff publication) | G14: 2Q26A IS, BS, CF, adj. EPS/EBITDA, current FY26 guidance; 2Q25 comparatives | H14: https://www.sec.gov/Archives/edgar/data/1067701/000106770126000028/uri-6302026xex991.htm
B15: URI Form 10-Q 3Q25 | C15: S5 | D15: 45952 | E15: United Rentals / SEC EDGAR | F15: 2026-10-18/19 (pre-cutoff publication) | G15: Segment revenue/costs 3Q25, 3Q24, 9M24; revenue by type; shares outstanding 20-Oct-25 | H15: https://www.sec.gov/Archives/edgar/data/1067701/000106770125000039/uri-20250930.htm
B16: URI Form 10-K FY25 (incl. XBRL R47/R51/R52/R54) | C16: S6 | D16: 46050 | E16: United Rentals / SEC EDGAR | F16: 2026-10-18/19 (pre-cutoff publication) | G16: FY25/FY24 segment revenue & costs, revenue by type, product-line mix, geography | H16: https://www.sec.gov/Archives/edgar/data/1067701/000106770126000007/uri-20251231.htm
B17: URI Form 10-Q 1Q26 | C17: S7 | D17: 46134 | E17: United Rentals / SEC EDGAR | F17: 2026-10-18/19 (pre-cutoff publication) | G17: Segment revenue/costs 1Q26, 1Q25; revenue by type; segment capex/assets; shares 20-Apr-26 | H17: https://www.sec.gov/Archives/edgar/data/1047166/000106770126000016/uri-20260331.htm
