Workbook

Sheet Cover
B2: Spotify Technology S.A. (NYSE: SPOT)
B3: Cover
B4: EUR millions, except per share
B5: Forecast period | C5: 3Q26E
B6: Period end | C6: 46295
B7: Days in period | C7: =C6-EOMONTH(C6,-3) -> 92
B9: Company Model — built by Shortcut
B11: Company | C11: Spotify Technology S.A.
B12: Ticker / exchange | C12: SPOT — New York Stock Exchange (NYSE: SPOT)
B13: Fiscal year end | C13: 31 December (calendar year); target 3Q26 = quarter ended 30-Sep-2026 (supplied label "FQ3 2026 - Sep 2026", end 2026-09-30 — exact)
B14: Reporting currency | C14: EUR — EPS in EUR per diluted ordinary share; amounts in EUR millions (NYSE price is USD; not used as a conversion factor)
B15: EPS basis | C15: CapIQ normalized diluted EPS per ordinary share, EUR (= IFRS diluted EPS; issuer reports no non-GAAP EPS)
B16: Information cutoff | C16: 2026-10-18 21:34:46 UTC
B17: Expected report date | C17: 2026-10-22 before market open (issuer, S11); supplied CapIQ date 2026-11-03 (unconfirmed) kept for reference
B18: Author | C18: Shortcut — this model was built by Shortcut
B20: Headline: 3Q26E estimate vs consensus vs guidance | C20: Shortcut estimate | D20: Consensus at cutoff (CapIQ 2026-10-18) | E20: Variance vs consensus | F20: Variance % | G20: Guidance midpoint | H20: Estimate − guidance
B21: Revenue (EUR m) | C21: ='Income Statement'!H10 -> 4968.8347 | D21: =Inputs!C20 -> 4978.38 | E21: =C21-D21 -> -9.5453463 | F21: =IFERROR(C21/D21-1,"n.a.") -> -0.0019173599 | G21: =Guidance!G44 -> 5000 | H21: =C21-G21 -> -31.165346
B22: Gross margin | C22: ='Income Statement'!H17 -> 0.33027952 | D22: n.a. | E22: n.a. | F22: n.a. | G22: =Guidance!G45 -> 0.329 | H22: =(C22-G22)*10000 -> 12.795206
B23: Operating income (EUR m) | C23: ='Income Statement'!H41 -> 668.30315 | D23: =Inputs!C70 -> 672.01 | E23: =C23-D23 -> -3.7068497 | F23: =IFERROR(C23/D23-1,"n.a.") -> -0.0055160633 | G23: =Guidance!G46 -> 670 | H23: =C23-G23 -> -1.6968497
B24: Net income — normalized (EUR m) | C24: ='Income Statement'!H82 -> 545.83494 | D24: =Inputs!C73 -> 598.47 | E24: =C24-D24 -> -52.635058 | F24: =IFERROR(C24/D24-1,"n.a.") -> -0.087949368 | G24: n.a. | H24: n.a.
B25: Net income — IFRS (EUR m) | C25: ='Income Statement'!H56 -> 545.83494 | D25: =Inputs!C74 -> 591.71 | E25: =C25-D25 -> -45.875058 | F25: =IFERROR(C25/D25-1,"n.a.") -> -0.077529632 | G25: n.a. | H25: n.a.
B26: Normalized dil. EPS (EUR, scored) | C26: ='Income Statement'!H83 -> 2.6118231 | D26: =Inputs!C18 -> 2.85 | E26: =C26-D26 -> -0.23817688 | F26: =IFERROR(C26/D26-1,"n.a.") -> -0.083570837 | G26: n.a. | H26: n.a.
B27: IFRS diluted EPS (EUR) | C27: ='Income Statement'!H69 -> 2.6118231 | D27: =Inputs!C51 -> 2.81 | E27: =C27-D27 -> -0.19817688 | F27: =IFERROR(C27/D27-1,"n.a.") -> -0.070525582 | G27: n.a. | H27: n.a.
B28: Diluted shares (m; cons. = NI ÷ EPS) | C28: ='Income Statement'!H67 -> 208.98618 | D28: =D24/D26 -> 209.98947 | E28: =C28-D28 -> -1.0032915 | F28: =IFERROR(C28/D28-1,"n.a.") -> -0.0047778181 | G28: n.a. | H28: n.a.
B29: Normalized EPS estimates (n) | D29: =Inputs!C47 -> 19
B30: Check: Cover ties to statements | C30: =ROUND(C21-'Income Statement'!H10,6)+ROUND(C24-'Income Statement'!H82,6)+ROUND(C26-'Income Statement'!H83,9)+ROUND(C27-'Income Statement'!H69,9) -> 0
B31: Overall model check result | C31: =IF(AND(MAX('Revenue summary'!C40:H40)=0,MIN('Revenue summary'!C40:H40)=0,MAX('Income Statement'!C20:H20)=0,MIN('Income Statement'!C20:H20)=0,MAX('Income Statement'!C73:G73)=0,MIN('Income Statement'!C73:G73)=0,MAX('Income Statement'!C74:H74)=0,MIN('Income Statement'!C74:H74)=0,MAX('Income Statement'!C85:F85)=0,MIN('Income Statement'!C85:F85)=0,MAX('Income Statement'!C118:H118)=0,MIN('Income Statement'!C118:H118)=0,MAX('Income Statement'!C124:H124)=0,MIN('Income Statement'!C124:H124)=0,MAX('Balance Sheet'!C53:H53)=0,MIN('Balance Sheet'!C53:H53)=0,MAX('Cash Flow Statement'!C51:H51)=0,MIN('Cash Flow Statement'!C51:H51)=0,MAX('Cash Flow Statement'!C59:G59)=0,MIN('Cash Flow Statement'!C59:G59)=0,MAX(Geo!C40:H40)=0,MIN(Geo!C40:H40)=0,MAX('Share Count'!C21:G21)=0,MIN('Share Count'!C21:G21)=0,C30=0),"PASS","FAIL") -> PASS
B33: P(beat consensus EPS) | C33: =Inputs!C220 -> 0.22
B34: Confidence | C34: =Inputs!C221 -> medium
B36: Notes: consensus = frozen CapIQ snapshot (S1, 2026-10-18; scoring baseline). Newer/other consensus is recorded separately on Inputs section E.
B37: Target-quarter actuals were not available or used (issuer reports 2026-10-22, after the cutoff).

Sheet Revenue summary
B2: Spotify Technology S.A. (NYSE: SPOT)
B3: Revenue summary
B4: EUR millions, except per share
B5: Period | C5: 3Q25A | D5: 4Q25A | E5: 1Q26A | F5: 2Q26A | G5: FY25A | H5: 3Q26E | I5: Notes
B6: Period end | C6: 45930 | D6: 46022 | E6: 46112 | F6: 46203 | G6: 46022 | H6: 46295
B7: Days in period | C7: =C6-EOMONTH(C6,-3) -> 92 | D7: =D6-EOMONTH(D6,-3) -> 92 | E7: =E6-EOMONTH(E6,-3) -> 90 | F7: =F6-EOMONTH(F6,-3) -> 91 | G7: =G6-DATE(YEAR(G6)-1,12,31) -> 365 | H7: =H6-EOMONTH(H6,-3) -> 92
B9: Revenue by reported segment (EUR m)
B10: Premium revenue | C10: ='Segment - Premium'!C42 -> 3835 | D10: ='Segment - Premium'!D42 -> 4020 | E10: ='Segment - Premium'!E42 -> 4148 | F10: ='Segment - Premium'!F42 -> 4331 | G10: ='Segment - Premium'!G42 -> 15391 | H10: ='Segment - Premium'!H42 -> 4496.9403
B11: % Y/Y | C11: =IFERROR(IF(Inputs!C111<=0,"n.m.",C10/Inputs!C111-1),"n.a.") -> 0.086402266 | D11: =IFERROR(IF(Inputs!D111<=0,"n.m.",D10/Inputs!D111-1),"n.a.") -> 0.080354743 | E11: =IFERROR(IF(Inputs!E111<=0,"n.m.",E10/Inputs!E111-1),"n.a.") -> 0.096484272 | F11: =IFERROR(IF(Inputs!F111<=0,"n.m.",F10/Inputs!F111-1),"n.a.") -> 0.15401013 | G11: =IFERROR(IF(Inputs!G111<=0,"n.m.",G10/Inputs!G111-1),"n.a.") -> 0.10926126 | H11: =IFERROR(IF(C10<=0,"n.m.",H10/C10-1),"n.a.") -> 0.17260503
B12: % Q/Q | C12: =IFERROR(IF(Inputs!F111<=0,"n.m.",C10/Inputs!F111-1),"n.a.") -> 0.021849187 | D12: =IFERROR(IF(C10<=0,"n.m.",D10/C10-1),"n.a.") -> 0.048239896 | E12: =IFERROR(IF(D10<=0,"n.m.",E10/D10-1),"n.a.") -> 0.031840796 | F12: =IFERROR(IF(E10<=0,"n.m.",F10/E10-1),"n.a.") -> 0.044117647 | G12: n.a. | H12: =IFERROR(IF(F10<=0,"n.m.",H10/F10-1),"n.a.") -> 0.038314541
B13: % of total revenue | C13: =C10/C28 -> 0.89770599 | D13: =D10/D28 -> 0.88722136 | E13: =E10/E28 -> 0.91506728 | F13: =F10/F28 -> 0.90663596 | G13: =G10/G28 -> 0.89555452 | H13: =H10/H28 -> 0.90502917
B14: Organic growth | C14: n.a. | D14: n.a. | E14: n.a. | F14: n.a. | G14: n.a. | H14: n.a. | I14: Unavailable: M&A/scope not disclosed
B15: M&A / scope impact | C15: n.a. | D15: n.a. | E15: n.a. | F15: n.a. | G15: n.a. | H15: n.a. | I15: Not disclosed
B16: FX impact | C16: ='Segment - Premium'!C50 -> -0.04305949 | D16: ='Segment - Premium'!D50 -> -0.055361462 | E16: ='Segment - Premium'!E50 -> -0.056568861 | F16: ='Segment - Premium'!F50 -> -0.0058619771 | G16: ='Segment - Premium'!G50 -> -0.03618018 | H16: ='Segment - Premium'!H50 -> 0.018
B17: Constant-currency growth (FXN) | C17: ='Segment - Premium'!C49 -> 0.12946176 | D17: ='Segment - Premium'!D49 -> 0.13571621 | E17: ='Segment - Premium'!E49 -> 0.15305313 | F17: ='Segment - Premium'!F49 -> 0.1598721 | G17: ='Segment - Premium'!G49 -> 0.14544144 | H17: ='Segment - Premium'!H49 -> 0.15460503 | I17: Constant-currency growth (issuer FXN)
B18: Total Y/Y | C18: =C10/Inputs!C111-1 -> 0.086402266 | D18: =D10/Inputs!D111-1 -> 0.080354743 | E18: =E10/Inputs!E111-1 -> 0.096484272 | F18: =F10/Inputs!F111-1 -> 0.15401013 | G18: =G10/Inputs!G111-1 -> 0.10926126 | H18: =H10/C10-1 -> 0.17260503
B19: Ad-Supported revenue | C19: ='Segment - Ad-Supported'!C52 -> 437 | D19: ='Segment - Ad-Supported'!D52 -> 511 | E19: ='Segment - Ad-Supported'!E52 -> 385 | F19: ='Segment - Ad-Supported'!F52 -> 446 | G19: ='Segment - Ad-Supported'!G52 -> 1795 | H19: ='Segment - Ad-Supported'!H52 -> 471.89438
B20: % Y/Y | C20: =IFERROR(IF(Inputs!C112<=0,"n.m.",C19/Inputs!C112-1),"n.a.") -> -0.045851528 | D20: =IFERROR(IF(Inputs!D112<=0,"n.m.",D19/Inputs!D112-1),"n.a.") -> -0.019193858 | E20: =IFERROR(IF(Inputs!E112<=0,"n.m.",E19/Inputs!E112-1),"n.a.") -> -0.054054054 | F20: =IFERROR(IF(Inputs!F112<=0,"n.m.",F19/Inputs!F112-1),"n.a.") -> 0.013636364 | G20: =IFERROR(IF(Inputs!G112<=0,"n.m.",G19/Inputs!G112-1),"n.a.") -> -0.0016685206 | H20: =IFERROR(IF(C19<=0,"n.m.",H19/C19-1),"n.a.") -> 0.079849829
B21: % Q/Q | C21: =IFERROR(IF(Inputs!F112<=0,"n.m.",C19/Inputs!F112-1),"n.a.") -> -0.0068181818 | D21: =IFERROR(IF(C19<=0,"n.m.",D19/C19-1),"n.a.") -> 0.16933638 | E21: =IFERROR(IF(D19<=0,"n.m.",E19/D19-1),"n.a.") -> -0.24657534 | F21: =IFERROR(IF(E19<=0,"n.m.",F19/E19-1),"n.a.") -> 0.15844156 | G21: n.a. | H21: =IFERROR(IF(F19<=0,"n.m.",H19/F19-1),"n.a.") -> 0.058059138
B22: % of total revenue | C22: =C19/C28 -> 0.10229401 | D22: =D19/D28 -> 0.11277864 | E22: =E19/E28 -> 0.084932716 | F22: =F19/F28 -> 0.093364036 | G22: =G19/G28 -> 0.10444548 | H22: =H19/H28 -> 0.094970835
B23: Organic growth | C23: n.a. | D23: n.a. | E23: n.a. | F23: n.a. | G23: n.a. | H23: n.a. | I23: Unavailable: M&A/scope not disclosed
B24: M&A / scope impact | C24: n.a. | D24: n.a. | E24: n.a. | F24: n.a. | G24: n.a. | H24: n.a. | I24: Not disclosed
B25: FX impact | C25: ='Segment - Ad-Supported'!C60 -> -0.056768559 | D25: ='Segment - Ad-Supported'!D60 -> -0.080614203 | E25: ='Segment - Ad-Supported'!E60 -> -0.088452088 | F25: ='Segment - Ad-Supported'!F60 -> -0.018181818 | G25: ='Segment - Ad-Supported'!G60 -> -0.046162403 | H25: ='Segment - Ad-Supported'!H60 -> 0.018
B26: Constant-currency growth (FXN) | C26: ='Segment - Ad-Supported'!C59 -> 0.010917031 | D26: ='Segment - Ad-Supported'!D59 -> 0.061420345 | E26: ='Segment - Ad-Supported'!E59 -> 0.034398034 | F26: ='Segment - Ad-Supported'!F59 -> 0.031818182 | G26: ='Segment - Ad-Supported'!G59 -> 0.044493882 | H26: ='Segment - Ad-Supported'!H59 -> 0.061849829 | I26: Constant-currency growth (issuer FXN)
B27: Total Y/Y | C27: =C19/Inputs!C112-1 -> -0.045851528 | D27: =D19/Inputs!D112-1 -> -0.019193858 | E27: =E19/Inputs!E112-1 -> -0.054054054 | F27: =F19/Inputs!F112-1 -> 0.013636364 | G27: =G19/Inputs!G112-1 -> -0.0016685206 | H27: =H19/C19-1 -> 0.079849829
B28: Total revenue | C28: =C10+C19 -> 4272 | D28: =D10+D19 -> 4531 | E28: =E10+E19 -> 4533 | F28: =F10+F19 -> 4777 | G28: =G10+G19 -> 17186 | H28: =H10+H19 -> 4968.8347
B29: % Y/Y | C29: =IFERROR(IF(Inputs!C110<=0,"n.m.",C28/Inputs!C110-1),"n.a.") -> 0.071213641 | D29: =IFERROR(IF(Inputs!D110<=0,"n.m.",D28/Inputs!D110-1),"n.a.") -> 0.068128241 | E29: =IFERROR(IF(Inputs!E110<=0,"n.m.",E28/Inputs!E110-1),"n.a.") -> 0.081861575 | F29: =IFERROR(IF(Inputs!F110<=0,"n.m.",F28/Inputs!F110-1),"n.a.") -> 0.13927975 | G29: =IFERROR(IF(Inputs!G110<=0,"n.m.",G28/Inputs!G110-1),"n.a.") -> 0.096535443 | H29: =IFERROR(IF(C28<=0,"n.m.",H28/C28-1),"n.a.") -> 0.16311673
B30: % Q/Q | C30: =IFERROR(IF(Inputs!F110<=0,"n.m.",C28/Inputs!F110-1),"n.a.") -> 0.018840925 | D30: =IFERROR(IF(C28<=0,"n.m.",D28/C28-1),"n.a.") -> 0.060627341 | E30: =IFERROR(IF(D28<=0,"n.m.",E28/D28-1),"n.a.") -> 0.00044140366 | F30: =IFERROR(IF(E28<=0,"n.m.",F28/E28-1),"n.a.") -> 0.053827487 | G30: n.a. | H30: =IFERROR(IF(F28<=0,"n.m.",H28/F28-1),"n.a.") -> 0.040157976
B31: % of total revenue | C31: =C28/C28 -> 1 | D31: =D28/D28 -> 1 | E31: =E28/E28 -> 1 | F31: =F28/F28 -> 1 | G31: =G28/G28 -> 1 | H31: =H28/H28 -> 1
B32: FX effect, EUR m (+ = headwind) | C32: ='Segment - Premium'!C47+'Segment - Ad-Supported'!C57 -> 178 | D32: ='Segment - Premium'!D47+'Segment - Ad-Supported'!D57 -> 248 | E32: ='Segment - Premium'!E47+'Segment - Ad-Supported'!E57 -> 250 | F32: ='Segment - Premium'!F47+'Segment - Ad-Supported'!F57 -> 30 | G32: ='Segment - Premium'!G47+'Segment - Ad-Supported'!G57 -> 585 | H32: ='Segment - Premium'!H47+'Segment - Ad-Supported'!H57 -> -76.896 | I32: FX effect at prior-year rates (EUR m; + = headwind)
B33: Revenue excl. FX effect (EUR m) | C33: =C28+C32 -> 4450 | D33: =D28+D32 -> 4779 | E33: =E28+E32 -> 4783 | F33: =F28+F32 -> 4807 | G33: =G28+G32 -> 17771 | H33: =H28+H32 -> 4891.9387
B34: Organic growth | C34: n.a. | D34: n.a. | E34: n.a. | F34: n.a. | G34: n.a. | H34: n.a. | I34: Unavailable: M&A/scope not disclosed
B35: M&A / scope impact | C35: n.a. | D35: n.a. | E35: n.a. | F35: n.a. | G35: n.a. | H35: n.a. | I35: Not disclosed
B36: Constant-currency growth (FXN) | C36: =C33/Inputs!C110-1 -> 0.11584754 | D36: =D33/Inputs!D110-1 -> 0.12659123 | E36: =E33/Inputs!E110-1 -> 0.14152745 | F36: =F33/Inputs!F110-1 -> 0.14643453 | G36: =G33/Inputs!G110-1 -> 0.13386078 | H36: =H33/C28-1 -> 0.14511673 | I36: Constant-currency growth (issuer FXN)
B37: FX impact (Y/Y − cc) | C37: =C29-C36 -> -0.044633902 | D37: =D29-D36 -> -0.058462989 | E37: =E29-E36 -> -0.059665871 | F37: =F29-F36 -> -0.0071547818 | G37: =G29-G36 -> -0.037325337 | H37: =H29-H36 -> 0.018
B38: Total Y/Y | C38: =C28/Inputs!C110-1 -> 0.071213641 | D38: =D28/Inputs!D110-1 -> 0.068128241 | E38: =E28/Inputs!E110-1 -> 0.081861575 | F38: =F28/Inputs!F110-1 -> 0.13927975 | G38: =G28/Inputs!G110-1 -> 0.096535443 | H38: =H28/C28-1 -> 0.16311673
B40: Check: segments − IS revenue | C40: =ROUND(C28-'Income Statement'!C10,6) -> 0 | D40: =ROUND(D28-'Income Statement'!D10,6) -> 0 | E40: =ROUND(E28-'Income Statement'!E10,6) -> 0 | F40: =ROUND(F28-'Income Statement'!F10,6) -> 0 | G40: =ROUND(G28-'Income Statement'!G10,6) -> 0 | H40: =ROUND(H28-'Income Statement'!H10,6) -> 0 | I40: Check: segments sum − reported total revenue (IS)
B42: Geography: revenue by country is disclosed (United States, Luxembourg, other countries) — modelled on the Geo tab.

Sheet Segment - Premium
B2: Spotify Technology S.A. (NYSE: SPOT)
B3: Segment - Premium
B4: EUR millions, except per share; users in millions; ARPU in EUR per month
B5: Period | C5: 3Q25A | D5: 4Q25A | E5: 1Q26A | F5: 2Q26A | G5: FY25A | H5: 3Q26E | I5: Notes
B6: Period end | C6: 45930 | D6: 46022 | E6: 46112 | F6: 46203 | G6: 46022 | H6: 46295
B7: Days in period | C7: =C6-EOMONTH(C6,-3) -> 92 | D7: =D6-EOMONTH(D6,-3) -> 92 | E7: =E6-EOMONTH(E6,-3) -> 90 | F7: =F6-EOMONTH(F6,-3) -> 91 | G7: =G6-DATE(YEAR(G6)-1,12,31) -> 365 | H7: =H6-EOMONTH(H6,-3) -> 92
B9: Premium Subscribers (millions)
B10: Opening subscribers | C10: =Inputs!F151 -> 276 | D10: =C16 -> 281 | E10: =D16 -> 290 | F10: =E16 -> 293 | G10: =Inputs!D151 -> 263 | H10: =F16 -> 300 | I10: Prior period-end; FY opening = 4Q24 (Inputs)
B11: Gross additions | C11: n.a. | D11: n.a. | E11: n.a. | F11: n.a. | G11: n.a. | H11: n.a. | I11: Not disclosed by Spotify
B12: Churned subscribers | C12: n.a. | D12: n.a. | E12: n.a. | F12: n.a. | G12: n.a. | H12: n.a. | I12: Not disclosed by Spotify
B13: Net additions | C13: =C16-C10 -> 5 | D13: =D16-D10 -> 9 | E13: =E16-E10 -> 3 | F13: =F16-F10 -> 7 | G13: =G16-G10 -> 27 | H13: =Guidance!G43-F16 -> 5 | I13: 3Q26E = guidance 305m less 2Q26 close (Guidance tab; S3)
B14: Net adds — Y/Y chg (m) | C14: =C13-Inputs!C154 -> -1 | D14: =D13-Inputs!D154 -> -2 | E14: =E13-Inputs!E154 -> -2 | F14: =F13-Inputs!F154 -> -1 | G14: =G13-Inputs!G154 -> 0 | H14: =H13-C13 -> 0
B15: Net adds — Q/Q chg (m) | C15: =C13-Inputs!F154 -> -3 | D15: =D13-C13 -> 4 | E15: =E13-D13 -> -6 | F15: =F13-E13 -> 4 | G15: n.a. | H15: =H13-F13 -> -2
B16: Closing subscribers | C16: 281 | D16: 290 | E16: 293 | F16: 300 | G16: =D16 -> 290 | H16: =H10+H13 -> 305 | I16: S7, S6, S5, S3
B17: % Y/Y | C17: =IFERROR(IF(Inputs!C151<=0,"n.m.",C16/Inputs!C151-1),"n.a.") -> 0.11507937 | D17: =IFERROR(IF(Inputs!D151<=0,"n.m.",D16/Inputs!D151-1),"n.a.") -> 0.1026616 | E17: =IFERROR(IF(Inputs!E151<=0,"n.m.",E16/Inputs!E151-1),"n.a.") -> 0.093283582 | F17: =IFERROR(IF(Inputs!F151<=0,"n.m.",F16/Inputs!F151-1),"n.a.") -> 0.086956522 | G17: =IFERROR(IF(Inputs!G151<=0,"n.m.",G16/Inputs!G151-1),"n.a.") -> 0.1026616 | H17: =IFERROR(IF(C16<=0,"n.m.",H16/C16-1),"n.a.") -> 0.085409253
B18: Q/Q chg (m) | C18: =C16-Inputs!F151 -> 5 | D18: =D16-C16 -> 9 | E18: =E16-D16 -> 3 | F18: =F16-E16 -> 7 | G18: n.a. | H18: =H16-F16 -> 5
B19: Average subscribers | C19: =(C10+C16)/2 -> 278.5 | D19: =(D10+D16)/2 -> 285.5 | E19: =(E10+E16)/2 -> 291.5 | F19: =(F10+F16)/2 -> 296.5 | G19: =(Inputs!D151+2*Inputs!E151+2*Inputs!F151+2*C16+D16)/8 -> 275.375 | H19: =(H10+H16)/2 -> 302.5 | I19: Simple average of opening/closing; FY = mean of quarterly averages
B20: % Y/Y | C20: =IFERROR(IF(Inputs!C153<=0,"n.m.",C19/Inputs!C153-1),"n.a.") -> 0.1184739 | D20: =IFERROR(IF(Inputs!D153<=0,"n.m.",D19/Inputs!D153-1),"n.a.") -> 0.10873786 | E20: =IFERROR(IF(Inputs!E153<=0,"n.m.",E19/Inputs!E153-1),"n.a.") -> 0.097928437 | F20: =IFERROR(IF(Inputs!F153<=0,"n.m.",F19/Inputs!F153-1),"n.a.") -> 0.090073529 | G20: n.a. | H20: =IFERROR(IF(C19<=0,"n.m.",H19/C19-1),"n.a.") -> 0.086175943
B21: Q/Q chg (m) | C21: =C19-Inputs!F153 -> 6.5 | D21: =D19-C19 -> 7 | E21: =E19-D19 -> 6 | F21: =F19-E19 -> 5 | G21: n.a. | H21: =H19-F19 -> 6
B22: Monthly churn % | C22: n.a. | D22: n.a. | E22: n.a. | F22: n.a. | G22: n.a. | H22: n.a. | I22: Not disclosed
B23: Premium subs % of total MAUs | C23: =C16/'Segment - Ad-Supported'!C16 -> 0.3941094 | D23: =D16/'Segment - Ad-Supported'!D16 -> 0.3861518 | E23: =E16/'Segment - Ad-Supported'!E16 -> 0.38501971 | F23: =F16/'Segment - Ad-Supported'!F16 -> 0.38610039 | G23: =G16/'Segment - Ad-Supported'!G16 -> 0.3861518 | H23: =H16/'Segment - Ad-Supported'!H16 -> 0.38705584
B24: Y/Y chg (bps) | C24: =IFERROR((C23-Inputs!C166)*10000,"n.a.") -> 3.5939691 | D24: =IFERROR((D23-Inputs!D166)*10000,"n.a.") -> -34.77832 | E24: =IFERROR((E23-Inputs!E166)*10000,"n.a.") -> -102.60525 | F24: =IFERROR((F23-Inputs!F166)*10000,"n.a.") -> -104.51338 | G24: =IFERROR((G23-Inputs!G166)*10000,"n.a.") -> -34.77832 | H24: =IFERROR((H23-C23)*10000,"n.a.") -> -70.535594
B25: Q/Q chg (bps) | C25: =IFERROR((C23-Inputs!F166)*10000,"n.a.") -> -24.423272 | D25: =IFERROR((D23-C23)*10000,"n.a.") -> -79.575993 | E25: =IFERROR((E23-D23)*10000,"n.a.") -> -11.320867 | F25: =IFERROR((F23-E23)*10000,"n.a.") -> 10.806752 | G25: n.a. | H25: =IFERROR((H23-F23)*10000,"n.a.") -> 9.5545146
B27: Premium ARPU (EUR per month)
B28: Months in period | C28: 3 | D28: 3 | E28: 3 | F28: 3 | G28: 12 | H28: 3
B29: Derived ARPU (rev / avg subs / months) | C29: =C42/C19/C28 -> 4.5900658 | D29: =D42/D19/D28 -> 4.6935201 | E29: =E42/E19/E28 -> 4.7432819 | F29: =F42/F19/F28 -> 4.8690275 | G29: =G42/G19/G28 -> 4.6575881 | H29: =H42/H19/H28 -> 4.9553061 | I29: Same definition in every column (3Q26E revenue built from cc ARPU + FX below)
B30: % Y/Y | C30: =IFERROR(IF(Inputs!C155<=0,"n.m.",C29/Inputs!C155-1),"n.a.") -> -0.028674455 | D30: =IFERROR(IF(Inputs!D155<=0,"n.m.",D29/Inputs!D155-1),"n.a.") -> -0.025599487 | E30: =IFERROR(IF(Inputs!E155<=0,"n.m.",E29/Inputs!E155-1),"n.a.") -> -0.0013153546 | F30: =IFERROR(IF(Inputs!F155<=0,"n.m.",F29/Inputs!F155-1),"n.a.") -> 0.058653471 | G30: n.a. | H30: =IFERROR(IF(C29<=0,"n.m.",H29/C29-1),"n.a.") -> 0.079571901
B31: Q/Q chg (EUR) | C31: =C29-Inputs!F155 -> -0.009198877 | D31: =D29-C29 -> 0.10345431 | E31: =E29-D29 -> 0.049761735 | F31: =F29-E29 -> 0.12574567 | G31: n.a. | H31: =H29-F29 -> 0.086278548
B32: Constant-currency ARPU Y/Y (derived) | C32: =IFERROR((C48/C19/C28)/Inputs!C155-1,"n.a.") -> 0.0098239761 | D32: =IFERROR((D48/D19/D28)/Inputs!D155-1,"n.a.") -> 0.024332479 | E32: =IFERROR((E48/E19/E28)/Inputs!E155-1,"n.a.") -> 0.050207913 | F32: =IFERROR((F48/F19/F28)/Inputs!F155-1,"n.a.") -> 0.064031069 | G32: n.a. | H32: 0.063 | I32: Defined as (revenue excl. FX / avg subs / months) ÷ prior-year derived ARPU − 1; 3Q26E assumption: issuer cc ARPU ~7% (S3, S14) less ~0.7pt derived-basis gap. C32:D32 mix pre-2026 FX with 2026-basis revenue (see I47)
B33: Y/Y chg (bps) | C33: n.a. | D33: n.a. | E33: n.a. | F33: n.a. | G33: n.a. | H33: =IFERROR((H32-C32)*10000,"n.a.") -> 531.76024
B34: Q/Q chg (bps) | C34: n.a. | D34: =IFERROR((D32-C32)*10000,"n.a.") -> 145.08503 | E34: =IFERROR((E32-D32)*10000,"n.a.") -> 258.75434 | F34: =IFERROR((F32-E32)*10000,"n.a.") -> 138.23155 | G34: n.a. | H34: =IFERROR((H32-F32)*10000,"n.a.") -> -10.310686
B35: Premium ARPU — reported (issuer, EUR) | C35: 4.53 | D35: 4.7 | E35: 4.76 | F35: 4.89 | G35: 4.63 | H35: =H29*F35/F29 -> 4.9766502 | I35: 3Q25/4Q25/FY25 on pre-2026 segment basis (S7, S6, S9); 3Q26E scaled by 2Q26 reported/derived ratio
B36: Q/Q chg (EUR) | C36: n.a. | D36: =D35-C35 -> 0.17 | E36: =E35-D35 -> 0.06 | F36: =F35-E35 -> 0.13 | G36: n.a. | H36: =H35-F35 -> 0.086650177
B37: Reported ARPU % Y/Y (issuer) | C37: -0.04 | D37: -0.03 | E37: n.a. | F37: 0.07 | G37: -0.01 | H37: n.a. | I37: 1Q26 issuer: "roughly flat" (no figure). 3Q26E n.a.: H35 is on the 2026 segment basis but C35 (3Q25) is pre-2026 basis, so Y/Y would mix bases; same-basis derived ARPU Y/Y is row 30
B38: Reported ARPU cc % Y/Y (issuer) | C38: 0 | D38: 0.02 | E38: 0.057 | F38: 0.074 | G38: n.a. | H38: n.a. | I38: S7, S6, S5, S3
B39: Q/Q chg (bps) | C39: n.a. | D39: =IFERROR((D38-C38)*10000,"n.a.") -> 200 | E39: =IFERROR((E38-D38)*10000,"n.a.") -> 370 | F39: =IFERROR((F38-E38)*10000,"n.a.") -> 170 | G39: n.a. | H39: =IFERROR((H38-F38)*10000,"n.a.") -> n.a.
B41: Premium revenue (EUR m)
B42: Premium revenue | C42: 3835 | D42: 4020 | E42: 4148 | F42: 4331 | G42: =Inputs!E111+Inputs!F111+C42+D42 -> 15391 | H42: =H48+H50*C42 -> 4496.9403 | I42: 2026 segment basis (S5 appendix, S3); 3Q26E = revenue excl. FX + FX impact × 3Q25 revenue
B43: % Y/Y | C43: =IFERROR(IF(Inputs!C111<=0,"n.m.",C42/Inputs!C111-1),"n.a.") -> 0.086402266 | D43: =IFERROR(IF(Inputs!D111<=0,"n.m.",D42/Inputs!D111-1),"n.a.") -> 0.080354743 | E43: =IFERROR(IF(Inputs!E111<=0,"n.m.",E42/Inputs!E111-1),"n.a.") -> 0.096484272 | F43: =IFERROR(IF(Inputs!F111<=0,"n.m.",F42/Inputs!F111-1),"n.a.") -> 0.15401013 | G43: =IFERROR(IF(Inputs!G111<=0,"n.m.",G42/Inputs!G111-1),"n.a.") -> 0.10926126 | H43: =IFERROR(IF(C42<=0,"n.m.",H42/C42-1),"n.a.") -> 0.17260503
B44: Q/Q chg (EUR m) | C44: =C42-Inputs!F111 -> 82 | D44: =D42-C42 -> 185 | E44: =E42-D42 -> 128 | F44: =F42-E42 -> 183 | G44: n.a. | H44: =H42-F42 -> 165.94028
...

Sheet Segment - Ad-Supported
B2: Spotify Technology S.A. (NYSE: SPOT)
B3: Segment - Ad-Supported
B4: EUR millions, except per share; users in millions
B5: Period | C5: 3Q25A | D5: 4Q25A | E5: 1Q26A | F5: 2Q26A | G5: FY25A | H5: 3Q26E | I5: Notes
B6: Period end | C6: 45930 | D6: 46022 | E6: 46112 | F6: 46203 | G6: 46022 | H6: 46295
B7: Days in period | C7: =C6-EOMONTH(C6,-3) -> 92 | D7: =D6-EOMONTH(D6,-3) -> 92 | E7: =E6-EOMONTH(E6,-3) -> 90 | F7: =F6-EOMONTH(F6,-3) -> 91 | G7: =G6-DATE(YEAR(G6)-1,12,31) -> 365 | H7: =H6-EOMONTH(H6,-3) -> 92
B9: Total Monthly Active Users (millions)
B10: Opening MAUs | C10: =Inputs!F156 -> 696 | D10: =C16 -> 713 | E10: =D16 -> 751 | F10: =E16 -> 761 | G10: =Inputs!D156 -> 675 | H10: =F16 -> 777
B11: Gross additions | C11: n.a. | D11: n.a. | E11: n.a. | F11: n.a. | G11: n.a. | H11: n.a. | I11: Not disclosed
B12: Churned users | C12: n.a. | D12: n.a. | E12: n.a. | F12: n.a. | G12: n.a. | H12: n.a. | I12: Not disclosed
B13: Net additions | C13: =C16-C10 -> 17 | D13: =D16-D10 -> 38 | E13: =E16-E10 -> 10 | F13: =F16-F10 -> 16 | G13: =G16-G10 -> 76 | H13: =Guidance!G42-F16 -> 11 | I13: 3Q26E = guidance 788m less 2Q26 close (Guidance tab; S3)
B14: Net adds — Y/Y chg (m) | C14: =C13-Inputs!C159 -> 3 | D14: =D13-Inputs!D159 -> 3 | E14: =E13-Inputs!E159 -> 7 | F14: =F13-Inputs!F159 -> -2 | G14: =G13-Inputs!G159 -> 3 | H14: =H13-C13 -> -6
B15: Net adds — Q/Q chg (m) | C15: =C13-Inputs!F159 -> -1 | D15: =D13-C13 -> 21 | E15: =E13-D13 -> -28 | F15: =F13-E13 -> 6 | G15: n.a. | H15: =H13-F13 -> -5
B16: Closing MAUs | C16: 713 | D16: 751 | E16: 761 | F16: 777 | G16: =D16 -> 751 | H16: =H10+H13 -> 788 | I16: S7, S6, S5, S3
B17: % Y/Y | C17: =IFERROR(IF(Inputs!C156<=0,"n.m.",C16/Inputs!C156-1),"n.a.") -> 0.1140625 | D17: =IFERROR(IF(Inputs!D156<=0,"n.m.",D16/Inputs!D156-1),"n.a.") -> 0.11259259 | E17: =IFERROR(IF(Inputs!E156<=0,"n.m.",E16/Inputs!E156-1),"n.a.") -> 0.12241888 | F17: =IFERROR(IF(Inputs!F156<=0,"n.m.",F16/Inputs!F156-1),"n.a.") -> 0.11637931 | G17: =IFERROR(IF(Inputs!G156<=0,"n.m.",G16/Inputs!G156-1),"n.a.") -> 0.11259259 | H17: =IFERROR(IF(C16<=0,"n.m.",H16/C16-1),"n.a.") -> 0.10518934
B18: Q/Q chg (m) | C18: =C16-Inputs!F156 -> 17 | D18: =D16-C16 -> 38 | E18: =E16-D16 -> 10 | F18: =F16-E16 -> 16 | G18: n.a. | H18: =H16-F16 -> 11
B19: Average MAUs | C19: =(C10+C16)/2 -> 704.5 | D19: =(D10+D16)/2 -> 732 | E19: =(E10+E16)/2 -> 756 | F19: =(F10+F16)/2 -> 769 | G19: =(Inputs!D156+2*Inputs!E156+2*Inputs!F156+2*C16+D16)/8 -> 700 | H19: =(H10+H16)/2 -> 782.5
B20: % Y/Y | C20: =IFERROR(IF(Inputs!C158<=0,"n.m.",C19/Inputs!C158-1),"n.a.") -> 0.11295419 | D20: =IFERROR(IF(Inputs!D158<=0,"n.m.",D19/Inputs!D158-1),"n.a.") -> 0.11330798 | E20: =IFERROR(IF(Inputs!E158<=0,"n.m.",E19/Inputs!E158-1),"n.a.") -> 0.11751663 | F20: =IFERROR(IF(Inputs!F158<=0,"n.m.",F19/Inputs!F158-1),"n.a.") -> 0.11935953 | G20: n.a. | H20: =IFERROR(IF(C19<=0,"n.m.",H19/C19-1),"n.a.") -> 0.11071682
B21: Q/Q chg (m) | C21: =C19-Inputs!F158 -> 17.5 | D21: =D19-C19 -> 27.5 | E21: =E19-D19 -> 24 | F21: =F19-E19 -> 13 | G21: n.a. | H21: =H19-F19 -> 13.5
B23: Ad-Supported MAUs (millions)
B24: Opening Ad-Supported MAUs | C24: =Inputs!F160 -> 433 | D24: =C30 -> 446 | E24: =D30 -> 476 | F24: =E30 -> 483 | G24: =Inputs!D160 -> 425 | H24: =F30 -> 494
B25: Gross additions | C25: n.a. | D25: n.a. | E25: n.a. | F25: n.a. | G25: n.a. | H25: n.a. | I25: Not disclosed
B26: Churned / converted users | C26: n.a. | D26: n.a. | E26: n.a. | F26: n.a. | G26: n.a. | H26: n.a. | I26: Not disclosed
B27: Net additions | C27: =C30-C24 -> 13 | D27: =D30-D24 -> 30 | E27: =E30-E24 -> 7 | F27: =F30-F24 -> 11 | G27: =G30-G24 -> 51 | H27: =H30-H24 -> 6
B28: Net adds — Y/Y chg (m) | C28: =C27-Inputs!C163 -> 4 | D28: =D27-Inputs!D163 -> 7 | E28: =E27-Inputs!E163 -> 9 | F28: =F27-Inputs!F163 -> 1 | G28: =G27-Inputs!G163 -> 5 | H28: =H27-C27 -> -7
B29: Net adds — Q/Q chg (m) | C29: =C27-Inputs!F163 -> 3 | D29: =D27-C27 -> 17 | E29: =E27-D27 -> -23 | F29: =F27-E27 -> 4 | G29: n.a. | H29: =H27-F27 -> -5
B30: Closing Ad-Supported MAUs | C30: 446 | D30: 476 | E30: 483 | F30: 494 | G30: =D30 -> 476 | H30: =H16-'Segment - Premium'!H16+H36 -> 500 | I30: S7, S6, S5, S3; 3Q26E = MAUs − subs + overlap
B31: % Y/Y | C31: =IFERROR(IF(Inputs!C160<=0,"n.m.",C30/Inputs!C160-1),"n.a.") -> 0.10945274 | D31: =IFERROR(IF(Inputs!D160<=0,"n.m.",D30/Inputs!D160-1),"n.a.") -> 0.12 | E31: =IFERROR(IF(Inputs!E160<=0,"n.m.",E30/Inputs!E160-1),"n.a.") -> 0.14184397 | F31: =IFERROR(IF(Inputs!F160<=0,"n.m.",F30/Inputs!F160-1),"n.a.") -> 0.1408776 | G31: =IFERROR(IF(Inputs!G160<=0,"n.m.",G30/Inputs!G160-1),"n.a.") -> 0.12 | H31: =IFERROR(IF(C30<=0,"n.m.",H30/C30-1),"n.a.") -> 0.12107623
B32: Q/Q chg (m) | C32: =C30-Inputs!F160 -> 13 | D32: =D30-C30 -> 30 | E32: =E30-D30 -> 7 | F32: =F30-E30 -> 11 | G32: n.a. | H32: =H30-F30 -> 6
B33: Average Ad-Supported MAUs | C33: =(C24+C30)/2 -> 439.5 | D33: =(D24+D30)/2 -> 461 | E33: =(E24+E30)/2 -> 479.5 | F33: =(F24+F30)/2 -> 488.5 | G33: =(Inputs!D160+2*Inputs!E160+2*Inputs!F160+2*C30+D30)/8 -> 438.125 | H33: =(H24+H30)/2 -> 497
B34: % Y/Y | C34: =IFERROR(IF(Inputs!C162<=0,"n.m.",C33/Inputs!C162-1),"n.a.") -> 0.10566038 | D34: =IFERROR(IF(Inputs!D162<=0,"n.m.",D33/Inputs!D162-1),"n.a.") -> 0.11487304 | E34: =IFERROR(IF(Inputs!E162<=0,"n.m.",E33/Inputs!E162-1),"n.a.") -> 0.13089623 | F34: =IFERROR(IF(Inputs!F162<=0,"n.m.",F33/Inputs!F162-1),"n.a.") -> 0.14135514 | G34: n.a. | H34: =IFERROR(IF(C33<=0,"n.m.",H33/C33-1),"n.a.") -> 0.13083049
B35: Q/Q chg (m) | C35: =C33-Inputs!F162 -> 11.5 | D35: =D33-C33 -> 21.5 | E35: =E33-D33 -> 18.5 | F35: =F33-E33 -> 9 | G35: n.a. | H35: =H33-F33 -> 8.5
B36: Overlap: subs + Ad MAUs − total MAUs | C36: ='Segment - Premium'!C16+C30-C16 -> 14 | D36: ='Segment - Premium'!D16+D30-D16 -> 15 | E36: ='Segment - Premium'!E16+E30-E16 -> 15 | F36: ='Segment - Premium'!F16+F30-F16 -> 17 | G36: ='Segment - Premium'!G16+G30-G16 -> 15 | H36: =F36 -> 17 | I36: 3Q26E held at 2Q26 level (assumption)
B37: Y/Y chg (m) | C37: =C36-Inputs!C165 -> 0 | D37: =D36-Inputs!D165 -> 2 | E37: =E36-Inputs!E165 -> 2 | F37: =F36-Inputs!F165 -> 4 | G37: =G36-Inputs!G165 -> 2 | H37: =H36-C36 -> 3
B38: Q/Q chg (m) | C38: =C36-Inputs!F165 -> 1 | D38: =D36-C36 -> 1 | E38: =E36-D36 -> 0 | F38: =F36-E36 -> 2 | G38: n.a. | H38: =H36-F36 -> 0
B39: Ad MAUs % of total MAUs | C39: =C30/C16 -> 0.62552595 | D39: =D30/D16 -> 0.63382157 | E39: =E30/E16 -> 0.6346912 | F39: =F30/F16 -> 0.63577864 | G39: =G30/G16 -> 0.63382157 | H39: =H30/H16 -> 0.63451777
B40: Y/Y chg (bps) | C40: =IFERROR((C39-Inputs!C167)*10000,"n.a.") -> -25.990533 | D40: =IFERROR((D39-Inputs!D167)*10000,"n.a.") -> 41.919416 | E40: =IFERROR((E39-Inputs!E167)*10000,"n.a.") -> 107.9739 | F40: =IFERROR((F39-Inputs!F167)*10000,"n.a.") -> 136.52199 | G40: =IFERROR((G39-Inputs!G167)*10000,"n.a.") -> 41.919416 | H40: =IFERROR((H39-C39)*10000,"n.a.") -> 89.918198
B41: Q/Q chg (bps) | C41: =IFERROR((C39-Inputs!F167)*10000,"n.a.") -> 33.995099 | D41: =IFERROR((D39-C39)*10000,"n.a.") -> 82.956245 | E41: =IFERROR((E39-D39)*10000,"n.a.") -> 8.6962456 | F41: =IFERROR((F39-E39)*10000,"n.a.") -> 10.8744 | G41: n.a. | H41: =IFERROR((H39-F39)*10000,"n.a.") -> -12.608693
B43: Ad monetization
B44: Ad rev per avg Ad MAU (EUR/period) | C44: =C52/C33 -> 0.99431172 | D44: =D52/D33 -> 1.1084599 | E44: =E52/E33 -> 0.80291971 | F44: =F52/F33 -> 0.91299898 | G44: =G52/G33 -> 4.0970043 | H44: =H52/H33 -> 0.94948566 | I44: EUR per quarter in C:F and H; FY25 G44 is EUR per year (divide by 4 for a quarterly equivalent) — not comparable to the quarterly columns
...

Sheet Income Statement
B2: Spotify Technology S.A. (NYSE: SPOT)
B3: Income Statement (IFRS)
B4: EUR millions, except per share; shares in millions
B5: Period | C5: 3Q25A | D5: 4Q25A | E5: 1Q26A | F5: 2Q26A | G5: FY25A | H5: 3Q26E | I5: Notes
B6: Period end | C6: 45930 | D6: 46022 | E6: 46112 | F6: 46203 | G6: 46022 | H6: 46295
B7: Days in period | C7: =C6-EOMONTH(C6,-3) -> 92 | D7: =D6-EOMONTH(D6,-3) -> 92 | E7: =E6-EOMONTH(E6,-3) -> 90 | F7: =F6-EOMONTH(F6,-3) -> 91 | G7: =G6-DATE(YEAR(G6)-1,12,31) -> 365 | H7: =H6-EOMONTH(H6,-3) -> 92
B9: Income statement (IFRS)
B10: Revenue | C10: 4272 | D10: 4531 | E10: 4533 | F10: 4777 | G10: =Inputs!E110+Inputs!F110+C10+D10 -> 17186 | H10: ='Revenue summary'!H28 -> 4968.8347 | I10: S7, S6, S5, S3; FY25 = sum of quarters (S9: 17,186)
B11: % Y/Y | C11: =IFERROR(IF(Inputs!C110<=0,"n.m.",C10/Inputs!C110-1),"n.a.") -> 0.071213641 | D11: =IFERROR(IF(Inputs!D110<=0,"n.m.",D10/Inputs!D110-1),"n.a.") -> 0.068128241 | E11: =IFERROR(IF(Inputs!E110<=0,"n.m.",E10/Inputs!E110-1),"n.a.") -> 0.081861575 | F11: =IFERROR(IF(Inputs!F110<=0,"n.m.",F10/Inputs!F110-1),"n.a.") -> 0.13927975 | G11: =IFERROR(IF(Inputs!G110<=0,"n.m.",G10/Inputs!G110-1),"n.a.") -> 0.096535443 | H11: =IFERROR(IF(C10<=0,"n.m.",H10/C10-1),"n.a.") -> 0.16311673
B12: % Q/Q | C12: =IFERROR(IF(Inputs!F110<=0,"n.m.",C10/Inputs!F110-1),"n.a.") -> 0.018840925 | D12: =IFERROR(IF(C10<=0,"n.m.",D10/C10-1),"n.a.") -> 0.060627341 | E12: =IFERROR(IF(D10<=0,"n.m.",E10/D10-1),"n.a.") -> 0.00044140366 | F12: =IFERROR(IF(E10<=0,"n.m.",F10/E10-1),"n.a.") -> 0.053827487 | G12: n.a. | H12: =IFERROR(IF(F10<=0,"n.m.",H10/F10-1),"n.a.") -> 0.040157976
B13: Cost of revenue | C13: 2921 | D13: 3032 | E13: 3038 | F13: 3181 | G13: =Inputs!E116+Inputs!F116+C13+D13 -> 11690 | H13: =H10-H15 -> 3327.7303
B14: % Y/Y | C14: =IFERROR(IF(Inputs!C116<=0,"n.m.",C13/Inputs!C116-1),"n.a.") -> 0.062954876 | D14: =IFERROR(IF(Inputs!D116<=0,"n.m.",D13/Inputs!D116-1),"n.a.") -> 0.054975644 | E14: =IFERROR(IF(Inputs!E116<=0,"n.m.",E13/Inputs!E116-1),"n.a.") -> 0.06075419 | F14: =IFERROR(IF(Inputs!F116<=0,"n.m.",F13/Inputs!F116-1),"n.a.") -> 0.10720501 | G14: =IFERROR(IF(Inputs!G116<=0,"n.m.",G13/Inputs!G116-1),"n.a.") -> 0.067677413 | H14: =IFERROR(IF(C13<=0,"n.m.",H13/C13-1),"n.a.") -> 0.13924352
B15: Gross profit | C15: =C10-C13 -> 1351 | D15: =D10-D13 -> 1499 | E15: =E10-E13 -> 1495 | F15: =F10-F13 -> 1596 | G15: =G10-G13 -> 5496 | H15: ='Segment - Premium'!H58+'Segment - Ad-Supported'!H68 -> 1641.1043
B16: % Y/Y | C16: =IFERROR(IF(Inputs!C117<=0,"n.m.",C15/Inputs!C117-1),"n.a.") -> 0.089516129 | D16: =IFERROR(IF(Inputs!D117<=0,"n.m.",D15/Inputs!D117-1),"n.a.") -> 0.095760234 | E16: =IFERROR(IF(Inputs!E117<=0,"n.m.",E15/Inputs!E117-1),"n.a.") -> 0.12745098 | F16: =IFERROR(IF(Inputs!F117<=0,"n.m.",F15/Inputs!F117-1),"n.a.") -> 0.20909091 | G16: =IFERROR(IF(Inputs!G117<=0,"n.m.",G15/Inputs!G117-1),"n.a.") -> 0.16342083 | H16: =IFERROR(IF(C15<=0,"n.m.",H15/C15-1),"n.a.") -> 0.21473303
B17: Gross margin | C17: =C15/C10 -> 0.31624532 | D17: =D15/D10 -> 0.33083205 | E17: =E15/E10 -> 0.32980366 | F17: =F15/F10 -> 0.3341009 | G17: =G15/G10 -> 0.31979518 | H17: =H15/H10 -> 0.33027952
B18: Y/Y chg (bps) | C18: =IFERROR((C17-Inputs!C120)*10000,"n.a.") -> 53.1252 | D18: =IFERROR((D17-Inputs!D120)*10000,"n.a.") -> 83.426541 | E18: =IFERROR((E17-Inputs!E120)*10000,"n.a.") -> 133.35882 | F18: =IFERROR((F17-Inputs!F120)*10000,"n.a.") -> 192.90502 | G18: =IFERROR((G17-Inputs!G120)*10000,"n.a.") -> 183.85114 | H18: =IFERROR((H17-C17)*10000,"n.a.") -> 140.34202
B19: Q/Q chg (bps) | C19: =IFERROR((C17-Inputs!F120)*10000,"n.a.") -> 14.349201 | D19: =IFERROR((D17-C17)*10000,"n.a.") -> 145.86728 | E19: =IFERROR((E17-D17)*10000,"n.a.") -> -10.283839 | F19: =IFERROR((F17-E17)*10000,"n.a.") -> 42.972381 | G19: n.a. | H19: =IFERROR((H17-F17)*10000,"n.a.") -> -38.213796
B20: Check: segment GP − gross profit | C20: =ROUND('Segment - Premium'!C58+'Segment - Ad-Supported'!C68-C15,6) -> 0 | D20: =ROUND('Segment - Premium'!D58+'Segment - Ad-Supported'!D68-D15,6) -> 0 | E20: =ROUND('Segment - Premium'!E58+'Segment - Ad-Supported'!E68-E15,6) -> 0 | F20: =ROUND('Segment - Premium'!F58+'Segment - Ad-Supported'!F68-F15,6) -> 0 | G20: =ROUND('Segment - Premium'!G58+'Segment - Ad-Supported'!G68-G15,6) -> 0 | H20: =ROUND('Segment - Premium'!H58+'Segment - Ad-Supported'!H68-H15,6) -> 0 | I20: Check: segment gross profit − gross profit
B21: Research and development | C21: 309 | D21: 290 | E21: 331 | F21: 403 | G21: =Inputs!E123+Inputs!F123+C21+D21 -> 1393 | H21: =H99+H91*H101 -> 416.41813
B22: % Y/Y | C22: =IFERROR(IF(Inputs!C123<=0,"n.m.",C21/Inputs!C123-1),"n.a.") -> -0.096491228 | D22: =IFERROR(IF(Inputs!D123<=0,"n.m.",D21/Inputs!D123-1),"n.a.") -> -0.2287234 | E22: =IFERROR(IF(Inputs!E123<=0,"n.m.",E21/Inputs!E123-1),"n.a.") -> -0.12664908 | F22: =IFERROR(IF(Inputs!F123<=0,"n.m.",F21/Inputs!F123-1),"n.a.") -> -0.028915663 | G22: =IFERROR(IF(Inputs!G123<=0,"n.m.",G21/Inputs!G123-1),"n.a.") -> -0.062584118 | H22: =IFERROR(IF(C21<=0,"n.m.",H21/C21-1),"n.a.") -> 0.3476315
B23: % of revenue | C23: =C21/C10 -> 0.072331461 | D23: =D21/D10 -> 0.064003531 | E23: =E21/E10 -> 0.073020075 | F23: =F21/F10 -> 0.084362571 | G23: =G21/G10 -> 0.081054347 | H23: =H21/H10 -> 0.083805995
B24: Y/Y chg (bps) | C24: =IFERROR((C23-Inputs!C129)*10000,"n.a.") -> -134.25811 | D24: =IFERROR((D23-Inputs!D129)*10000,"n.a.") -> -246.33904 | E24: =IFERROR((E23-Inputs!E129)*10000,"n.a.") -> -174.33386 | F24: =IFERROR((F23-Inputs!F129)*10000,"n.a.") -> -146.11911 | G24: =IFERROR((G23-Inputs!G129)*10000,"n.a.") -> -137.58389 | H24: =IFERROR((H23-C23)*10000,"n.a.") -> 114.74535
B25: Q/Q chg (bps) | C25: =IFERROR((C23-Inputs!F129)*10000,"n.a.") -> -266.43021 | D25: =IFERROR((D23-C23)*10000,"n.a.") -> -83.279294 | E25: =IFERROR((E23-D23)*10000,"n.a.") -> 90.165438 | F25: =IFERROR((F23-E23)*10000,"n.a.") -> 113.42496 | G25: n.a. | H25: =IFERROR((H23-F23)*10000,"n.a.") -> -5.5657523
B26: Sales and marketing | C26: 349 | D26: 399 | E26: 342 | F26: 390 | G26: =Inputs!E124+Inputs!F124+C26+D26 -> 1426 | H26: =H102+H91*H104 -> 404.93529
B27: % Y/Y | C27: =IFERROR(IF(Inputs!C124<=0,"n.m.",C26/Inputs!C124-1),"n.a.") -> 0.051204819 | D27: =IFERROR(IF(Inputs!D124<=0,"n.m.",D26/Inputs!D124-1),"n.a.") -> 0.015267176 | E27: =IFERROR(IF(Inputs!E124<=0,"n.m.",E26/Inputs!E124-1),"n.a.") -> 0.089171975 | F27: =IFERROR(IF(Inputs!F124<=0,"n.m.",F26/Inputs!F124-1),"n.a.") -> 0.071428571 | G27: =IFERROR(IF(Inputs!G124<=0,"n.m.",G26/Inputs!G124-1),"n.a.") -> 0.024425287 | H27: =IFERROR(IF(C26<=0,"n.m.",H26/C26-1),"n.a.") -> 0.16027304
B28: % of revenue | C28: =C26/C10 -> 0.081694757 | D28: =D26/D10 -> 0.088060031 | E28: =E26/E10 -> 0.075446724 | F28: =F26/F10 -> 0.081641197 | G28: =G26/G10 -> 0.082974514 | H28: =H26/H10 -> 0.081495022
B29: Y/Y chg (bps) | C29: =IFERROR((C28-Inputs!C130)*10000,"n.a.") -> -15.549927 | D29: =IFERROR((D28-Inputs!D130)*10000,"n.a.") -> -45.849479 | E29: =IFERROR((E28-Inputs!E130)*10000,"n.a.") -> 5.0638989 | F29: =IFERROR((F28-Inputs!F130)*10000,"n.a.") -> -51.701548 | G29: =IFERROR((G28-Inputs!G130)*10000,"n.a.") -> -58.406457 | H29: =IFERROR((H28-C28)*10000,"n.a.") -> -1.9973419
B30: Q/Q chg (bps) | C30: =IFERROR((C28-Inputs!F130)*10000,"n.a.") -> -51.165957 | D30: =IFERROR((D28-C28)*10000,"n.a.") -> 63.652743 | E30: =IFERROR((E28-D28)*10000,"n.a.") -> -126.13307 | F30: =IFERROR((F28-E28)*10000,"n.a.") -> 61.944734 | G30: n.a. | H30: =IFERROR((H28-F28)*10000,"n.a.") -> -1.4617504
B31: General and administrative | C31: 111 | D31: 109 | E31: 107 | F31: 148 | G31: =Inputs!E125+Inputs!F125+C31+D31 -> 479 | H31: =H105+H91*H107 -> 151.44775
B32: % Y/Y | C32: =IFERROR(IF(Inputs!C125<=0,"n.m.",C31/Inputs!C125-1),"n.a.") -> -0.0089285714 | D32: =IFERROR(IF(Inputs!D125<=0,"n.m.",D31/Inputs!D125-1),"n.a.") -> -0.10655738 | E32: =IFERROR(IF(Inputs!E125<=0,"n.m.",E31/Inputs!E125-1),"n.a.") -> -0.13709677 | F32: =IFERROR(IF(Inputs!F125<=0,"n.m.",F31/Inputs!F125-1),"n.a.") -> 0.096296296 | G32: =IFERROR(IF(Inputs!G125<=0,"n.m.",G31/Inputs!G125-1),"n.a.") -> -0.0041580042 | H32: =IFERROR(IF(C31<=0,"n.m.",H31/C31-1),"n.a.") -> 0.36439416
B33: % of revenue | C33: =C31/C10 -> 0.025983146 | D33: =D31/D10 -> 0.0240565 | E33: =E31/E10 -> 0.023604677 | F33: =F31/F10 -> 0.030981788 | G33: =G31/G10 -> 0.027871523 | H33: =H31/H10 -> 0.030479531
B34: Y/Y chg (bps) | C34: =IFERROR((C33-Inputs!C131)*10000,"n.a.") -> -21.011067 | D34: =IFERROR((D33-Inputs!D131)*10000,"n.a.") -> -47.035192 | E34: =IFERROR((E33-Inputs!E131)*10000,"n.a.") -> -59.895953 | F34: =IFERROR((F33-Inputs!F131)*10000,"n.a.") -> -12.147303 | G34: =IFERROR((G33-Inputs!G131)*10000,"n.a.") -> -28.181978 | H34: =IFERROR((H33-C33)*10000,"n.a.") -> 44.963853
B35: Q/Q chg (bps) | C35: =IFERROR((C33-Inputs!F131)*10000,"n.a.") -> -62.133719 | D35: =IFERROR((D33-C33)*10000,"n.a.") -> -19.266464 | E35: =IFERROR((E33-D33)*10000,"n.a.") -> -4.5182285 | F35: =IFERROR((F33-E33)*10000,"n.a.") -> 73.771109 | G35: n.a. | H35: =IFERROR((H33-F33)*10000,"n.a.") -> -5.022564
B36: Total operating expenses | C36: =SUM(C21,C26,C31) -> 769 | D36: =SUM(D21,D26,D31) -> 798 | E36: =SUM(E21,E26,E31) -> 780 | F36: =SUM(F21,F26,F31) -> 941 | G36: =SUM(G21,G26,G31) -> 3298 | H36: =SUM(H21,H26,H31) -> 972.80118
B37: % Y/Y | C37: =IFERROR(IF(Inputs!C126<=0,"n.m.",C36/Inputs!C126-1),"n.a.") -> -0.021628499 | D37: =IFERROR(IF(Inputs!D126<=0,"n.m.",D36/Inputs!D126-1),"n.a.") -> -0.1043771 | E37: =IFERROR(IF(Inputs!E126<=0,"n.m.",E36/Inputs!E126-1),"n.a.") -> -0.045287638 | F37: =IFERROR(IF(Inputs!F126<=0,"n.m.",F36/Inputs!F126-1),"n.a.") -> 0.029540481 | G37: =IFERROR(IF(Inputs!G126<=0,"n.m.",G36/Inputs!G126-1),"n.a.") -> -0.018160167 | H37: =IFERROR(IF(C36<=0,"n.m.",H36/C36-1),"n.a.") -> 0.26502104
B38: Opex % of revenue | C38: =C36/C10 -> 0.18000936 | D38: =D36/D10 -> 0.17612006 | E38: =E36/E10 -> 0.17207148 | F38: =F36/F10 -> 0.19698556 | G38: =G36/G10 -> 0.19190038 | H38: =H36/H10 -> 0.19578055
B39: Y/Y chg (bps) | C39: =IFERROR((C38-Inputs!C132)*10000,"n.a.") -> -170.81911 | D39: =IFERROR((D38-Inputs!D132)*10000,"n.a.") -> -339.22371 | E39: =IFERROR((E38-Inputs!E132)*10000,"n.a.") -> -229.16591 | F39: =IFERROR((F38-Inputs!F132)*10000,"n.a.") -> -209.96796 | G39: =IFERROR((G38-Inputs!G132)*10000,"n.a.") -> -224.17232 | H39: =IFERROR((H38-C38)*10000,"n.a.") -> 157.71186
B40: Q/Q chg (bps) | C40: =IFERROR((C38-Inputs!F132)*10000,"n.a.") -> -379.72988 | D40: =IFERROR((D38-C38)*10000,"n.a.") -> -38.893015 | E40: =IFERROR((E38-D38)*10000,"n.a.") -> -40.48586 | F40: =IFERROR((F38-E38)*10000,"n.a.") -> 249.1408 | G40: n.a. | H40: =IFERROR((H38-F38)*10000,"n.a.") -> -12.050067
B41: Operating income | C41: =C15-C36 -> 582 | D41: =D15-D36 -> 701 | E41: =E15-E36 -> 715 | F41: =F15-F36 -> 655 | G41: =G15-G36 -> 2198 | H41: =H15-H36 -> 668.30315
B42: % Y/Y | C42: =IFERROR(IF(Inputs!C127<=0,"n.m.",C41/Inputs!C127-1),"n.a.") -> 0.28193833 | D42: =IFERROR(IF(Inputs!D127<=0,"n.m.",D41/Inputs!D127-1),"n.a.") -> 0.46960168 | E42: =IFERROR(IF(Inputs!E127<=0,"n.m.",E41/Inputs!E127-1),"n.a.") -> 0.40471513 | F42: =IFERROR(IF(Inputs!F127<=0,"n.m.",F41/Inputs!F127-1),"n.a.") -> 0.61330049 | G42: =IFERROR(IF(Inputs!G127<=0,"n.m.",G41/Inputs!G127-1),"n.a.") -> 0.61025641 | H42: =IFERROR(IF(C41<=0,"n.m.",H41/C41-1),"n.a.") -> 0.1482872
...

Sheet Balance Sheet
B2: Spotify Technology S.A. (NYSE: SPOT)
B3: Balance Sheet (IFRS)
B4: EUR millions, except per share
B5: Period | C5: 3Q25A | D5: 4Q25A | E5: 1Q26A | F5: 2Q26A | G5: FY25A | H5: 3Q26E | I5: Notes
B6: Period end | C6: 45930 | D6: 46022 | E6: 46112 | F6: 46203 | G6: 46022 | H6: 46295
B7: Days in period | C7: =C6-EOMONTH(C6,-3) -> 92 | D7: =D6-EOMONTH(D6,-3) -> 92 | E7: =E6-EOMONTH(E6,-3) -> 90 | F7: =F6-EOMONTH(F6,-3) -> 91 | G7: =G6-DATE(YEAR(G6)-1,12,31) -> 365 | H7: =H6-EOMONTH(H6,-3) -> 92
B9: Assets
B10: Lease right-of-use assets | C10: 242 | D10: 234 | E10: 227 | F10: 225 | G10: =D10 -> 234 | H10: =F10 -> 225 | I10: 3Q26E held flat; ROU depreciation is netted in PP&E (H11) — asset-allocation simplification
B11: Property and equipment | C11: 174 | D11: 188 | E11: 182 | F11: 193 | G11: =D11 -> 188 | H11: =F11-'Cash Flow Statement'!H31-'Cash Flow Statement'!H11-'Cash Flow Statement'!H12 -> 185 | I11: 3Q26E: + capex − total D&A (ROU depreciation and intangible amortization netted here while ROU/intangibles are held flat; no non-cash lease addition) — simplification, total assets unaffected
B12: Goodwill | C12: 1078 | D12: 1083 | E12: 1099 | F12: 1110 | G12: =D12 -> 1083 | H12: =F12 -> 1110
B13: Intangible assets | C13: 33 | D13: 41 | E13: 41 | F13: 36 | G13: =D13 -> 41 | H13: =F13 -> 36 | I13: 3Q26E held flat; amortization is netted in PP&E (H11) — asset-allocation simplification
B14: Long term investments | C14: 2888 | D14: 2181 | E14: 1194 | F14: 1118 | G14: =D14 -> 2181 | H14: =F14 -> 1118 | I14: TME/DistroKid at FV through OCI; not forecast
B15: Restricted cash & other NC assets | C15: 61 | D15: 61 | E15: 59 | F15: 56 | G15: =D15 -> 61 | H15: =F15 -> 56 | I15: Restricted cash and other non-current assets
B16: Finance lease receivables | C16: 69 | D16: 69 | E16: 71 | F16: 71 | G16: =D16 -> 69 | H16: =F16 -> 71
B17: Deferred tax assets | C17: 87 | D17: 662 | E17: 596 | F17: 563 | G17: =D17 -> 662 | H17: =F17 -> 563
B18: Total non-current assets | C18: =SUM(C10:C17) -> 4632 | D18: =SUM(D10:D17) -> 4519 | E18: =SUM(E10:E17) -> 3469 | F18: =SUM(F10:F17) -> 3372 | G18: =SUM(G10:G17) -> 4519 | H18: =SUM(H10:H17) -> 3364
B19: Trade and other receivables | C19: 735 | D19: 802 | E19: 683 | F19: 780 | G19: =D19 -> 802 | H19: =F19-'Cash Flow Statement'!H19 -> 810
B20: Income tax receivable | C20: 117 | D20: 116 | E20: 94 | F20: 92 | G20: =D20 -> 116 | H20: =F20 -> 92
B21: Short term investments | C21: 3606 | D21: 4209 | E21: 3491 | F21: 3450 | G21: =D21 -> 4209 | H21: =F21-'Cash Flow Statement'!H32-'Cash Flow Statement'!H33 -> 3450
B22: Cash and cash equivalents | C22: 5456 | D22: 5258 | E22: 5255 | F22: 5938 | G22: =D22 -> 5258 | H22: ='Cash Flow Statement'!H50 -> 6394.3032
B23: Other current assets | C23: 143 | D23: 111 | E23: 136 | F23: 116 | G23: =D23 -> 111 | H23: =F23 -> 116
B24: Total current assets | C24: =SUM(C19:C23) -> 10057 | D24: =SUM(D19:D23) -> 10496 | E24: =SUM(E19:E23) -> 9659 | F24: =SUM(F19:F23) -> 10376 | G24: =SUM(G19:G23) -> 10496 | H24: =SUM(H19:H23) -> 10862.303
B25: Total assets | C25: =C18+C24 -> 14689 | D25: =D18+D24 -> 15015 | E25: =E18+E24 -> 13128 | F25: =F18+F24 -> 13748 | G25: =G18+G24 -> 15015 | H25: =H18+H24 -> 14226.303
B27: Equity
B28: Share capital | C28: 0 | D28: 0 | E28: 0 | F28: 0 | G28: =D28 -> 0 | H28: =F28 -> 0 | I28: Less than EUR 0.5m (shown as —)
B29: Other paid in capital | C29: 6459 | D29: 6496 | E29: 6560 | F29: 6624 | G29: =D29 -> 6496 | H29: =F29+'Cash Flow Statement'!H40 -> 6669
B30: Treasury shares | C30: -328 | D30: -701 | E30: -1007 | F30: -1248 | G30: =D30 -> -701 | H30: =F30+'Cash Flow Statement'!H41 -> -1578
B31: Other reserves | C31: 3654 | D31: 3366 | E31: 2581 | F31: 2588 | G31: =D31 -> 3366 | H31: =F31+'Cash Flow Statement'!H14+'Cash Flow Statement'!H44 -> 2643 | I31: 3Q26E: + SBC − RSU taxes withheld; OCI not forecast
B32: Retained earnings/(accumulated deficit) | C32: -2006 | D32: -832 | E32: -124 | F32: 421 | G32: =D32 -> -832 | H32: =F32+'Income Statement'!H56 -> 966.83494
B33: Equity attributable to parent | C33: =SUM(C28:C32) -> 7779 | D33: =SUM(D28:D32) -> 8329 | E33: =SUM(E28:E32) -> 8010 | F33: =SUM(F28:F32) -> 8385 | G33: =SUM(G28:G32) -> 8329 | H33: =SUM(H28:H32) -> 8700.8349 | I33: Equity attributable to owners of the parent
B35: Liabilities
B36: Exchangeable Notes (non-current) | C36: 0 | D36: 0 | E36: 0 | F36: 0 | G36: =D36 -> 0 | H36: =F36 -> 0
B37: Lease liabilities | C37: 444 | D37: 433 | E37: 414 | F37: 404 | G37: =D37 -> 433 | H37: =F37+'Cash Flow Statement'!H42 -> 388 | I37: 3Q26E: less lease principal payments only (no new leases) — simplification
B38: Accrued exp. & other liabilities (NC) | C38: 1 | D38: 2 | E38: 2 | F38: 2 | G38: =D38 -> 2 | H38: =F38 -> 2 | I38: Accrued expenses and other liabilities (non-current)
B39: Provisions (non-current) | C39: 3 | D39: 3 | E39: 3 | F39: 13 | G39: =D39 -> 3 | H39: =F39 -> 13
B40: Deferred tax liabilities | C40: 223 | D40: 163 | E40: 11 | F40: 30 | G40: =D40 -> 163 | H40: =F40 -> 30
B41: Total non-current liabilities | C41: =SUM(C36:C40) -> 671 | D41: =SUM(D36:D40) -> 601 | E41: =SUM(E36:E40) -> 430 | F41: =SUM(F36:F40) -> 449 | G41: =SUM(G36:G40) -> 601 | H41: =SUM(H36:H40) -> 433
B42: Trade and other payables | C42: 1193 | D42: 1194 | E42: 1250 | F42: 1325 | G42: =D42 -> 1194 | H42: =F42+'Cash Flow Statement'!H20 -> 1415
B43: Income tax payable | C43: 31 | D43: 72 | E43: 150 | F43: 171 | G43: =D43 -> 72 | H43: =F43+'Cash Flow Statement'!H17+'Cash Flow Statement'!H25 -> 239.46821 | I43: 3Q26E: + full tax expense (IS H52) − cash tax paid; no deferred-tax movement (DTA/DTL held flat) — simplification
B44: Deferred revenue | C44: 692 | D44: 711 | E44: 750 | F44: 778 | G44: =D44 -> 711 | H44: =F44+'Cash Flow Statement'!H21 -> 798
...

Sheet Cash Flow Statement
B2: Spotify Technology S.A. (NYSE: SPOT)
B3: Cash Flow Statement (IFRS)
B4: EUR millions, except per share
B5: Period | C5: 3Q25A | D5: 4Q25A | E5: 1Q26A | F5: 2Q26A | G5: FY25A | H5: 3Q26E | I5: Notes
B6: Period end | C6: 45930 | D6: 46022 | E6: 46112 | F6: 46203 | G6: 46022 | H6: 46295
B7: Days in period | C7: =C6-EOMONTH(C6,-3) -> 92 | D7: =D6-EOMONTH(D6,-3) -> 92 | E7: =E6-EOMONTH(E6,-3) -> 90 | F7: =F6-EOMONTH(F6,-3) -> 91 | G7: =G6-DATE(YEAR(G6)-1,12,31) -> 365 | H7: =H6-EOMONTH(H6,-3) -> 92
B9: Operating activities
B10: Net income | C10: ='Income Statement'!C56 -> 899 | D10: ='Income Statement'!D56 -> 1174 | E10: ='Income Statement'!E56 -> 721 | F10: ='Income Statement'!F56 -> 545 | G10: ='Income Statement'!G56 -> 2212 | H10: ='Income Statement'!H56 -> 545.83494
B11: Depreciation (PP&E and ROU assets) | C11: 19 | D11: 20 | E11: 20 | F11: 24 | G11: =Inputs!E174+Inputs!F174+C11+D11 -> 79 | H11: 24 | I11: Depreciation of PP&E and lease ROU assets
B12: Amortization of intangible assets | C12: 5 | D12: 5 | E12: 6 | F12: 5 | G12: =Inputs!E175+Inputs!F175+C12+D12 -> 23 | H12: 5
B13: Impairment of real estate assets | C13: 5 | D13: 0 | E13: 4 | F13: 0 | G13: =Inputs!E176+Inputs!F176+C13+D13 -> 8 | H13: 0 | I13: Impairment charge on real estate assets
B14: Share-based compensation expense | C14: 75 | D14: 57 | E14: 56 | F14: 86 | G14: =Inputs!E177+Inputs!F177+C14+D14 -> 247 | H14: 85
B15: Finance income | C15: =-'Income Statement'!C47 -> -262 | D15: =-'Income Statement'!D47 -> -349 | E15: =-'Income Statement'!E47 -> -248 | F15: =-'Income Statement'!F47 -> -86 | G15: =-'Income Statement'!G47 -> -771 | H15: =-'Income Statement'!H47 -> -53 | I15: FY25 G15/G16 = sum of quarters (771) / 745, gross of FV swings (see IS I47); issuer FY25 CF presentation (292) / 266 (S6); net (26) and CFO identical
B16: Finance costs | C16: =-'Income Statement'!C48 -> 17 | D16: =-'Income Statement'!D48 -> 29 | E16: =-'Income Statement'!E48 -> 26 | F16: =-'Income Statement'!F48 -> 21 | G16: =-'Income Statement'!G48 -> 745 | H16: =-'Income Statement'!H48 -> 17
B17: Income tax expense/(benefit) | C17: ='Income Statement'!C52 -> -72 | D17: ='Income Statement'!D52 -> -153 | E17: ='Income Statement'!E52 -> 216 | F17: ='Income Statement'!F52 -> 175 | G17: ='Income Statement'!G52 -> 12 | H17: ='Income Statement'!H52 -> 158.46821
B18: Other | C18: 1 | D18: 1 | E18: -2 | F18: 1 | G18: =Inputs!E178+Inputs!F178+C18+D18 -> 10 | H18: 0
B19: (Incr.)/decr. in receivables & other | C19: -26 | D19: -66 | E19: 91 | F19: -80 | G19: =Inputs!E179+Inputs!F179+C19+D19 -> -115 | H19: -30 | I19: (Increase)/decrease in trade receivables and other assets
B20: Incr./(decr.) in trade & other liab. | C20: 100 | D20: 70 | E20: -94 | F20: 150 | G20: =Inputs!E180+Inputs!F180+C20+D20 -> 281 | H20: 90 | I20: Increase/(decrease) in trade and other liabilities
B21: Increase in deferred revenue | C21: 25 | D21: 20 | E21: 35 | F21: 25 | G21: =Inputs!E181+Inputs!F181+C21+D21 -> 60 | H21: 20
B22: Increase/(decrease) in provisions | C22: 2 | D22: 0 | E22: -3 | F22: -6 | G22: =Inputs!E182+Inputs!F182+C22+D22 -> 22 | H22: 0
B23: Interest paid | C23: -11 | D23: -6 | E23: -8 | F23: -7 | G23: =Inputs!E183+Inputs!F183+C23+D23 -> -36 | H23: =-H16 -> -17 | I23: 3Q26E simplification: interest paid = all P&L finance costs (−H16), incl. ~EUR 8m non-cash FX loss (IS H122); affects CFO/FCF/cash only (up to EUR 8m), not EPS
B24: Interest received | C24: 57 | D24: 58 | E24: 52 | F24: 48 | G24: =Inputs!E184+Inputs!F184+C24+D24 -> 242 | H24: =-H15 -> 53 | I24: 3Q26E simplification: interest received = all P&L finance income (−H15), no accrual timing; affects cash only, not EPS
B25: Income tax paid | C25: -5 | D25: -4 | E25: -36 | F25: -85 | G25: =Inputs!E185+Inputs!F185+C25+D25 -> -86 | H25: -90 | I25: 3Q26E assumption (2Q26: 85)
B26: Net cash flows from operating activities | C26: =SUM(C10:C25) -> 829 | D26: =SUM(D10:D25) -> 856 | E26: =SUM(E10:E25) -> 836 | F26: =SUM(F10:F25) -> 816 | G26: =SUM(G10:G25) -> 2933 | H26: =SUM(H10:H25) -> 808.30315
B28: Investing activities
B29: Business combinations, net of cash | C29: 0 | D29: -9 | E29: 0 | F29: 0 | G29: =Inputs!E187+Inputs!F187+C29+D29 -> -9 | H29: 0 | I29: Business combinations, net of cash acquired
B30: Deferred consideration paid | C30: 0 | D30: 0 | E30: 0 | F30: 0 | G30: =Inputs!E188+Inputs!F188+C30+D30 -> -9 | H30: 0 | I30: Payment of deferred consideration (business combinations)
B31: Purchases of property and equipment | C31: -23 | D31: -22 | E31: -5 | F31: -20 | G31: =Inputs!E189+Inputs!F189+C31+D31 -> -61 | H31: -21
B32: Purchases of ST investments | C32: -4783 | D32: -5916 | E32: -6740 | F32: -7301 | G32: =Inputs!E190+Inputs!F190+C32+D32 -> -19271 | H32: 0 | I32: 3Q26E: net STI flow assumed nil
B33: Sales/maturities of ST investments | C33: 4369 | D33: 5318 | E33: 7484 | F33: 7351 | G33: =Inputs!E191+Inputs!F191+C33+D33 -> 17545 | H33: 0 | I33: Sales and maturities of short term investments
B34: Change in restricted cash | C34: 0 | D34: 0 | E34: 1 | F34: 2 | G34: =Inputs!E192+Inputs!F192+C34+D34 -> 2 | H34: 0
B35: Dividends received | C35: 1 | D35: 0 | E35: 0 | F35: 29 | G35: =Inputs!E193+Inputs!F193+C35+D35 -> 23 | H35: 0
B36: Other investing | C36: -2 | D36: 0 | E36: -8 | F36: 1 | G36: =Inputs!E194+Inputs!F194+C36+D36 -> -5 | H36: 0
B37: Net cash flows from investing activities | C37: =SUM(C29:C36) -> -438 | D37: =SUM(D29:D36) -> -629 | E37: =SUM(E29:E36) -> 732 | F37: =SUM(F29:F36) -> 62 | G37: =SUM(G29:G36) -> -1785 | H37: =SUM(H29:H36) -> -21
B39: Financing activities
B40: Proceeds from stock option exercises | C40: 39 | D40: 37 | E40: 64 | F40: 64 | G40: =Inputs!E196+Inputs!F196+C40+D40 -> 372 | H40: 45 | I40: Proceeds from exercise of stock options
B41: Repurchases of ordinary shares | C41: -58 | D41: -381 | E41: -306 | F41: -232 | G41: =Inputs!E197+Inputs!F197+C41+D41 -> -439 | H41: -330 | I41: 3Q26E: program upsized by USD 1.5bn on 2026-08-20 (S3/IR news)
B42: Payments of lease liabilities | C42: -15 | D42: -14 | E42: -20 | F42: -16 | G42: =Inputs!E198+Inputs!F198+C42+D42 -> -73 | H42: -16
B43: Repayment of Exchangeable Notes | C43: 0 | D43: 0 | E43: -1304 | F43: 0 | G43: =Inputs!E199+Inputs!F199+C43+D43 -> 0 | H43: 0
B44: Taxes withheld on RSU releases | C44: -66 | D44: -60 | E44: -45 | F44: -34 | G44: =Inputs!E200+Inputs!F200+C44+D44 -> -241 | H44: -30 | I44: Employee taxes withheld on RSU releases
...

Sheet Geo
B2: Spotify Technology S.A. (NYSE: SPOT)
B3: Revenue by geography
B4: EUR millions, except per share
B5: Period | C5: 3Q25A | D5: 4Q25A | E5: 1Q26A | F5: 2Q26A | G5: FY25A | H5: 3Q26E | I5: Notes
B6: Period end | C6: 45930 | D6: 46022 | E6: 46112 | F6: 46203 | G6: 46022 | H6: 46295
B7: Days in period | C7: =C6-EOMONTH(C6,-3) -> 92 | D7: =D6-EOMONTH(D6,-3) -> 92 | E7: =E6-EOMONTH(E6,-3) -> 90 | F7: =F6-EOMONTH(F6,-3) -> 91 | G7: =G6-DATE(YEAR(G6)-1,12,31) -> 365 | H7: =H6-EOMONTH(H6,-3) -> 92
B9: Revenue by country (EUR m; issuer: Premium by subscription origin, Ad-Supported by campaign delivery)
B10: United States | C10: 1587 | D10: =Inputs!C238-Inputs!C235 -> 1641 | E10: =Inputs!C241-F10 -> 1592 | F10: 1734 | G10: =Inputs!E168+Inputs!F168+C10+D10 -> 6470 | H10: =H34*H36 -> 1803.6339 | I10: S8, S9, S4; 4Q25 = FY25 − 9M25 and 1Q26 = 1H26 − 2Q26 by formula (Inputs section F)
B11: % Y/Y | C11: =IFERROR(IF(Inputs!C168<=0,"n.m.",C10/Inputs!C168-1),"n.a.") -> 0.0063411541 | D11: =IFERROR(IF(Inputs!D168<=0,"n.m.",D10/Inputs!D168-1),"n.a.") -> -0.032999411 | E11: =IFERROR(IF(Inputs!E168<=0,"n.m.",E10/Inputs!E168-1),"n.a.") -> -0.035151515 | F11: =IFERROR(IF(Inputs!F168<=0,"n.m.",F10/Inputs!F168-1),"n.a.") -> 0.08919598 | G11: =IFERROR(IF(Inputs!G168<=0,"n.m.",G10/Inputs!G168-1),"n.a.") -> 0.054432855 | H11: =IFERROR(IF(C10<=0,"n.m.",H10/C10-1),"n.a.") -> 0.13650531
B12: % Q/Q | C12: =IFERROR(IF(Inputs!F168<=0,"n.m.",C10/Inputs!F168-1),"n.a.") -> -0.0031407035 | D12: =IFERROR(IF(C10<=0,"n.m.",D10/C10-1),"n.a.") -> 0.034026465 | E12: =IFERROR(IF(D10<=0,"n.m.",E10/D10-1),"n.a.") -> -0.029859842 | F12: =IFERROR(IF(E10<=0,"n.m.",F10/E10-1),"n.a.") -> 0.08919598 | G12: n.a. | H12: =IFERROR(IF(F10<=0,"n.m.",H10/F10-1),"n.a.") -> 0.040157976
B13: % of total revenue | C13: =C10/C34 -> 0.37148876 | D13: =D10/D34 -> 0.36217171 | E13: =E10/E34 -> 0.35120229 | F13: =F10/F34 -> 0.36298932 | G13: =G10/G34 -> 0.37646922 | H13: =H10/H34 -> 0.36298932
B14: Organic growth | C14: n.a. | D14: n.a. | E14: n.a. | F14: n.a. | G14: n.a. | H14: n.a. | I14: Unavailable: M&A not disclosed
B15: M&A / scope impact | C15: n.a. | D15: n.a. | E15: n.a. | F15: n.a. | G15: n.a. | H15: n.a. | I15: Not disclosed
B16: FX impact | C16: n.a. | D16: n.a. | E16: n.a. | F16: n.a. | G16: n.a. | H16: n.a. | I16: FX not disclosed by country
B17: Total Y/Y | C17: =C10/Inputs!C168-1 -> 0.0063411541 | D17: =D10/Inputs!D168-1 -> -0.032999411 | E17: =E10/Inputs!E168-1 -> -0.035151515 | F17: =F10/Inputs!F168-1 -> 0.08919598 | G17: =G10/Inputs!G168-1 -> 0.054432855 | H17: =H10/C10-1 -> 0.13650531
B18: Luxembourg | C18: 3 | D18: =Inputs!C239-Inputs!C236 -> 4 | E18: =Inputs!C242-F18 -> 3 | F18: 4 | G18: =Inputs!E169+Inputs!F169+C18+D18 -> 13 | H18: 4
B19: % Y/Y | C19: =IFERROR(IF(Inputs!C169<=0,"n.m.",C18/Inputs!C169-1),"n.a.") -> 0.5 | D19: =IFERROR(IF(Inputs!D169<=0,"n.m.",D18/Inputs!D169-1),"n.a.") -> 0.33333333 | E19: =IFERROR(IF(Inputs!E169<=0,"n.m.",E18/Inputs!E169-1),"n.a.") -> 0 | F19: =IFERROR(IF(Inputs!F169<=0,"n.m.",F18/Inputs!F169-1),"n.a.") -> 0.33333333 | G19: =IFERROR(IF(Inputs!G169<=0,"n.m.",G18/Inputs!G169-1),"n.a.") -> 0.3 | H19: =IFERROR(IF(C18<=0,"n.m.",H18/C18-1),"n.a.") -> 0.33333333
B20: % Q/Q | C20: =IFERROR(IF(Inputs!F169<=0,"n.m.",C18/Inputs!F169-1),"n.a.") -> 0 | D20: =IFERROR(IF(C18<=0,"n.m.",D18/C18-1),"n.a.") -> 0.33333333 | E20: =IFERROR(IF(D18<=0,"n.m.",E18/D18-1),"n.a.") -> -0.25 | F20: =IFERROR(IF(E18<=0,"n.m.",F18/E18-1),"n.a.") -> 0.33333333 | G20: n.a. | H20: =IFERROR(IF(F18<=0,"n.m.",H18/F18-1),"n.a.") -> 0
B21: % of total revenue | C21: =C18/C34 -> 0.00070224719 | D21: =D18/D34 -> 0.00088280733 | E21: =E18/E34 -> 0.00066181337 | F21: =F18/F34 -> 0.00083734561 | G21: =G18/G34 -> 0.00075642965 | H21: =H18/H34 -> 0.00080501773
B22: Organic growth | C22: n.a. | D22: n.a. | E22: n.a. | F22: n.a. | G22: n.a. | H22: n.a. | I22: Unavailable: M&A not disclosed
B23: M&A / scope impact | C23: n.a. | D23: n.a. | E23: n.a. | F23: n.a. | G23: n.a. | H23: n.a. | I23: Not disclosed
B24: FX impact | C24: n.a. | D24: n.a. | E24: n.a. | F24: n.a. | G24: n.a. | H24: n.a. | I24: FX not disclosed by country
B25: Total Y/Y | C25: =C18/Inputs!C169-1 -> 0.5 | D25: =D18/Inputs!D169-1 -> 0.33333333 | E25: =E18/Inputs!E169-1 -> 0 | F25: =F18/Inputs!F169-1 -> 0.33333333 | G25: =G18/Inputs!G169-1 -> 0.3 | H25: =H18/C18-1 -> 0.33333333
B26: Other countries | C26: 2682 | D26: =Inputs!C240-Inputs!C237 -> 2886 | E26: =Inputs!C243-F26 -> 2938 | F26: 3039 | G26: =Inputs!E170+Inputs!F170+C26+D26 -> 10703 | H26: =H34-H10-H18 -> 3161.2007 | I26: No other single country ≥10% of revenue (issuer)
B27: % Y/Y | C27: =IFERROR(IF(Inputs!C170<=0,"n.m.",C26/Inputs!C170-1),"n.a.") -> 0.11332503 | D27: =IFERROR(IF(Inputs!D170<=0,"n.m.",D26/Inputs!D170-1),"n.a.") -> 0.13532651 | E27: =IFERROR(IF(Inputs!E170<=0,"n.m.",E26/Inputs!E170-1),"n.a.") -> 0.1580607 | F27: =IFERROR(IF(Inputs!F170<=0,"n.m.",F26/Inputs!F170-1),"n.a.") -> 0.16974596 | G27: =IFERROR(IF(Inputs!G170<=0,"n.m.",G26/Inputs!G170-1),"n.a.") -> 0.12343865 | H27: =IFERROR(IF(C26<=0,"n.m.",H26/C26-1),"n.a.") -> 0.1786729
B28: % Q/Q | C28: =IFERROR(IF(Inputs!F170<=0,"n.m.",C26/Inputs!F170-1),"n.a.") -> 0.032332564 | D28: =IFERROR(IF(C26<=0,"n.m.",D26/C26-1),"n.a.") -> 0.07606264 | E28: =IFERROR(IF(D26<=0,"n.m.",E26/D26-1),"n.a.") -> 0.018018018 | F28: =IFERROR(IF(E26<=0,"n.m.",F26/E26-1),"n.a.") -> 0.034377127 | G28: n.a. | H28: =IFERROR(IF(F26<=0,"n.m.",H26/F26-1),"n.a.") -> 0.040210833
B29: % of total revenue | C29: =C26/C34 -> 0.62780899 | D29: =D26/D34 -> 0.63694549 | E29: =E26/E34 -> 0.64813589 | F29: =F26/F34 -> 0.63617333 | G29: =G26/G34 -> 0.62277435 | H29: =H26/H34 -> 0.63620566
B30: Organic growth | C30: n.a. | D30: n.a. | E30: n.a. | F30: n.a. | G30: n.a. | H30: n.a. | I30: Unavailable: M&A not disclosed
B31: M&A / scope impact | C31: n.a. | D31: n.a. | E31: n.a. | F31: n.a. | G31: n.a. | H31: n.a. | I31: Not disclosed
B32: FX impact | C32: n.a. | D32: n.a. | E32: n.a. | F32: n.a. | G32: n.a. | H32: n.a. | I32: FX not disclosed by country
B33: Total Y/Y | C33: =C26/Inputs!C170-1 -> 0.11332503 | D33: =D26/Inputs!D170-1 -> 0.13532651 | E33: =E26/Inputs!E170-1 -> 0.1580607 | F33: =F26/Inputs!F170-1 -> 0.16974596 | G33: =G26/Inputs!G170-1 -> 0.12343865 | H33: =H26/C26-1 -> 0.1786729
B34: Total revenue by country | C34: =C10+C18+C26 -> 4272 | D34: =D10+D18+D26 -> 4531 | E34: =E10+E18+E26 -> 4533 | F34: =F10+F18+F26 -> 4777 | G34: =G10+G18+G26 -> 17186 | H34: ='Income Statement'!H10 -> 4968.8347
