Workbook

Sheet Cover
B2: Lockheed Martin Corporation (NYSE: LMT)
B3: Company Model — built by Shortcut
B4: $ millions, except per share
B5: Period | C5: 3Q25A | D5: 4Q25A | E5: 1Q26A | F5: 2Q26A | G5: FY25A | H5: 3Q26E
B6: Period end | C6: 45928 | D6: 46022 | E6: 46110 | F6: 46201 | G6: 46022 | H6: 46292
B7: Days in period | C7: 91 | D7: 94 | E7: 88 | F7: 91 | G7: 365 | H7: 91
B9: Company profile
B10: Company | C10: Lockheed Martin Corporation
B11: Ticker / exchange | C11: LMT / New York Stock Exchange (NYSE:LMT)
B12: Fiscal year end | C12: December 31 (interim quarters close on the last Sunday of the quarter)
B13: Reporting currency | C13: USD; amounts in $ millions
B14: EPS basis | C14: Normalized diluted EPS per common share, USD (CapIQ); equals GAAP diluted EPS for LMT
B15: Forecast period | C15: FQ3 2026 — issuer quarter end 2026-09-27 (13 weeks); supplied label 2026-09-30
B16: Information cutoff | C16: 2026-10-18 21:34:46 UTC
B17: Expected report date | C17: 2026-10-22, before market open; call 08:30 ET (S16). CapIQ summary row shows 2026-10-20.
B18: Author | C18: Shortcut (model built by Shortcut)
B20: Headline: FQ3 2026 estimate vs consensus vs guidance
B21: Metric | C21: Shortcut estimate | D21: Consensus at cutoff (CapIQ) | E21: Variance | F21: Variance % | G21: Quarterly guidance midpoint | H21: FY26 guidance midpoint | I21: Basis / source
B22: Revenue ($M) | C22: ='Revenue summary'!H50 -> 20150.218 | D22: =Inputs!C43 -> 20462.89 | E22: =C22-D22 -> -312.672 | F22: =C22/D22-1 -> -0.015279953 | G22: Not issued | H22: =Guidance!G30 -> 80750 | I22: Net sales
B23: Net income ($M, consensus basis) | C23: ='Income Statement'!H137 -> 1733.5374 | D23: =Inputs!C56 -> 1743.18 | E23: =C23-D23 -> -9.6425646 | F23: =C23/D23-1 -> -0.0055315943 | G23: Not issued | H23: Not guided | I23: CapIQ net_income_excl_excep
B24: EPS — normalized diluted (consensus basis, $) | C24: ='Income Statement'!H138 -> 7.4979993 | D24: =Inputs!C25 -> 7.52 | E24: =C24-D24 -> -0.022000712 | F24: =C24/D24-1 -> -0.0029256266 | G24: Not issued | H24: =Guidance!G32 -> 30.3 | I24: CapIQ normalized mean, 14 est.
B25: EPS — GAAP diluted ($) | C25: ='Income Statement'!H123 -> 7.4979993 | D25: =Inputs!C34 -> 7.52 | E25: =C25-D25 -> -0.022000712 | F25: =C25/D25-1 -> -0.0029256266 | G25: Not issued | H25: =Guidance!G32 -> 30.3 | I25: CapIQ GAAP mean, 16 est.
B26: Overall check result | C26: =IF(AND(C40,C41,C42,C43,C44,C45,C46,C47,C48,C49,C50),"PASS","FAIL") -> PASS | D26: Scope: historical-column ties + 3Q26E balance-sheet balance are independent; other 3Q26E ties hold by construction (D40:D50, rows 52-55)
B27: P(beat consensus EPS) | C27: =Inputs!C132 -> 0.47
B28: Confidence | C28: =Inputs!C133 -> low
B30: Key forecast drivers (FQ3 2026E)
B31: Revenue growth Y/Y | C31: ='Revenue summary'!H51 -> 0.082821108
B32: Business segment operating margin | C32: ='Revenue summary'!H87 -> 0.10373491
B33: Net profit booking rate adjustments, memo ($M) | C33: ='Revenue summary'!H92 -> 290 | D33: Memo cross-check only, not a forecast driver: segment margins (segment row 180) are separate inputs; no EPS formula depends on it
B34: Consolidated operating profit ($M) | C34: ='Income Statement'!H58 -> 2366.2811
B35: Effective tax rate | C35: ='Income Statement'!H79 -> 0.159
B36: Weighted diluted shares (M) | C36: ='Income Statement'!H117 -> 231.2
B37: Free cash flow ($M) | C37: ='Cash Flow Statement'!H101 -> 2015.5374
B39: Check summary (detail in artifacts/checks.md)
B40: Revenue summary ties (segments, Geo, CapIQ revenue) | C40: =AND('Revenue summary'!C119:H119) -> TRUE | D40: 3Q26E column: true by construction (not an independent test)
B41: Segment - Aeronautics cuts tie | C41: =AND('Segment - Aeronautics'!C212:H212) -> TRUE | D41: 3Q26E column: true by construction (not an independent test)
B42: Segment - MFC cuts tie | C42: =AND('Segment - MFC'!C192:H192) -> TRUE | D42: 3Q26E column: true by construction (not an independent test)
B43: Segment - RMS cuts tie | C43: =AND('Segment - RMS'!C203:H203) -> TRUE | D43: 3Q26E column: true by construction (not an independent test)
B44: Segment - Space cuts tie | C44: =AND('Segment - Space'!C192:H192) -> TRUE | D44: 3Q26E column: true by construction (not an independent test)
B45: Income Statement ties (OP bridge, EPS, CapIQ EPS) | C45: =AND('Income Statement'!C146:H146) -> TRUE | D45: 3Q26E column: true by construction (not an independent test)
...

Sheet Revenue summary
B2: Lockheed Martin Corporation (NYSE: LMT)
B3: Revenue summary
B4: $ millions, except per share
B5: Period | C5: 3Q25A | D5: 4Q25A | E5: 1Q26A | F5: 2Q26A | G5: FY25A | H5: 3Q26E | J5: 3Q24A | K5: 4Q24A | L5: 1Q25A | M5: 2Q25A | N5: FY24A | O5: 9M24A YTD | P5: 9M25A YTD | R5: Notes / sources
B6: Period end | C6: 45928 | D6: 46022 | E6: 46110 | F6: 46201 | G6: 46022 | H6: 46292 | J6: 45564 | K6: 45657 | L6: 45746 | M6: 45837 | N6: 45657 | O6: 45564 | P6: 45928
B7: Days in period | C7: 91 | D7: 94 | E7: 88 | F7: 91 | G7: 365 | H7: 91 | J7: 91 | K7: 93 | L7: 89 | M7: 91 | N7: 366 | O7: 273 | P7: 271
J8: Memo: reported prior-year comparatives / YTD (inputs for Y/Y and derived quarters)
B9: Sales by reported segment
B10: Aeronautics sales | C10: ='Segment - Aeronautics'!C56 -> 7256 | D10: ='Segment - Aeronautics'!D56 -> 8524 | E10: ='Segment - Aeronautics'!E56 -> 6953 | F10: ='Segment - Aeronautics'!F56 -> 8112 | G10: ='Segment - Aeronautics'!G56 -> 30257 | H10: ='Segment - Aeronautics'!H56 -> 7800.086 | J10: ='Segment - Aeronautics'!J56 -> 6487 | K10: ='Segment - Aeronautics'!K56 -> 8009 | L10: ='Segment - Aeronautics'!L56 -> 7057 | M10: ='Segment - Aeronautics'!M56 -> 7420 | N10: ='Segment - Aeronautics'!N56 -> 28618 | O10: ='Segment - Aeronautics'!O56 -> 20609 | P10: ='Segment - Aeronautics'!P56 -> 21733 | R10: Segment - Aeronautics
B11: % Y/Y | C11: =IF(AND(ISNUMBER(C10),ISNUMBER(J10)),IF(OR(J10>0,AND(J10<0,C10<0)),C10/J10-1,"n/m"),"n/a") -> 0.11854478 | D11: =IF(AND(ISNUMBER(D10),ISNUMBER(K10)),IF(OR(K10>0,AND(K10<0,D10<0)),D10/K10-1,"n/m"),"n/a") -> 0.06430266 | E11: =IF(AND(ISNUMBER(E10),ISNUMBER(L10)),IF(OR(L10>0,AND(L10<0,E10<0)),E10/L10-1,"n/m"),"n/a") -> -0.01473714 | F11: =IF(AND(ISNUMBER(F10),ISNUMBER(M10)),IF(OR(M10>0,AND(M10<0,F10<0)),F10/M10-1,"n/m"),"n/a") -> 0.093261456 | G11: =IF(AND(ISNUMBER(G10),ISNUMBER(N10)),IF(OR(N10>0,AND(N10<0,G10<0)),G10/N10-1,"n/m"),"n/a") -> 0.057271647 | H11: =IF(AND(ISNUMBER(H10),ISNUMBER(C10)),IF(OR(C10>0,AND(C10<0,H10<0)),H10/C10-1,"n/m"),"n/a") -> 0.074984289
B12: % Q/Q | C12: =IF(AND(ISNUMBER(C10),ISNUMBER(M10)),IF(OR(M10>0,AND(M10<0,C10<0)),C10/M10-1,"n/m"),"n/a") -> -0.022102426 | D12: =IF(AND(ISNUMBER(D10),ISNUMBER(C10)),IF(OR(C10>0,AND(C10<0,D10<0)),D10/C10-1,"n/m"),"n/a") -> 0.17475193 | E12: =IF(AND(ISNUMBER(E10),ISNUMBER(D10)),IF(OR(D10>0,AND(D10<0,E10<0)),E10/D10-1,"n/m"),"n/a") -> -0.18430314 | F12: =IF(AND(ISNUMBER(F10),ISNUMBER(E10)),IF(OR(E10>0,AND(E10<0,F10<0)),F10/E10-1,"n/m"),"n/a") -> 0.16669064 | G12: n/a | H12: =IF(AND(ISNUMBER(H10),ISNUMBER(F10)),IF(OR(F10>0,AND(F10<0,H10<0)),H10/F10-1,"n/m"),"n/a") -> -0.038450937
B13: Δ Q/Q (abs.) | C13: =IF(AND(ISNUMBER(C10),ISNUMBER(M10)),C10-M10,"n/a") -> -164 | D13: =IF(AND(ISNUMBER(D10),ISNUMBER(C10)),D10-C10,"n/a") -> 1268 | E13: =IF(AND(ISNUMBER(E10),ISNUMBER(D10)),E10-D10,"n/a") -> -1571 | F13: =IF(AND(ISNUMBER(F10),ISNUMBER(E10)),F10-E10,"n/a") -> 1159 | G13: n/a | H13: =IF(AND(ISNUMBER(H10),ISNUMBER(F10)),H10-F10,"n/a") -> -311.914
B14: % of total revenue | C14: =IF(AND(ISNUMBER(C10),ISNUMBER(C50)),C10/C50,"n/a") -> 0.38991886 | D14: =IF(AND(ISNUMBER(D10),ISNUMBER(D50)),D10/D50,"n/a") -> 0.41946755 | E14: =IF(AND(ISNUMBER(E10),ISNUMBER(E50)),E10/E50,"n/a") -> 0.38582765 | F14: =IF(AND(ISNUMBER(F10),ISNUMBER(F50)),F10/F50,"n/a") -> 0.40432637 | G14: =IF(AND(ISNUMBER(G10),ISNUMBER(G50)),G10/G50,"n/a") -> 0.40316864 | H14: =IF(AND(ISNUMBER(H10),ISNUMBER(H50)),H10/H50,"n/a") -> 0.38709685 | J14: =IF(AND(ISNUMBER(J10),ISNUMBER(J50)),J10/J50,"n/a") -> 0.37926801 | K14: =IF(AND(ISNUMBER(K10),ISNUMBER(K50)),K10/K50,"n/a") -> 0.4300827 | L14: =IF(AND(ISNUMBER(L10),ISNUMBER(L50)),L10/L50,"n/a") -> 0.39286311 | M14: =IF(AND(ISNUMBER(M10),ISNUMBER(M50)),M10/M50,"n/a") -> 0.40870284 | N14: =IF(AND(ISNUMBER(N10),ISNUMBER(N50)),N10/N50,"n/a") -> 0.40282646 | O14: =IF(AND(ISNUMBER(O10),ISNUMBER(O50)),O10/O50,"n/a") -> 0.39314397 | P14: =IF(AND(ISNUMBER(P10),ISNUMBER(P50)),P10/P50,"n/a") -> 0.3971166
B15: Δ Y/Y (bps) | C15: =IF(AND(ISNUMBER(C14),ISNUMBER(J14)),(C14-J14)*10000,"n/a") -> 106.50849 | D15: =IF(AND(ISNUMBER(D14),ISNUMBER(K14)),(D14-K14)*10000,"n/a") -> -106.15152 | E15: =IF(AND(ISNUMBER(E14),ISNUMBER(L14)),(E14-L14)*10000,"n/a") -> -70.35462 | F15: =IF(AND(ISNUMBER(F14),ISNUMBER(M14)),(F14-M14)*10000,"n/a") -> -43.764648 | G15: =IF(AND(ISNUMBER(G14),ISNUMBER(N14)),(G14-N14)*10000,"n/a") -> 3.4218152 | H15: =IF(AND(ISNUMBER(H14),ISNUMBER(C14)),(H14-C14)*10000,"n/a") -> -28.220022
B16: Δ Q/Q (bps) | C16: =IF(AND(ISNUMBER(C14),ISNUMBER(M14)),(C14-M14)*10000,"n/a") -> -187.8398 | D16: =IF(AND(ISNUMBER(D14),ISNUMBER(C14)),(D14-C14)*10000,"n/a") -> 295.48689 | E16: =IF(AND(ISNUMBER(E14),ISNUMBER(D14)),(E14-D14)*10000,"n/a") -> -336.399 | F16: =IF(AND(ISNUMBER(F14),ISNUMBER(E14)),(F14-E14)*10000,"n/a") -> 184.98726 | G16: n/a | H16: =IF(AND(ISNUMBER(H14),ISNUMBER(F14)),(H14-F14)*10000,"n/a") -> -172.29518
B17: M&A / scope impact | C17: n/d | D17: n/d | E17: n/d | F17: n/d | G17: n/d | H17: n/d
B18: FX impact | C18: n/d | D18: n/d | E18: n/d | F18: n/d | G18: n/d | H18: n/d
B19: Organic growth | C19: =IF(AND(ISNUMBER(C11),ISNUMBER(C17),ISNUMBER(C18)),(1+C11)/((1+C17)*(1+C18))-1,"n/a") -> n/a | D19: =IF(AND(ISNUMBER(D11),ISNUMBER(D17),ISNUMBER(D18)),(1+D11)/((1+D17)*(1+D18))-1,"n/a") -> n/a | E19: =IF(AND(ISNUMBER(E11),ISNUMBER(E17),ISNUMBER(E18)),(1+E11)/((1+E17)*(1+E18))-1,"n/a") -> n/a | F19: =IF(AND(ISNUMBER(F11),ISNUMBER(F17),ISNUMBER(F18)),(1+F11)/((1+F17)*(1+F18))-1,"n/a") -> n/a | G19: =IF(AND(ISNUMBER(G11),ISNUMBER(G17),ISNUMBER(G18)),(1+G11)/((1+G17)*(1+G18))-1,"n/a") -> n/a | H19: =IF(AND(ISNUMBER(H11),ISNUMBER(H17),ISNUMBER(H18)),(1+H11)/((1+H17)*(1+H18))-1,"n/a") -> n/a
B20: MFC sales | C20: ='Segment - MFC'!C56 -> 3624 | D20: ='Segment - MFC'!D56 -> 4020 | E20: ='Segment - MFC'!E56 -> 3649 | F20: ='Segment - MFC'!F56 -> 4101 | G20: ='Segment - MFC'!G56 -> 14450 | H20: ='Segment - MFC'!H56 -> 4297.4298 | J20: ='Segment - MFC'!J56 -> 3175 | K20: ='Segment - MFC'!K56 -> 3412 | L20: ='Segment - MFC'!L56 -> 3373 | M20: ='Segment - MFC'!M56 -> 3433 | N20: ='Segment - MFC'!N56 -> 12682 | O20: ='Segment - MFC'!O56 -> 9270 | P20: ='Segment - MFC'!P56 -> 10430 | R20: Segment - MFC
B21: % Y/Y | C21: =IF(AND(ISNUMBER(C20),ISNUMBER(J20)),IF(OR(J20>0,AND(J20<0,C20<0)),C20/J20-1,"n/m"),"n/a") -> 0.14141732 | D21: =IF(AND(ISNUMBER(D20),ISNUMBER(K20)),IF(OR(K20>0,AND(K20<0,D20<0)),D20/K20-1,"n/m"),"n/a") -> 0.17819461 | E21: =IF(AND(ISNUMBER(E20),ISNUMBER(L20)),IF(OR(L20>0,AND(L20<0,E20<0)),E20/L20-1,"n/m"),"n/a") -> 0.081826267 | F21: =IF(AND(ISNUMBER(F20),ISNUMBER(M20)),IF(OR(M20>0,AND(M20<0,F20<0)),F20/M20-1,"n/m"),"n/a") -> 0.194582 | G21: =IF(AND(ISNUMBER(G20),ISNUMBER(N20)),IF(OR(N20>0,AND(N20<0,G20<0)),G20/N20-1,"n/m"),"n/a") -> 0.13941019 | H21: =IF(AND(ISNUMBER(H20),ISNUMBER(C20)),IF(OR(C20>0,AND(C20<0,H20<0)),H20/C20-1,"n/m"),"n/a") -> 0.185825
B22: % Q/Q | C22: =IF(AND(ISNUMBER(C20),ISNUMBER(M20)),IF(OR(M20>0,AND(M20<0,C20<0)),C20/M20-1,"n/m"),"n/a") -> 0.05563647 | D22: =IF(AND(ISNUMBER(D20),ISNUMBER(C20)),IF(OR(C20>0,AND(C20<0,D20<0)),D20/C20-1,"n/m"),"n/a") -> 0.10927152 | E22: =IF(AND(ISNUMBER(E20),ISNUMBER(D20)),IF(OR(D20>0,AND(D20<0,E20<0)),E20/D20-1,"n/m"),"n/a") -> -0.092288557 | F22: =IF(AND(ISNUMBER(F20),ISNUMBER(E20)),IF(OR(E20>0,AND(E20<0,F20<0)),F20/E20-1,"n/m"),"n/a") -> 0.12386955 | G22: n/a | H22: =IF(AND(ISNUMBER(H20),ISNUMBER(F20)),IF(OR(F20>0,AND(F20<0,H20<0)),H20/F20-1,"n/m"),"n/a") -> 0.047898025
B23: Δ Q/Q (abs.) | C23: =IF(AND(ISNUMBER(C20),ISNUMBER(M20)),C20-M20,"n/a") -> 191 | D23: =IF(AND(ISNUMBER(D20),ISNUMBER(C20)),D20-C20,"n/a") -> 396 | E23: =IF(AND(ISNUMBER(E20),ISNUMBER(D20)),E20-D20,"n/a") -> -371 | F23: =IF(AND(ISNUMBER(F20),ISNUMBER(E20)),F20-E20,"n/a") -> 452 | G23: n/a | H23: =IF(AND(ISNUMBER(H20),ISNUMBER(F20)),H20-F20,"n/a") -> 196.4298
B24: % of total revenue | C24: =IF(AND(ISNUMBER(C20),ISNUMBER(C50)),C20/C50,"n/a") -> 0.19474448 | D24: =IF(AND(ISNUMBER(D20),ISNUMBER(D50)),D20/D50,"n/a") -> 0.19782491 | E24: =IF(AND(ISNUMBER(E20),ISNUMBER(E50)),E20/E50,"n/a") -> 0.20248599 | F24: =IF(AND(ISNUMBER(F20),ISNUMBER(F50)),F20/F50,"n/a") -> 0.20440612 | G24: =IF(AND(ISNUMBER(G20),ISNUMBER(G50)),G20/G50,"n/a") -> 0.19254344 | H24: =IF(AND(ISNUMBER(H20),ISNUMBER(H50)),H20/H50,"n/a") -> 0.21326964 | J24: =IF(AND(ISNUMBER(J20),ISNUMBER(J50)),J20/J50,"n/a") -> 0.18562909 | K24: =IF(AND(ISNUMBER(K20),ISNUMBER(K50)),K20/K50,"n/a") -> 0.18322414 | L24: =IF(AND(ISNUMBER(L20),ISNUMBER(L50)),L20/L50,"n/a") -> 0.18777487 | M24: =IF(AND(ISNUMBER(M20),ISNUMBER(M50)),M20/M50,"n/a") -> 0.18909391 | N24: =IF(AND(ISNUMBER(N20),ISNUMBER(N50)),N20/N50,"n/a") -> 0.17851161 | O24: =IF(AND(ISNUMBER(O20),ISNUMBER(O50)),O20/O50,"n/a") -> 0.17683753 | P24: =IF(AND(ISNUMBER(P20),ISNUMBER(P50)),P20/P50,"n/a") -> 0.19058235
B25: Δ Y/Y (bps) | C25: =IF(AND(ISNUMBER(C24),ISNUMBER(J24)),(C24-J24)*10000,"n/a") -> 91.153859 | D25: =IF(AND(ISNUMBER(D24),ISNUMBER(K24)),(D24-K24)*10000,"n/a") -> 146.00767 | E25: =IF(AND(ISNUMBER(E24),ISNUMBER(L24)),(E24-L24)*10000,"n/a") -> 147.11118 | F25: =IF(AND(ISNUMBER(F24),ISNUMBER(M24)),(F24-M24)*10000,"n/a") -> 153.12207 | G25: =IF(AND(ISNUMBER(G24),ISNUMBER(N24)),(G24-N24)*10000,"n/a") -> 140.31833 | H25: =IF(AND(ISNUMBER(H24),ISNUMBER(C24)),(H24-C24)*10000,"n/a") -> 185.25165
B26: Δ Q/Q (bps) | C26: =IF(AND(ISNUMBER(C24),ISNUMBER(M24)),(C24-M24)*10000,"n/a") -> 56.50565 | D26: =IF(AND(ISNUMBER(D24),ISNUMBER(C24)),(D24-C24)*10000,"n/a") -> 30.804317 | E26: =IF(AND(ISNUMBER(E24),ISNUMBER(D24)),(E24-D24)*10000,"n/a") -> 46.610784 | F26: =IF(AND(ISNUMBER(F24),ISNUMBER(E24)),(F24-E24)*10000,"n/a") -> 19.201322 | G26: n/a | H26: =IF(AND(ISNUMBER(H24),ISNUMBER(F24)),(H24-F24)*10000,"n/a") -> 88.635223
B27: M&A / scope impact | C27: n/d | D27: n/d | E27: n/d | F27: n/d | G27: n/d | H27: n/d
B28: FX impact | C28: n/d | D28: n/d | E28: n/d | F28: n/d | G28: n/d | H28: n/d
B29: Organic growth | C29: =IF(AND(ISNUMBER(C21),ISNUMBER(C27),ISNUMBER(C28)),(1+C21)/((1+C27)*(1+C28))-1,"n/a") -> n/a | D29: =IF(AND(ISNUMBER(D21),ISNUMBER(D27),ISNUMBER(D28)),(1+D21)/((1+D27)*(1+D28))-1,"n/a") -> n/a | E29: =IF(AND(ISNUMBER(E21),ISNUMBER(E27),ISNUMBER(E28)),(1+E21)/((1+E27)*(1+E28))-1,"n/a") -> n/a | F29: =IF(AND(ISNUMBER(F21),ISNUMBER(F27),ISNUMBER(F28)),(1+F21)/((1+F27)*(1+F28))-1,"n/a") -> n/a | G29: =IF(AND(ISNUMBER(G21),ISNUMBER(G27),ISNUMBER(G28)),(1+G21)/((1+G27)*(1+G28))-1,"n/a") -> n/a | H29: =IF(AND(ISNUMBER(H21),ISNUMBER(H27),ISNUMBER(H28)),(1+H21)/((1+H27)*(1+H28))-1,"n/a") -> n/a
B30: RMS sales | C30: ='Segment - RMS'!C56 -> 4373 | D30: ='Segment - RMS'!D56 -> 4616 | E30: ='Segment - RMS'!E56 -> 3991 | F30: ='Segment - RMS'!F56 -> 4354 | G30: ='Segment - RMS'!G56 -> 17312 | H30: ='Segment - RMS'!H56 -> 4501.3766 | J30: ='Segment - RMS'!J56 -> 4367 | K30: ='Segment - RMS'!K56 -> 4261 | L30: ='Segment - RMS'!L56 -> 4328 | M30: ='Segment - RMS'!M56 -> 3995 | N30: ='Segment - RMS'!N56 -> 17264 | O30: ='Segment - RMS'!O56 -> 13003 | P30: ='Segment - RMS'!P56 -> 12696 | R30: Segment - RMS
B31: % Y/Y | C31: =IF(AND(ISNUMBER(C30),ISNUMBER(J30)),IF(OR(J30>0,AND(J30<0,C30<0)),C30/J30-1,"n/m"),"n/a") -> 0.0013739409 | D31: =IF(AND(ISNUMBER(D30),ISNUMBER(K30)),IF(OR(K30>0,AND(K30<0,D30<0)),D30/K30-1,"n/m"),"n/a") -> 0.083313776 | E31: =IF(AND(ISNUMBER(E30),ISNUMBER(L30)),IF(OR(L30>0,AND(L30<0,E30<0)),E30/L30-1,"n/m"),"n/a") -> -0.077865065 | F31: =IF(AND(ISNUMBER(F30),ISNUMBER(M30)),IF(OR(M30>0,AND(M30<0,F30<0)),F30/M30-1,"n/m"),"n/a") -> 0.089862328 | G31: =IF(AND(ISNUMBER(G30),ISNUMBER(N30)),IF(OR(N30>0,AND(N30<0,G30<0)),G30/N30-1,"n/m"),"n/a") -> 0.0027803522 | H31: =IF(AND(ISNUMBER(H30),ISNUMBER(C30)),IF(OR(C30>0,AND(C30<0,H30<0)),H30/C30-1,"n/m"),"n/a") -> 0.029356643
B32: % Q/Q | C32: =IF(AND(ISNUMBER(C30),ISNUMBER(M30)),IF(OR(M30>0,AND(M30<0,C30<0)),C30/M30-1,"n/m"),"n/a") -> 0.094618273 | D32: =IF(AND(ISNUMBER(D30),ISNUMBER(C30)),IF(OR(C30>0,AND(C30<0,D30<0)),D30/C30-1,"n/m"),"n/a") -> 0.05556826 | E32: =IF(AND(ISNUMBER(E30),ISNUMBER(D30)),IF(OR(D30>0,AND(D30<0,E30<0)),E30/D30-1,"n/m"),"n/a") -> -0.13539861 | F32: =IF(AND(ISNUMBER(F30),ISNUMBER(E30)),IF(OR(E30>0,AND(E30<0,F30<0)),F30/E30-1,"n/m"),"n/a") -> 0.090954648 | G32: n/a | H32: =IF(AND(ISNUMBER(H30),ISNUMBER(F30)),IF(OR(F30>0,AND(F30<0,H30<0)),H30/F30-1,"n/m"),"n/a") -> 0.033848553
B33: Δ Q/Q (abs.) | C33: =IF(AND(ISNUMBER(C30),ISNUMBER(M30)),C30-M30,"n/a") -> 378 | D33: =IF(AND(ISNUMBER(D30),ISNUMBER(C30)),D30-C30,"n/a") -> 243 | E33: =IF(AND(ISNUMBER(E30),ISNUMBER(D30)),E30-D30,"n/a") -> -625 | F33: =IF(AND(ISNUMBER(F30),ISNUMBER(E30)),F30-E30,"n/a") -> 363 | G33: n/a | H33: =IF(AND(ISNUMBER(H30),ISNUMBER(F30)),H30-F30,"n/a") -> 147.3766
B34: % of total revenue | C34: =IF(AND(ISNUMBER(C30),ISNUMBER(C50)),C30/C50,"n/a") -> 0.23499382 | D34: =IF(AND(ISNUMBER(D30),ISNUMBER(D50)),D30/D50,"n/a") -> 0.22715418 | E34: =IF(AND(ISNUMBER(E30),ISNUMBER(E50)),E30/E50,"n/a") -> 0.22146385 | F34: =IF(AND(ISNUMBER(F30),ISNUMBER(F50)),F30/F50,"n/a") -> 0.2170164 | G34: =IF(AND(ISNUMBER(G30),ISNUMBER(G50)),G30/G50,"n/a") -> 0.23067903 | H34: =IF(AND(ISNUMBER(H30),ISNUMBER(H50)),H30/H50,"n/a") -> 0.22339096 | J34: =IF(AND(ISNUMBER(J30),ISNUMBER(J50)),J30/J50,"n/a") -> 0.25532039 | K34: =IF(AND(ISNUMBER(K30),ISNUMBER(K50)),K30/K50,"n/a") -> 0.22881538 | L34: =IF(AND(ISNUMBER(L30),ISNUMBER(L50)),L30/L50,"n/a") -> 0.24093971 | M34: =IF(AND(ISNUMBER(M30),ISNUMBER(M50)),M30/M50,"n/a") -> 0.22004957 | N34: =IF(AND(ISNUMBER(N30),ISNUMBER(N50)),N30/N50,"n/a") -> 0.24300776 | O34: =IF(AND(ISNUMBER(O30),ISNUMBER(O50)),O30/O50,"n/a") -> 0.24804945 | P34: =IF(AND(ISNUMBER(P30),ISNUMBER(P50)),P30/P50,"n/a") -> 0.23198787
B35: Δ Y/Y (bps) | C35: =IF(AND(ISNUMBER(C34),ISNUMBER(J34)),(C34-J34)*10000,"n/a") -> -203.26573 | D35: =IF(AND(ISNUMBER(D34),ISNUMBER(K34)),(D34-K34)*10000,"n/a") -> -16.612042 | E35: =IF(AND(ISNUMBER(E34),ISNUMBER(L34)),(E34-L34)*10000,"n/a") -> -194.75862 | F35: =IF(AND(ISNUMBER(F34),ISNUMBER(M34)),(F34-M34)*10000,"n/a") -> -30.331748 | G35: =IF(AND(ISNUMBER(G34),ISNUMBER(N34)),(G34-N34)*10000,"n/a") -> -123.28724 | H35: =IF(AND(ISNUMBER(H34),ISNUMBER(C34)),(H34-C34)*10000,"n/a") -> -116.02857
B36: Δ Q/Q (bps) | C36: =IF(AND(ISNUMBER(C34),ISNUMBER(M34)),(C34-M34)*10000,"n/a") -> 149.44247 | D36: =IF(AND(ISNUMBER(D34),ISNUMBER(C34)),(D34-C34)*10000,"n/a") -> -78.396447 | E36: =IF(AND(ISNUMBER(E34),ISNUMBER(D34)),(E34-D34)*10000,"n/a") -> -56.903278 | F36: =IF(AND(ISNUMBER(F34),ISNUMBER(E34)),(F34-E34)*10000,"n/a") -> -44.474494 | G36: n/a | H36: =IF(AND(ISNUMBER(H34),ISNUMBER(F34)),(H34-F34)*10000,"n/a") -> 63.745645
B37: M&A / scope impact | C37: n/d | D37: n/d | E37: n/d | F37: n/d | G37: n/d | H37: n/d
B38: FX impact | C38: n/d | D38: n/d | E38: n/d | F38: n/d | G38: n/d | H38: n/d
B39: Organic growth | C39: =IF(AND(ISNUMBER(C31),ISNUMBER(C37),ISNUMBER(C38)),(1+C31)/((1+C37)*(1+C38))-1,"n/a") -> n/a | D39: =IF(AND(ISNUMBER(D31),ISNUMBER(D37),ISNUMBER(D38)),(1+D31)/((1+D37)*(1+D38))-1,"n/a") -> n/a | E39: =IF(AND(ISNUMBER(E31),ISNUMBER(E37),ISNUMBER(E38)),(1+E31)/((1+E37)*(1+E38))-1,"n/a") -> n/a | F39: =IF(AND(ISNUMBER(F31),ISNUMBER(F37),ISNUMBER(F38)),(1+F31)/((1+F37)*(1+F38))-1,"n/a") -> n/a | G39: =IF(AND(ISNUMBER(G31),ISNUMBER(G37),ISNUMBER(G38)),(1+G31)/((1+G37)*(1+G38))-1,"n/a") -> n/a | H39: =IF(AND(ISNUMBER(H31),ISNUMBER(H37),ISNUMBER(H38)),(1+H31)/((1+H37)*(1+H38))-1,"n/a") -> n/a
B40: Space sales | C40: ='Segment - Space'!C56 -> 3356 | D40: ='Segment - Space'!D56 -> 3161 | E40: ='Segment - Space'!E56 -> 3428 | F40: ='Segment - Space'!F56 -> 3496 | G40: ='Segment - Space'!G56 -> 13029 | H40: ='Segment - Space'!H56 -> 3551.3256 | J40: ='Segment - Space'!J56 -> 3075 | K40: ='Segment - Space'!K56 -> 2940 | L40: ='Segment - Space'!L56 -> 3205 | M40: ='Segment - Space'!M56 -> 3307 | N40: ='Segment - Space'!N56 -> 12479 | O40: ='Segment - Space'!O56 -> 9539 | P40: ='Segment - Space'!P56 -> 9868 | R40: Segment - Space
B41: % Y/Y | C41: =IF(AND(ISNUMBER(C40),ISNUMBER(J40)),IF(OR(J40>0,AND(J40<0,C40<0)),C40/J40-1,"n/m"),"n/a") -> 0.091382114 | D41: =IF(AND(ISNUMBER(D40),ISNUMBER(K40)),IF(OR(K40>0,AND(K40<0,D40<0)),D40/K40-1,"n/m"),"n/a") -> 0.075170068 | E41: =IF(AND(ISNUMBER(E40),ISNUMBER(L40)),IF(OR(L40>0,AND(L40<0,E40<0)),E40/L40-1,"n/m"),"n/a") -> 0.069578783 | F41: =IF(AND(ISNUMBER(F40),ISNUMBER(M40)),IF(OR(M40>0,AND(M40<0,F40<0)),F40/M40-1,"n/m"),"n/a") -> 0.057151497 | G41: =IF(AND(ISNUMBER(G40),ISNUMBER(N40)),IF(OR(N40>0,AND(N40<0,G40<0)),G40/N40-1,"n/m"),"n/a") -> 0.044074044 | H41: =IF(AND(ISNUMBER(H40),ISNUMBER(C40)),IF(OR(C40>0,AND(C40<0,H40<0)),H40/C40-1,"n/m"),"n/a") -> 0.058201907
...

Sheet Segment - Aeronautics
B2: Lockheed Martin Corporation (NYSE: LMT)
B3: Segment - Aeronautics — Aeronautics
B4: $ millions, except per share
B5: Period | C5: 3Q25A | D5: 4Q25A | E5: 1Q26A | F5: 2Q26A | G5: FY25A | H5: 3Q26E | J5: 3Q24A | K5: 4Q24A | L5: 1Q25A | M5: 2Q25A | N5: FY24A | O5: 9M24A YTD | P5: 9M25A YTD | R5: Notes / sources
B6: Period end | C6: 45928 | D6: 46022 | E6: 46110 | F6: 46201 | G6: 46022 | H6: 46292 | J6: 45564 | K6: 45657 | L6: 45746 | M6: 45837 | N6: 45657 | O6: 45564 | P6: 45928
B7: Days in period | C7: 91 | D7: 94 | E7: 88 | F7: 91 | G7: 365 | H7: 91 | J7: 91 | K7: 93 | L7: 89 | M7: 91 | N7: 366 | O7: 273 | P7: 271
J8: Memo: reported prior-year comparatives / YTD (inputs for Y/Y and derived quarters)
B9: Backlog ladder (remaining performance obligations)
B10: Opening backlog | C10: =M19 -> 52165 | D10: =C19 -> 47506 | E10: =D19 -> 59435 | F10: =E19 -> 55032 | G10: =N19 -> 62763 | H10: =F19 -> 54356 | K10: =J19 -> 50988 | L10: =K19 -> 62763 | M10: =L19 -> 57476 | N10: 60156 | R10: Prior period closing backlog
B11: % Y/Y | C11: =IF(AND(ISNUMBER(C10),ISNUMBER(J10)),IF(OR(J10>0,AND(J10<0,C10<0)),C10/J10-1,"n/m"),"n/a") -> n/a | D11: =IF(AND(ISNUMBER(D10),ISNUMBER(K10)),IF(OR(K10>0,AND(K10<0,D10<0)),D10/K10-1,"n/m"),"n/a") -> -0.068290578 | E11: =IF(AND(ISNUMBER(E10),ISNUMBER(L10)),IF(OR(L10>0,AND(L10<0,E10<0)),E10/L10-1,"n/m"),"n/a") -> -0.053024871 | F11: =IF(AND(ISNUMBER(F10),ISNUMBER(M10)),IF(OR(M10>0,AND(M10<0,F10<0)),F10/M10-1,"n/m"),"n/a") -> -0.042522096 | G11: =IF(AND(ISNUMBER(G10),ISNUMBER(N10)),IF(OR(N10>0,AND(N10<0,G10<0)),G10/N10-1,"n/m"),"n/a") -> 0.043337323 | H11: =IF(AND(ISNUMBER(H10),ISNUMBER(C10)),IF(OR(C10>0,AND(C10<0,H10<0)),H10/C10-1,"n/m"),"n/a") -> 0.042001342
B12: Δ Q/Q (abs.) | C12: =IF(AND(ISNUMBER(C10),ISNUMBER(M10)),C10-M10,"n/a") -> -5311 | D12: =IF(AND(ISNUMBER(D10),ISNUMBER(C10)),D10-C10,"n/a") -> -4659 | E12: =IF(AND(ISNUMBER(E10),ISNUMBER(D10)),E10-D10,"n/a") -> 11929 | F12: =IF(AND(ISNUMBER(F10),ISNUMBER(E10)),F10-E10,"n/a") -> -4403 | G12: n/a | H12: =IF(AND(ISNUMBER(H10),ISNUMBER(F10)),H10-F10,"n/a") -> -676
B13: Less: sales recognized | C13: =C56 -> 7256 | D13: =D56 -> 8524 | E13: =E56 -> 6953 | F13: =F56 -> 8112 | G13: =G56 -> 30257 | H13: =H56 -> 7800.086 | J13: =J56 -> 6487 | K13: =K56 -> 8009 | L13: =L56 -> 7057 | M13: =M56 -> 7420 | N13: =N56 -> 28618
B14: % Y/Y | C14: =IF(AND(ISNUMBER(C13),ISNUMBER(J13)),IF(OR(J13>0,AND(J13<0,C13<0)),C13/J13-1,"n/m"),"n/a") -> 0.11854478 | D14: =IF(AND(ISNUMBER(D13),ISNUMBER(K13)),IF(OR(K13>0,AND(K13<0,D13<0)),D13/K13-1,"n/m"),"n/a") -> 0.06430266 | E14: =IF(AND(ISNUMBER(E13),ISNUMBER(L13)),IF(OR(L13>0,AND(L13<0,E13<0)),E13/L13-1,"n/m"),"n/a") -> -0.01473714 | F14: =IF(AND(ISNUMBER(F13),ISNUMBER(M13)),IF(OR(M13>0,AND(M13<0,F13<0)),F13/M13-1,"n/m"),"n/a") -> 0.093261456 | G14: =IF(AND(ISNUMBER(G13),ISNUMBER(N13)),IF(OR(N13>0,AND(N13<0,G13<0)),G13/N13-1,"n/m"),"n/a") -> 0.057271647 | H14: =IF(AND(ISNUMBER(H13),ISNUMBER(C13)),IF(OR(C13>0,AND(C13<0,H13<0)),H13/C13-1,"n/m"),"n/a") -> 0.074984289
B15: Δ Q/Q (abs.) | C15: =IF(AND(ISNUMBER(C13),ISNUMBER(M13)),C13-M13,"n/a") -> -164 | D15: =IF(AND(ISNUMBER(D13),ISNUMBER(C13)),D13-C13,"n/a") -> 1268 | E15: =IF(AND(ISNUMBER(E13),ISNUMBER(D13)),E13-D13,"n/a") -> -1571 | F15: =IF(AND(ISNUMBER(F13),ISNUMBER(E13)),F13-E13,"n/a") -> 1159 | G15: n/a | H15: =IF(AND(ISNUMBER(H13),ISNUMBER(F13)),H13-F13,"n/a") -> -311.914
B16: Net orders (derived) | C16: =C19-C10+C13 -> 2597 | D16: =D19-D10+D13 -> 20453 | E16: =E19-E10+E13 -> 2550 | F16: =F19-F10+F13 -> 7436 | G16: =G19-G10+G13 -> 26929 | H16: =H25*H13 -> 7800.086 | J16: n/d | K16: =K19-K10+K13 -> 19784 | L16: =L19-L10+L13 -> 1770 | M16: =M19-M10+M13 -> 2109 | N16: =N19-N10+N13 -> 31225
B17: % Y/Y | C17: =IF(AND(ISNUMBER(C16),ISNUMBER(J16)),IF(OR(J16>0,AND(J16<0,C16<0)),C16/J16-1,"n/m"),"n/a") -> n/a | D17: =IF(AND(ISNUMBER(D16),ISNUMBER(K16)),IF(OR(K16>0,AND(K16<0,D16<0)),D16/K16-1,"n/m"),"n/a") -> 0.033815204 | E17: =IF(AND(ISNUMBER(E16),ISNUMBER(L16)),IF(OR(L16>0,AND(L16<0,E16<0)),E16/L16-1,"n/m"),"n/a") -> 0.44067797 | F17: =IF(AND(ISNUMBER(F16),ISNUMBER(M16)),IF(OR(M16>0,AND(M16<0,F16<0)),F16/M16-1,"n/m"),"n/a") -> 2.5258416 | G17: =IF(AND(ISNUMBER(G16),ISNUMBER(N16)),IF(OR(N16>0,AND(N16<0,G16<0)),G16/N16-1,"n/m"),"n/a") -> -0.13758207 | H17: =IF(AND(ISNUMBER(H16),ISNUMBER(C16)),IF(OR(C16>0,AND(C16<0,H16<0)),H16/C16-1,"n/m"),"n/a") -> 2.0034987
B18: Δ Q/Q (abs.) | C18: =IF(AND(ISNUMBER(C16),ISNUMBER(M16)),C16-M16,"n/a") -> 488 | D18: =IF(AND(ISNUMBER(D16),ISNUMBER(C16)),D16-C16,"n/a") -> 17856 | E18: =IF(AND(ISNUMBER(E16),ISNUMBER(D16)),E16-D16,"n/a") -> -17903 | F18: =IF(AND(ISNUMBER(F16),ISNUMBER(E16)),F16-E16,"n/a") -> 4886 | G18: n/a | H18: =IF(AND(ISNUMBER(H16),ISNUMBER(F16)),H16-F16,"n/a") -> 364.086
B19: Closing backlog | C19: 47506 | D19: 59435 | E19: 55032 | F19: 54356 | G19: =D19 -> 59435 | H19: =H10+H16-H13 -> 54356 | J19: 50988 | K19: 62763 | L19: 57476 | M19: 52165 | N19: =K19 -> 62763 | R19: S3,S5,S7,S9,S11,S12,S13 backlog tables
B20: % Y/Y | C20: =IF(AND(ISNUMBER(C19),ISNUMBER(J19)),IF(OR(J19>0,AND(J19<0,C19<0)),C19/J19-1,"n/m"),"n/a") -> -0.068290578 | D20: =IF(AND(ISNUMBER(D19),ISNUMBER(K19)),IF(OR(K19>0,AND(K19<0,D19<0)),D19/K19-1,"n/m"),"n/a") -> -0.053024871 | E20: =IF(AND(ISNUMBER(E19),ISNUMBER(L19)),IF(OR(L19>0,AND(L19<0,E19<0)),E19/L19-1,"n/m"),"n/a") -> -0.042522096 | F20: =IF(AND(ISNUMBER(F19),ISNUMBER(M19)),IF(OR(M19>0,AND(M19<0,F19<0)),F19/M19-1,"n/m"),"n/a") -> 0.042001342 | G20: =IF(AND(ISNUMBER(G19),ISNUMBER(N19)),IF(OR(N19>0,AND(N19<0,G19<0)),G19/N19-1,"n/m"),"n/a") -> -0.053024871 | H20: =IF(AND(ISNUMBER(H19),ISNUMBER(C19)),IF(OR(C19>0,AND(C19<0,H19<0)),H19/C19-1,"n/m"),"n/a") -> 0.14419231
B21: Δ Q/Q (abs.) | C21: =IF(AND(ISNUMBER(C19),ISNUMBER(M19)),C19-M19,"n/a") -> -4659 | D21: =IF(AND(ISNUMBER(D19),ISNUMBER(C19)),D19-C19,"n/a") -> 11929 | E21: =IF(AND(ISNUMBER(E19),ISNUMBER(D19)),E19-D19,"n/a") -> -4403 | F21: =IF(AND(ISNUMBER(F19),ISNUMBER(E19)),F19-E19,"n/a") -> -676 | G21: n/a | H21: =IF(AND(ISNUMBER(H19),ISNUMBER(F19)),H19-F19,"n/a") -> 0
B22: Average backlog | C22: =IF(AND(ISNUMBER(C10),ISNUMBER(C19)),(C10+C19)/2,"n/a") -> 49835.5 | D22: =IF(AND(ISNUMBER(D10),ISNUMBER(D19)),(D10+D19)/2,"n/a") -> 53470.5 | E22: =IF(AND(ISNUMBER(E10),ISNUMBER(E19)),(E10+E19)/2,"n/a") -> 57233.5 | F22: =IF(AND(ISNUMBER(F10),ISNUMBER(F19)),(F10+F19)/2,"n/a") -> 54694 | G22: =IF(AND(ISNUMBER(G10),ISNUMBER(G19)),(G10+G19)/2,"n/a") -> 61099 | H22: =IF(AND(ISNUMBER(H10),ISNUMBER(H19)),(H10+H19)/2,"n/a") -> 54356 | K22: =IF(AND(ISNUMBER(K10),ISNUMBER(K19)),(K10+K19)/2,"n/a") -> 56875.5 | L22: =IF(AND(ISNUMBER(L10),ISNUMBER(L19)),(L10+L19)/2,"n/a") -> 60119.5 | M22: =IF(AND(ISNUMBER(M10),ISNUMBER(M19)),(M10+M19)/2,"n/a") -> 54820.5 | N22: =IF(AND(ISNUMBER(N10),ISNUMBER(N19)),(N10+N19)/2,"n/a") -> 61459.5
B23: % Y/Y | C23: =IF(AND(ISNUMBER(C22),ISNUMBER(J22)),IF(OR(J22>0,AND(J22<0,C22<0)),C22/J22-1,"n/m"),"n/a") -> n/a | D23: =IF(AND(ISNUMBER(D22),ISNUMBER(K22)),IF(OR(K22>0,AND(K22<0,D22<0)),D22/K22-1,"n/m"),"n/a") -> -0.059867606 | E23: =IF(AND(ISNUMBER(E22),ISNUMBER(L22)),IF(OR(L22>0,AND(L22<0,E22<0)),E22/L22-1,"n/m"),"n/a") -> -0.048004391 | F23: =IF(AND(ISNUMBER(F22),ISNUMBER(M22)),IF(OR(M22>0,AND(M22<0,F22<0)),F22/M22-1,"n/m"),"n/a") -> -0.0023075309 | G23: =IF(AND(ISNUMBER(G22),ISNUMBER(N22)),IF(OR(N22>0,AND(N22<0,G22<0)),G22/N22-1,"n/m"),"n/a") -> -0.0058656514 | H23: =IF(AND(ISNUMBER(H22),ISNUMBER(C22)),IF(OR(C22>0,AND(C22<0,H22<0)),H22/C22-1,"n/m"),"n/a") -> 0.090708431
B24: Δ Q/Q (abs.) | C24: =IF(AND(ISNUMBER(C22),ISNUMBER(M22)),C22-M22,"n/a") -> -4985 | D24: =IF(AND(ISNUMBER(D22),ISNUMBER(C22)),D22-C22,"n/a") -> 3635 | E24: =IF(AND(ISNUMBER(E22),ISNUMBER(D22)),E22-D22,"n/a") -> 3763 | F24: =IF(AND(ISNUMBER(F22),ISNUMBER(E22)),F22-E22,"n/a") -> -2539.5 | G24: n/a | H24: =IF(AND(ISNUMBER(H22),ISNUMBER(F22)),H22-F22,"n/a") -> -338
B25: Book-to-bill (orders / sales) | C25: =IF(AND(ISNUMBER(C16)),C16/C13,"n/a") -> 0.35791069 | D25: =IF(AND(ISNUMBER(D16)),D16/D13,"n/a") -> 2.3994603 | E25: =IF(AND(ISNUMBER(E16)),E16/E13,"n/a") -> 0.36674817 | F25: =IF(AND(ISNUMBER(F16)),F16/F13,"n/a") -> 0.91666667 | G25: =IF(AND(ISNUMBER(G16)),G16/G13,"n/a") -> 0.89000892 | H25: 1 | K25: =IF(AND(ISNUMBER(K16)),K16/K13,"n/a") -> 2.470221 | L25: =IF(AND(ISNUMBER(L16)),L16/L13,"n/a") -> 0.25081479 | M25: =IF(AND(ISNUMBER(M16)),M16/M13,"n/a") -> 0.28423181 | N25: =IF(AND(ISNUMBER(N16)),N16/N13,"n/a") -> 1.0910965
B26: Δ Y/Y (x) | C26: =IF(AND(ISNUMBER(C25),ISNUMBER(J25)),C25-J25,"n/a") -> n/a | D26: =IF(AND(ISNUMBER(D25),ISNUMBER(K25)),D25-K25,"n/a") -> -0.070760654 | E26: =IF(AND(ISNUMBER(E25),ISNUMBER(L25)),E25-L25,"n/a") -> 0.11593337 | F26: =IF(AND(ISNUMBER(F25),ISNUMBER(M25)),F25-M25,"n/a") -> 0.63243486 | G26: =IF(AND(ISNUMBER(G25),ISNUMBER(N25)),G25-N25,"n/a") -> -0.20108759 | H26: =IF(AND(ISNUMBER(H25),ISNUMBER(C25)),H25-C25,"n/a") -> 0.64208931
B27: Δ Q/Q (x) | C27: =IF(AND(ISNUMBER(C25),ISNUMBER(M25)),C25-M25,"n/a") -> 0.073678889 | D27: =IF(AND(ISNUMBER(D25),ISNUMBER(C25)),D25-C25,"n/a") -> 2.0415497 | E27: =IF(AND(ISNUMBER(E25),ISNUMBER(D25)),E25-D25,"n/a") -> -2.0327122 | F27: =IF(AND(ISNUMBER(F25),ISNUMBER(E25)),F25-E25,"n/a") -> 0.5499185 | G27: n/a | H27: =IF(AND(ISNUMBER(H25),ISNUMBER(F25)),H25-F25,"n/a") -> 0.083333333
B28: Backlog conversion (% of opening) | C28: =C13/C10 -> 0.1390971 | D28: =D13/D10 -> 0.17942997 | E28: =E13/E10 -> 0.11698494 | F28: =F13/F10 -> 0.14740515 | G28: =G13/G10 -> 0.48208339 | H28: 0.1435 | K28: =K13/K10 -> 0.15707617 | L28: =L13/L10 -> 0.11243886 | M28: =M13/M10 -> 0.12909736 | N28: =N13/N10 -> 0.47572977
B29: Δ Y/Y (bps) | C29: =IF(AND(ISNUMBER(C28),ISNUMBER(J28)),(C28-J28)*10000,"n/a") -> n/a | D29: =IF(AND(ISNUMBER(D28),ISNUMBER(K28)),(D28-K28)*10000,"n/a") -> 223.53792 | E29: =IF(AND(ISNUMBER(E28),ISNUMBER(L28)),(E28-L28)*10000,"n/a") -> 45.460842 | F29: =IF(AND(ISNUMBER(F28),ISNUMBER(M28)),(F28-M28)*10000,"n/a") -> 183.07784 | G29: =IF(AND(ISNUMBER(G28),ISNUMBER(N28)),(G28-N28)*10000,"n/a") -> 63.536238 | H29: =IF(AND(ISNUMBER(H28),ISNUMBER(C28)),(H28-C28)*10000,"n/a") -> 44.029042
B30: Δ Q/Q (bps) | C30: =IF(AND(ISNUMBER(C28),ISNUMBER(M28)),(C28-M28)*10000,"n/a") -> 99.997334 | D30: =IF(AND(ISNUMBER(D28),ISNUMBER(C28)),(D28-C28)*10000,"n/a") -> 403.32871 | E30: =IF(AND(ISNUMBER(E28),ISNUMBER(D28)),(E28-D28)*10000,"n/a") -> -624.45025 | F30: =IF(AND(ISNUMBER(F28),ISNUMBER(E28)),(F28-E28)*10000,"n/a") -> 304.20205 | G30: n/a | H30: =IF(AND(ISNUMBER(H28),ISNUMBER(F28)),(H28-F28)*10000,"n/a") -> -39.051461
B31: Net change in backlog (closing - opening) | C31: =IF(AND(ISNUMBER(C19),ISNUMBER(C10)),C19-C10,"n/a") -> -4659 | D31: =IF(AND(ISNUMBER(D19),ISNUMBER(D10)),D19-D10,"n/a") -> 11929 | E31: =IF(AND(ISNUMBER(E19),ISNUMBER(E10)),E19-E10,"n/a") -> -4403 | F31: =IF(AND(ISNUMBER(F19),ISNUMBER(F10)),F19-F10,"n/a") -> -676 | G31: =IF(AND(ISNUMBER(G19),ISNUMBER(G10)),G19-G10,"n/a") -> -3328 | H31: =IF(AND(ISNUMBER(H19),ISNUMBER(H10)),H19-H10,"n/a") -> 0 | K31: =IF(AND(ISNUMBER(K19),ISNUMBER(K10)),K19-K10,"n/a") -> 11775 | L31: =IF(AND(ISNUMBER(L19),ISNUMBER(L10)),L19-L10,"n/a") -> -5287 | M31: =IF(AND(ISNUMBER(M19),ISNUMBER(M10)),M19-M10,"n/a") -> -5311 | N31: =IF(AND(ISNUMBER(N19),ISNUMBER(N10)),N19-N10,"n/a") -> 2607
B32: Δ Y/Y (abs.) | C32: =IF(AND(ISNUMBER(C31),ISNUMBER(J31)),C31-J31,"n/a") -> n/a | D32: =IF(AND(ISNUMBER(D31),ISNUMBER(K31)),D31-K31,"n/a") -> 154 | E32: =IF(AND(ISNUMBER(E31),ISNUMBER(L31)),E31-L31,"n/a") -> 884 | F32: =IF(AND(ISNUMBER(F31),ISNUMBER(M31)),F31-M31,"n/a") -> 4635 | G32: =IF(AND(ISNUMBER(G31),ISNUMBER(N31)),G31-N31,"n/a") -> -5935 | H32: =IF(AND(ISNUMBER(H31),ISNUMBER(C31)),H31-C31,"n/a") -> 4659
B33: Δ Q/Q (abs.) | C33: =IF(AND(ISNUMBER(C31),ISNUMBER(M31)),C31-M31,"n/a") -> 652 | D33: =IF(AND(ISNUMBER(D31),ISNUMBER(C31)),D31-C31,"n/a") -> 16588 | E33: =IF(AND(ISNUMBER(E31),ISNUMBER(D31)),E31-D31,"n/a") -> -16332 | F33: =IF(AND(ISNUMBER(F31),ISNUMBER(E31)),F31-E31,"n/a") -> 3727 | G33: n/a | H33: =IF(AND(ISNUMBER(H31),ISNUMBER(F31)),H31-F31,"n/a") -> 676
B35: Sales by product / service (reported components)
B36: Products | C36: 5807 | D36: =G36-P36 -> 7104 | E36: 5505 | F36: 6608 | G36: 24617 | H36: =H10*H28*H40 -> 6318.0697 | J36: 5550 | K36: =N36-O36 -> 6485 | L36: 5746 | M36: 5960 | N36: 23598 | O36: 17113 | P36: 17513 | R36: S3,S4 (2Q); S5,S6 (1Q); S9,S10 (3Q,9M); S8 (FY)
B37: % Y/Y | C37: =IF(AND(ISNUMBER(C36),ISNUMBER(J36)),IF(OR(J36>0,AND(J36<0,C36<0)),C36/J36-1,"n/m"),"n/a") -> 0.046306306 | D37: =IF(AND(ISNUMBER(D36),ISNUMBER(K36)),IF(OR(K36>0,AND(K36<0,D36<0)),D36/K36-1,"n/m"),"n/a") -> 0.095451041 | E37: =IF(AND(ISNUMBER(E36),ISNUMBER(L36)),IF(OR(L36>0,AND(L36<0,E36<0)),E36/L36-1,"n/m"),"n/a") -> -0.041942221 | F37: =IF(AND(ISNUMBER(F36),ISNUMBER(M36)),IF(OR(M36>0,AND(M36<0,F36<0)),F36/M36-1,"n/m"),"n/a") -> 0.10872483 | G37: =IF(AND(ISNUMBER(G36),ISNUMBER(N36)),IF(OR(N36>0,AND(N36<0,G36<0)),G36/N36-1,"n/m"),"n/a") -> 0.043181626 | H37: =IF(AND(ISNUMBER(H36),ISNUMBER(C36)),IF(OR(C36>0,AND(C36<0,H36<0)),H36/C36-1,"n/m"),"n/a") -> 0.088009241
B38: % Q/Q | C38: =IF(AND(ISNUMBER(C36),ISNUMBER(M36)),IF(OR(M36>0,AND(M36<0,C36<0)),C36/M36-1,"n/m"),"n/a") -> -0.025671141 | D38: =IF(AND(ISNUMBER(D36),ISNUMBER(C36)),IF(OR(C36>0,AND(C36<0,D36<0)),D36/C36-1,"n/m"),"n/a") -> 0.22335113 | E38: =IF(AND(ISNUMBER(E36),ISNUMBER(D36)),IF(OR(D36>0,AND(D36<0,E36<0)),E36/D36-1,"n/m"),"n/a") -> -0.22508446 | F38: =IF(AND(ISNUMBER(F36),ISNUMBER(E36)),IF(OR(E36>0,AND(E36<0,F36<0)),F36/E36-1,"n/m"),"n/a") -> 0.20036331 | G38: n/a | H38: =IF(AND(ISNUMBER(H36),ISNUMBER(F36)),IF(OR(F36>0,AND(F36<0,H36<0)),H36/F36-1,"n/m"),"n/a") -> -0.043875657
B39: Δ Q/Q (abs.) | C39: =IF(AND(ISNUMBER(C36),ISNUMBER(M36)),C36-M36,"n/a") -> -153 | D39: =IF(AND(ISNUMBER(D36),ISNUMBER(C36)),D36-C36,"n/a") -> 1297 | E39: =IF(AND(ISNUMBER(E36),ISNUMBER(D36)),E36-D36,"n/a") -> -1599 | F39: =IF(AND(ISNUMBER(F36),ISNUMBER(E36)),F36-E36,"n/a") -> 1103 | G39: n/a | H39: =IF(AND(ISNUMBER(H36),ISNUMBER(F36)),H36-F36,"n/a") -> -289.93034
B40: Products % of segment sales | C40: =IF(AND(ISNUMBER(C36),ISNUMBER(C56)),C36/C56,"n/a") -> 0.8003032 | D40: =IF(AND(ISNUMBER(D36),ISNUMBER(D56)),D36/D56,"n/a") -> 0.83341154 | E40: =IF(AND(ISNUMBER(E36),ISNUMBER(E56)),E36/E56,"n/a") -> 0.79174457 | F40: =IF(AND(ISNUMBER(F36),ISNUMBER(F56)),F36/F56,"n/a") -> 0.81459566 | G40: =IF(AND(ISNUMBER(G36),ISNUMBER(G56)),G36/G56,"n/a") -> 0.81359685 | H40: 0.81 | J40: =IF(AND(ISNUMBER(J36),ISNUMBER(J56)),J36/J56,"n/a") -> 0.85555727 | K40: =IF(AND(ISNUMBER(K36),ISNUMBER(K56)),K36/K56,"n/a") -> 0.80971407 | L40: =IF(AND(ISNUMBER(L36),ISNUMBER(L56)),L36/L56,"n/a") -> 0.81422701 | M40: =IF(AND(ISNUMBER(M36),ISNUMBER(M56)),M36/M56,"n/a") -> 0.8032345 | N40: =IF(AND(ISNUMBER(N36),ISNUMBER(N56)),N36/N56,"n/a") -> 0.82458592 | O40: =IF(AND(ISNUMBER(O36),ISNUMBER(O56)),O36/O56,"n/a") -> 0.83036537 | P40: =IF(AND(ISNUMBER(P36),ISNUMBER(P56)),P36/P56,"n/a") -> 0.80582524
B41: Δ Y/Y (bps) | C41: =IF(AND(ISNUMBER(C40),ISNUMBER(J40)),(C40-J40)*10000,"n/a") -> -552.54071 | D41: =IF(AND(ISNUMBER(D40),ISNUMBER(K40)),(D40-K40)*10000,"n/a") -> 236.97472 | E41: =IF(AND(ISNUMBER(E40),ISNUMBER(L40)),(E40-L40)*10000,"n/a") -> -224.82438 | F41: =IF(AND(ISNUMBER(F40),ISNUMBER(M40)),(F40-M40)*10000,"n/a") -> 113.61159 | G41: =IF(AND(ISNUMBER(G40),ISNUMBER(N40)),(G40-N40)*10000,"n/a") -> -109.89071 | H41: =IF(AND(ISNUMBER(H40),ISNUMBER(C40)),(H40-C40)*10000,"n/a") -> 96.968026
B42: Δ Q/Q (bps) | C42: =IF(AND(ISNUMBER(C40),ISNUMBER(M40)),(C40-M40)*10000,"n/a") -> -29.31304 | D42: =IF(AND(ISNUMBER(D40),ISNUMBER(C40)),(D40-C40)*10000,"n/a") -> 331.08347 | E42: =IF(AND(ISNUMBER(E40),ISNUMBER(D40)),(E40-D40)*10000,"n/a") -> -416.66973 | F42: =IF(AND(ISNUMBER(F40),ISNUMBER(E40)),(F40-E40)*10000,"n/a") -> 228.5109 | G42: n/a | H42: =IF(AND(ISNUMBER(H40),ISNUMBER(F40)),(H40-F40)*10000,"n/a") -> -45.956607
...

Sheet Segment - MFC
B2: Lockheed Martin Corporation (NYSE: LMT)
B3: Segment - MFC — Missiles and Fire Control (MFC)
B4: $ millions, except per share
B5: Period | C5: 3Q25A | D5: 4Q25A | E5: 1Q26A | F5: 2Q26A | G5: FY25A | H5: 3Q26E | J5: 3Q24A | K5: 4Q24A | L5: 1Q25A | M5: 2Q25A | N5: FY24A | O5: 9M24A YTD | P5: 9M25A YTD | R5: Notes / sources
B6: Period end | C6: 45928 | D6: 46022 | E6: 46110 | F6: 46201 | G6: 46022 | H6: 46292 | J6: 45564 | K6: 45657 | L6: 45746 | M6: 45837 | N6: 45657 | O6: 45564 | P6: 45928
B7: Days in period | C7: 91 | D7: 94 | E7: 88 | F7: 91 | G7: 365 | H7: 91 | J7: 91 | K7: 93 | L7: 89 | M7: 91 | N7: 366 | O7: 273 | P7: 271
J8: Memo: reported prior-year comparatives / YTD (inputs for Y/Y and derived quarters)
B9: Backlog ladder (remaining performance obligations)
B10: Opening backlog | C10: =M19 -> 40250 | D10: =C19 -> 45906 | E10: =D19 -> 46650 | F10: =E19 -> 46565 | G10: =N19 -> 38783 | H10: =F19 -> 87882 | K10: =J19 -> 40722 | L10: =K19 -> 38783 | M10: =L19 -> 40637 | N10: 32229 | R10: Prior period closing backlog
B11: % Y/Y | C11: =IF(AND(ISNUMBER(C10),ISNUMBER(J10)),IF(OR(J10>0,AND(J10<0,C10<0)),C10/J10-1,"n/m"),"n/a") -> n/a | D11: =IF(AND(ISNUMBER(D10),ISNUMBER(K10)),IF(OR(K10>0,AND(K10<0,D10<0)),D10/K10-1,"n/m"),"n/a") -> 0.1273022 | E11: =IF(AND(ISNUMBER(E10),ISNUMBER(L10)),IF(OR(L10>0,AND(L10<0,E10<0)),E10/L10-1,"n/m"),"n/a") -> 0.20284661 | F11: =IF(AND(ISNUMBER(F10),ISNUMBER(M10)),IF(OR(M10>0,AND(M10<0,F10<0)),F10/M10-1,"n/m"),"n/a") -> 0.14587691 | G11: =IF(AND(ISNUMBER(G10),ISNUMBER(N10)),IF(OR(N10>0,AND(N10<0,G10<0)),G10/N10-1,"n/m"),"n/a") -> 0.20335722 | H11: =IF(AND(ISNUMBER(H10),ISNUMBER(C10)),IF(OR(C10>0,AND(C10<0,H10<0)),H10/C10-1,"n/m"),"n/a") -> 1.1834037
B12: Δ Q/Q (abs.) | C12: =IF(AND(ISNUMBER(C10),ISNUMBER(M10)),C10-M10,"n/a") -> -387 | D12: =IF(AND(ISNUMBER(D10),ISNUMBER(C10)),D10-C10,"n/a") -> 5656 | E12: =IF(AND(ISNUMBER(E10),ISNUMBER(D10)),E10-D10,"n/a") -> 744 | F12: =IF(AND(ISNUMBER(F10),ISNUMBER(E10)),F10-E10,"n/a") -> -85 | G12: n/a | H12: =IF(AND(ISNUMBER(H10),ISNUMBER(F10)),H10-F10,"n/a") -> 41317
B13: Less: sales recognized | C13: =C56 -> 3624 | D13: =D56 -> 4020 | E13: =E56 -> 3649 | F13: =F56 -> 4101 | G13: =G56 -> 14450 | H13: =H56 -> 4297.4298 | J13: =J56 -> 3175 | K13: =K56 -> 3412 | L13: =L56 -> 3373 | M13: =M56 -> 3433 | N13: =N56 -> 12682
B14: % Y/Y | C14: =IF(AND(ISNUMBER(C13),ISNUMBER(J13)),IF(OR(J13>0,AND(J13<0,C13<0)),C13/J13-1,"n/m"),"n/a") -> 0.14141732 | D14: =IF(AND(ISNUMBER(D13),ISNUMBER(K13)),IF(OR(K13>0,AND(K13<0,D13<0)),D13/K13-1,"n/m"),"n/a") -> 0.17819461 | E14: =IF(AND(ISNUMBER(E13),ISNUMBER(L13)),IF(OR(L13>0,AND(L13<0,E13<0)),E13/L13-1,"n/m"),"n/a") -> 0.081826267 | F14: =IF(AND(ISNUMBER(F13),ISNUMBER(M13)),IF(OR(M13>0,AND(M13<0,F13<0)),F13/M13-1,"n/m"),"n/a") -> 0.194582 | G14: =IF(AND(ISNUMBER(G13),ISNUMBER(N13)),IF(OR(N13>0,AND(N13<0,G13<0)),G13/N13-1,"n/m"),"n/a") -> 0.13941019 | H14: =IF(AND(ISNUMBER(H13),ISNUMBER(C13)),IF(OR(C13>0,AND(C13<0,H13<0)),H13/C13-1,"n/m"),"n/a") -> 0.185825
B15: Δ Q/Q (abs.) | C15: =IF(AND(ISNUMBER(C13),ISNUMBER(M13)),C13-M13,"n/a") -> 191 | D15: =IF(AND(ISNUMBER(D13),ISNUMBER(C13)),D13-C13,"n/a") -> 396 | E15: =IF(AND(ISNUMBER(E13),ISNUMBER(D13)),E13-D13,"n/a") -> -371 | F15: =IF(AND(ISNUMBER(F13),ISNUMBER(E13)),F13-E13,"n/a") -> 452 | G15: n/a | H15: =IF(AND(ISNUMBER(H13),ISNUMBER(F13)),H13-F13,"n/a") -> 196.4298
B16: Net orders (derived) | C16: =C19-C10+C13 -> 9280 | D16: =D19-D10+D13 -> 4764 | E16: =E19-E10+E13 -> 3564 | F16: =F19-F10+F13 -> 45418 | G16: =G19-G10+G13 -> 22317 | H16: =H25*H13 -> 4297.4298 | J16: n/d | K16: =K19-K10+K13 -> 1473 | L16: =L19-L10+L13 -> 5227 | M16: =M19-M10+M13 -> 3046 | N16: =N19-N10+N13 -> 19236
B17: % Y/Y | C17: =IF(AND(ISNUMBER(C16),ISNUMBER(J16)),IF(OR(J16>0,AND(J16<0,C16<0)),C16/J16-1,"n/m"),"n/a") -> n/a | D17: =IF(AND(ISNUMBER(D16),ISNUMBER(K16)),IF(OR(K16>0,AND(K16<0,D16<0)),D16/K16-1,"n/m"),"n/a") -> 2.2342159 | E17: =IF(AND(ISNUMBER(E16),ISNUMBER(L16)),IF(OR(L16>0,AND(L16<0,E16<0)),E16/L16-1,"n/m"),"n/a") -> -0.31815573 | F17: =IF(AND(ISNUMBER(F16),ISNUMBER(M16)),IF(OR(M16>0,AND(M16<0,F16<0)),F16/M16-1,"n/m"),"n/a") -> 13.910703 | G17: =IF(AND(ISNUMBER(G16),ISNUMBER(N16)),IF(OR(N16>0,AND(N16<0,G16<0)),G16/N16-1,"n/m"),"n/a") -> 0.16016843 | H17: =IF(AND(ISNUMBER(H16),ISNUMBER(C16)),IF(OR(C16>0,AND(C16<0,H16<0)),H16/C16-1,"n/m"),"n/a") -> -0.53691489
B18: Δ Q/Q (abs.) | C18: =IF(AND(ISNUMBER(C16),ISNUMBER(M16)),C16-M16,"n/a") -> 6234 | D18: =IF(AND(ISNUMBER(D16),ISNUMBER(C16)),D16-C16,"n/a") -> -4516 | E18: =IF(AND(ISNUMBER(E16),ISNUMBER(D16)),E16-D16,"n/a") -> -1200 | F18: =IF(AND(ISNUMBER(F16),ISNUMBER(E16)),F16-E16,"n/a") -> 41854 | G18: n/a | H18: =IF(AND(ISNUMBER(H16),ISNUMBER(F16)),H16-F16,"n/a") -> -41120.57
B19: Closing backlog | C19: 45906 | D19: 46650 | E19: 46565 | F19: 87882 | G19: =D19 -> 46650 | H19: =H10+H16-H13 -> 87882 | J19: 40722 | K19: 38783 | L19: 40637 | M19: 40250 | N19: =K19 -> 38783 | R19: S3,S5,S7,S9,S11,S12,S13 backlog tables
B20: % Y/Y | C20: =IF(AND(ISNUMBER(C19),ISNUMBER(J19)),IF(OR(J19>0,AND(J19<0,C19<0)),C19/J19-1,"n/m"),"n/a") -> 0.1273022 | D20: =IF(AND(ISNUMBER(D19),ISNUMBER(K19)),IF(OR(K19>0,AND(K19<0,D19<0)),D19/K19-1,"n/m"),"n/a") -> 0.20284661 | E20: =IF(AND(ISNUMBER(E19),ISNUMBER(L19)),IF(OR(L19>0,AND(L19<0,E19<0)),E19/L19-1,"n/m"),"n/a") -> 0.14587691 | F20: =IF(AND(ISNUMBER(F19),ISNUMBER(M19)),IF(OR(M19>0,AND(M19<0,F19<0)),F19/M19-1,"n/m"),"n/a") -> 1.1834037 | G20: =IF(AND(ISNUMBER(G19),ISNUMBER(N19)),IF(OR(N19>0,AND(N19<0,G19<0)),G19/N19-1,"n/m"),"n/a") -> 0.20284661 | H20: =IF(AND(ISNUMBER(H19),ISNUMBER(C19)),IF(OR(C19>0,AND(C19<0,H19<0)),H19/C19-1,"n/m"),"n/a") -> 0.91439028
B21: Δ Q/Q (abs.) | C21: =IF(AND(ISNUMBER(C19),ISNUMBER(M19)),C19-M19,"n/a") -> 5656 | D21: =IF(AND(ISNUMBER(D19),ISNUMBER(C19)),D19-C19,"n/a") -> 744 | E21: =IF(AND(ISNUMBER(E19),ISNUMBER(D19)),E19-D19,"n/a") -> -85 | F21: =IF(AND(ISNUMBER(F19),ISNUMBER(E19)),F19-E19,"n/a") -> 41317 | G21: n/a | H21: =IF(AND(ISNUMBER(H19),ISNUMBER(F19)),H19-F19,"n/a") -> 0
B22: Average backlog | C22: =IF(AND(ISNUMBER(C10),ISNUMBER(C19)),(C10+C19)/2,"n/a") -> 43078 | D22: =IF(AND(ISNUMBER(D10),ISNUMBER(D19)),(D10+D19)/2,"n/a") -> 46278 | E22: =IF(AND(ISNUMBER(E10),ISNUMBER(E19)),(E10+E19)/2,"n/a") -> 46607.5 | F22: =IF(AND(ISNUMBER(F10),ISNUMBER(F19)),(F10+F19)/2,"n/a") -> 67223.5 | G22: =IF(AND(ISNUMBER(G10),ISNUMBER(G19)),(G10+G19)/2,"n/a") -> 42716.5 | H22: =IF(AND(ISNUMBER(H10),ISNUMBER(H19)),(H10+H19)/2,"n/a") -> 87882 | K22: =IF(AND(ISNUMBER(K10),ISNUMBER(K19)),(K10+K19)/2,"n/a") -> 39752.5 | L22: =IF(AND(ISNUMBER(L10),ISNUMBER(L19)),(L10+L19)/2,"n/a") -> 39710 | M22: =IF(AND(ISNUMBER(M10),ISNUMBER(M19)),(M10+M19)/2,"n/a") -> 40443.5 | N22: =IF(AND(ISNUMBER(N10),ISNUMBER(N19)),(N10+N19)/2,"n/a") -> 35506
B23: % Y/Y | C23: =IF(AND(ISNUMBER(C22),ISNUMBER(J22)),IF(OR(J22>0,AND(J22<0,C22<0)),C22/J22-1,"n/m"),"n/a") -> n/a | D23: =IF(AND(ISNUMBER(D22),ISNUMBER(K22)),IF(OR(K22>0,AND(K22<0,D22<0)),D22/K22-1,"n/m"),"n/a") -> 0.1641532 | E23: =IF(AND(ISNUMBER(E22),ISNUMBER(L22)),IF(OR(L22>0,AND(L22<0,E22<0)),E22/L22-1,"n/m"),"n/a") -> 0.1736968 | F23: =IF(AND(ISNUMBER(F22),ISNUMBER(M22)),IF(OR(M22>0,AND(M22<0,F22<0)),F22/M22-1,"n/m"),"n/a") -> 0.66215832 | G23: =IF(AND(ISNUMBER(G22),ISNUMBER(N22)),IF(OR(N22>0,AND(N22<0,G22<0)),G22/N22-1,"n/m"),"n/a") -> 0.20307835 | H23: =IF(AND(ISNUMBER(H22),ISNUMBER(C22)),IF(OR(C22>0,AND(C22<0,H22<0)),H22/C22-1,"n/m"),"n/a") -> 1.0400669
B24: Δ Q/Q (abs.) | C24: =IF(AND(ISNUMBER(C22),ISNUMBER(M22)),C22-M22,"n/a") -> 2634.5 | D24: =IF(AND(ISNUMBER(D22),ISNUMBER(C22)),D22-C22,"n/a") -> 3200 | E24: =IF(AND(ISNUMBER(E22),ISNUMBER(D22)),E22-D22,"n/a") -> 329.5 | F24: =IF(AND(ISNUMBER(F22),ISNUMBER(E22)),F22-E22,"n/a") -> 20616 | G24: n/a | H24: =IF(AND(ISNUMBER(H22),ISNUMBER(F22)),H22-F22,"n/a") -> 20658.5
B25: Book-to-bill (orders / sales) | C25: =IF(AND(ISNUMBER(C16)),C16/C13,"n/a") -> 2.5607064 | D25: =IF(AND(ISNUMBER(D16)),D16/D13,"n/a") -> 1.1850746 | E25: =IF(AND(ISNUMBER(E16)),E16/E13,"n/a") -> 0.97670595 | F25: =IF(AND(ISNUMBER(F16)),F16/F13,"n/a") -> 11.07486 | G25: =IF(AND(ISNUMBER(G16)),G16/G13,"n/a") -> 1.5444291 | H25: 1 | K25: =IF(AND(ISNUMBER(K16)),K16/K13,"n/a") -> 0.43171161 | L25: =IF(AND(ISNUMBER(L16)),L16/L13,"n/a") -> 1.5496591 | M25: =IF(AND(ISNUMBER(M16)),M16/M13,"n/a") -> 0.88727061 | N25: =IF(AND(ISNUMBER(N16)),N16/N13,"n/a") -> 1.5167955 | R25: 3Q26E 1.0x = placeholder (orders = sales). Funded/definitized portion of the Jul-29 $58.62B PAC-3 MSE multiyear award (S17) cannot be established from frozen sources, so H16:H19 orders/closing backlog are placeholders. No EPS path (sales use opening backlog x H28).
B26: Δ Y/Y (x) | C26: =IF(AND(ISNUMBER(C25),ISNUMBER(J25)),C25-J25,"n/a") -> n/a | D26: =IF(AND(ISNUMBER(D25),ISNUMBER(K25)),D25-K25,"n/a") -> 0.75336302 | E26: =IF(AND(ISNUMBER(E25),ISNUMBER(L25)),E25-L25,"n/a") -> -0.57295311 | F26: =IF(AND(ISNUMBER(F25),ISNUMBER(M25)),F25-M25,"n/a") -> 10.187589 | G26: =IF(AND(ISNUMBER(G25),ISNUMBER(N25)),G25-N25,"n/a") -> 0.027633608 | H26: =IF(AND(ISNUMBER(H25),ISNUMBER(C25)),H25-C25,"n/a") -> -1.5607064
B27: Δ Q/Q (x) | C27: =IF(AND(ISNUMBER(C25),ISNUMBER(M25)),C25-M25,"n/a") -> 1.6734358 | D27: =IF(AND(ISNUMBER(D25),ISNUMBER(C25)),D25-C25,"n/a") -> -1.3756318 | E27: =IF(AND(ISNUMBER(E25),ISNUMBER(D25)),E25-D25,"n/a") -> -0.20836868 | F27: =IF(AND(ISNUMBER(F25),ISNUMBER(E25)),F25-E25,"n/a") -> 10.098154 | G27: n/a | H27: =IF(AND(ISNUMBER(H25),ISNUMBER(F25)),H25-F25,"n/a") -> -10.07486
B28: Backlog conversion (% of opening) | C28: =C13/C10 -> 0.090037267 | D28: =D13/D10 -> 0.087570252 | E28: =E13/E10 -> 0.078220793 | F28: =F13/F10 -> 0.088070439 | G28: =G13/G10 -> 0.37258593 | H28: 0.0489 | K28: =K13/K10 -> 0.083787633 | L28: =L13/L10 -> 0.086971096 | M28: =M13/M10 -> 0.084479661 | N28: =N13/N10 -> 0.39349654
B29: Δ Y/Y (bps) | C29: =IF(AND(ISNUMBER(C28),ISNUMBER(J28)),(C28-J28)*10000,"n/a") -> n/a | D29: =IF(AND(ISNUMBER(D28),ISNUMBER(K28)),(D28-K28)*10000,"n/a") -> 37.82619 | E29: =IF(AND(ISNUMBER(E28),ISNUMBER(L28)),(E28-L28)*10000,"n/a") -> -87.503024 | F29: =IF(AND(ISNUMBER(F28),ISNUMBER(M28)),(F28-M28)*10000,"n/a") -> 35.907778 | G29: =IF(AND(ISNUMBER(G28),ISNUMBER(N28)),(G28-N28)*10000,"n/a") -> -209.10614 | H29: =IF(AND(ISNUMBER(H28),ISNUMBER(C28)),(H28-C28)*10000,"n/a") -> -411.37267
B30: Δ Q/Q (bps) | C30: =IF(AND(ISNUMBER(C28),ISNUMBER(M28)),(C28-M28)*10000,"n/a") -> 55.576057 | D30: =IF(AND(ISNUMBER(D28),ISNUMBER(C28)),(D28-C28)*10000,"n/a") -> -24.670148 | E30: =IF(AND(ISNUMBER(E28),ISNUMBER(D28)),(E28-D28)*10000,"n/a") -> -93.494591 | F30: =IF(AND(ISNUMBER(F28),ISNUMBER(E28)),(F28-E28)*10000,"n/a") -> 98.49646 | G30: n/a | H30: =IF(AND(ISNUMBER(H28),ISNUMBER(F28)),(H28-F28)*10000,"n/a") -> -391.70439
B31: Net change in backlog (closing - opening) | C31: =IF(AND(ISNUMBER(C19),ISNUMBER(C10)),C19-C10,"n/a") -> 5656 | D31: =IF(AND(ISNUMBER(D19),ISNUMBER(D10)),D19-D10,"n/a") -> 744 | E31: =IF(AND(ISNUMBER(E19),ISNUMBER(E10)),E19-E10,"n/a") -> -85 | F31: =IF(AND(ISNUMBER(F19),ISNUMBER(F10)),F19-F10,"n/a") -> 41317 | G31: =IF(AND(ISNUMBER(G19),ISNUMBER(G10)),G19-G10,"n/a") -> 7867 | H31: =IF(AND(ISNUMBER(H19),ISNUMBER(H10)),H19-H10,"n/a") -> 0 | K31: =IF(AND(ISNUMBER(K19),ISNUMBER(K10)),K19-K10,"n/a") -> -1939 | L31: =IF(AND(ISNUMBER(L19),ISNUMBER(L10)),L19-L10,"n/a") -> 1854 | M31: =IF(AND(ISNUMBER(M19),ISNUMBER(M10)),M19-M10,"n/a") -> -387 | N31: =IF(AND(ISNUMBER(N19),ISNUMBER(N10)),N19-N10,"n/a") -> 6554
B32: Δ Y/Y (abs.) | C32: =IF(AND(ISNUMBER(C31),ISNUMBER(J31)),C31-J31,"n/a") -> n/a | D32: =IF(AND(ISNUMBER(D31),ISNUMBER(K31)),D31-K31,"n/a") -> 2683 | E32: =IF(AND(ISNUMBER(E31),ISNUMBER(L31)),E31-L31,"n/a") -> -1939 | F32: =IF(AND(ISNUMBER(F31),ISNUMBER(M31)),F31-M31,"n/a") -> 41704 | G32: =IF(AND(ISNUMBER(G31),ISNUMBER(N31)),G31-N31,"n/a") -> 1313 | H32: =IF(AND(ISNUMBER(H31),ISNUMBER(C31)),H31-C31,"n/a") -> -5656
B33: Δ Q/Q (abs.) | C33: =IF(AND(ISNUMBER(C31),ISNUMBER(M31)),C31-M31,"n/a") -> 6043 | D33: =IF(AND(ISNUMBER(D31),ISNUMBER(C31)),D31-C31,"n/a") -> -4912 | E33: =IF(AND(ISNUMBER(E31),ISNUMBER(D31)),E31-D31,"n/a") -> -829 | F33: =IF(AND(ISNUMBER(F31),ISNUMBER(E31)),F31-E31,"n/a") -> 41402 | G33: n/a | H33: =IF(AND(ISNUMBER(H31),ISNUMBER(F31)),H31-F31,"n/a") -> -41317
B35: Sales by product / service (reported components)
B36: Products | C36: 3256 | D36: =G36-P36 -> 3639 | E36: 3323 | F36: 3700 | G36: 12977 | H36: =H10*H28*H40 -> 3884.8765 | J36: 2811 | K36: =N36-O36 -> 3058 | L36: 3017 | M36: 3065 | N36: 11275 | O36: 8217 | P36: 9338 | R36: S3,S4 (2Q); S5,S6 (1Q); S9,S10 (3Q,9M); S8 (FY)
B37: % Y/Y | C37: =IF(AND(ISNUMBER(C36),ISNUMBER(J36)),IF(OR(J36>0,AND(J36<0,C36<0)),C36/J36-1,"n/m"),"n/a") -> 0.15830665 | D37: =IF(AND(ISNUMBER(D36),ISNUMBER(K36)),IF(OR(K36>0,AND(K36<0,D36<0)),D36/K36-1,"n/m"),"n/a") -> 0.18999346 | E37: =IF(AND(ISNUMBER(E36),ISNUMBER(L36)),IF(OR(L36>0,AND(L36<0,E36<0)),E36/L36-1,"n/m"),"n/a") -> 0.10142526 | F37: =IF(AND(ISNUMBER(F36),ISNUMBER(M36)),IF(OR(M36>0,AND(M36<0,F36<0)),F36/M36-1,"n/m"),"n/a") -> 0.20717781 | G37: =IF(AND(ISNUMBER(G36),ISNUMBER(N36)),IF(OR(N36>0,AND(N36<0,G36<0)),G36/N36-1,"n/m"),"n/a") -> 0.15095344 | H37: =IF(AND(ISNUMBER(H36),ISNUMBER(C36)),IF(OR(C36>0,AND(C36<0,H36<0)),H36/C36-1,"n/m"),"n/a") -> 0.1931439
B38: % Q/Q | C38: =IF(AND(ISNUMBER(C36),ISNUMBER(M36)),IF(OR(M36>0,AND(M36<0,C36<0)),C36/M36-1,"n/m"),"n/a") -> 0.062316476 | D38: =IF(AND(ISNUMBER(D36),ISNUMBER(C36)),IF(OR(C36>0,AND(C36<0,D36<0)),D36/C36-1,"n/m"),"n/a") -> 0.11762899 | E38: =IF(AND(ISNUMBER(E36),ISNUMBER(D36)),IF(OR(D36>0,AND(D36<0,E36<0)),E36/D36-1,"n/m"),"n/a") -> -0.086837043 | F38: =IF(AND(ISNUMBER(F36),ISNUMBER(E36)),IF(OR(E36>0,AND(E36<0,F36<0)),F36/E36-1,"n/m"),"n/a") -> 0.1134517 | G38: n/a | H38: =IF(AND(ISNUMBER(H36),ISNUMBER(F36)),IF(OR(F36>0,AND(F36<0,H36<0)),H36/F36-1,"n/m"),"n/a") -> 0.049966632
B39: Δ Q/Q (abs.) | C39: =IF(AND(ISNUMBER(C36),ISNUMBER(M36)),C36-M36,"n/a") -> 191 | D39: =IF(AND(ISNUMBER(D36),ISNUMBER(C36)),D36-C36,"n/a") -> 383 | E39: =IF(AND(ISNUMBER(E36),ISNUMBER(D36)),E36-D36,"n/a") -> -316 | F39: =IF(AND(ISNUMBER(F36),ISNUMBER(E36)),F36-E36,"n/a") -> 377 | G39: n/a | H39: =IF(AND(ISNUMBER(H36),ISNUMBER(F36)),H36-F36,"n/a") -> 184.87654
B40: Products % of segment sales | C40: =IF(AND(ISNUMBER(C36),ISNUMBER(C56)),C36/C56,"n/a") -> 0.89845475 | D40: =IF(AND(ISNUMBER(D36),ISNUMBER(D56)),D36/D56,"n/a") -> 0.90522388 | E40: =IF(AND(ISNUMBER(E36),ISNUMBER(E56)),E36/E56,"n/a") -> 0.91066045 | F40: =IF(AND(ISNUMBER(F36),ISNUMBER(F56)),F36/F56,"n/a") -> 0.90221897 | G40: =IF(AND(ISNUMBER(G36),ISNUMBER(G56)),G36/G56,"n/a") -> 0.89806228 | H40: 0.904 | J40: =IF(AND(ISNUMBER(J36),ISNUMBER(J56)),J36/J56,"n/a") -> 0.88535433 | K40: =IF(AND(ISNUMBER(K36),ISNUMBER(K56)),K36/K56,"n/a") -> 0.89624853 | L40: =IF(AND(ISNUMBER(L36),ISNUMBER(L56)),L36/L56,"n/a") -> 0.89445597 | M40: =IF(AND(ISNUMBER(M36),ISNUMBER(M56)),M36/M56,"n/a") -> 0.89280513 | N40: =IF(AND(ISNUMBER(N36),ISNUMBER(N56)),N36/N56,"n/a") -> 0.88905535 | O40: =IF(AND(ISNUMBER(O36),ISNUMBER(O56)),O36/O56,"n/a") -> 0.88640777 | P40: =IF(AND(ISNUMBER(P36),ISNUMBER(P56)),P36/P56,"n/a") -> 0.89530201
B41: Δ Y/Y (bps) | C41: =IF(AND(ISNUMBER(C40),ISNUMBER(J40)),(C40-J40)*10000,"n/a") -> 131.00415 | D41: =IF(AND(ISNUMBER(D40),ISNUMBER(K40)),(D40-K40)*10000,"n/a") -> 89.75346 | E41: =IF(AND(ISNUMBER(E40),ISNUMBER(L40)),(E40-L40)*10000,"n/a") -> 162.04481 | F41: =IF(AND(ISNUMBER(F40),ISNUMBER(M40)),(F40-M40)*10000,"n/a") -> 94.138443 | G41: =IF(AND(ISNUMBER(G40),ISNUMBER(N40)),(G40-N40)*10000,"n/a") -> 90.069297 | H41: =IF(AND(ISNUMBER(H40),ISNUMBER(C40)),(H40-C40)*10000,"n/a") -> 55.452539
B42: Δ Q/Q (bps) | C42: =IF(AND(ISNUMBER(C40),ISNUMBER(M40)),(C40-M40)*10000,"n/a") -> 56.496194 | D42: =IF(AND(ISNUMBER(D40),ISNUMBER(C40)),(D40-C40)*10000,"n/a") -> 67.691345 | E42: =IF(AND(ISNUMBER(E40),ISNUMBER(D40)),(E40-D40)*10000,"n/a") -> 54.365743 | F42: =IF(AND(ISNUMBER(F40),ISNUMBER(E40)),(F40-E40)*10000,"n/a") -> -84.414839 | G42: n/a | H42: =IF(AND(ISNUMBER(H40),ISNUMBER(F40)),(H40-F40)*10000,"n/a") -> 17.81029
...

Sheet Segment - RMS
B2: Lockheed Martin Corporation (NYSE: LMT)
B3: Segment - RMS — Rotary and Mission Systems (RMS)
B4: $ millions, except per share
B5: Period | C5: 3Q25A | D5: 4Q25A | E5: 1Q26A | F5: 2Q26A | G5: FY25A | H5: 3Q26E | J5: 3Q24A | K5: 4Q24A | L5: 1Q25A | M5: 2Q25A | N5: FY24A | O5: 9M24A YTD | P5: 9M25A YTD | R5: Notes / sources
B6: Period end | C6: 45928 | D6: 46022 | E6: 46110 | F6: 46201 | G6: 46022 | H6: 46292 | J6: 45564 | K6: 45657 | L6: 45746 | M6: 45837 | N6: 45657 | O6: 45564 | P6: 45928
B7: Days in period | C7: 91 | D7: 94 | E7: 88 | F7: 91 | G7: 365 | H7: 91 | J7: 91 | K7: 93 | L7: 89 | M7: 91 | N7: 366 | O7: 273 | P7: 271
J8: Memo: reported prior-year comparatives / YTD (inputs for Y/Y and derived quarters)
B9: Backlog ladder (remaining performance obligations)
B10: Opening backlog | C10: =M19 -> 38584 | D10: =C19 -> 47269 | E10: =D19 -> 47715 | F10: =E19 -> 45840 | G10: =N19 -> 38117 | H10: =F19 -> 48454 | K10: =J19 -> 37571 | L10: =K19 -> 38117 | M10: =L19 -> 39113 | N10: 37726 | R10: Prior period closing backlog
B11: % Y/Y | C11: =IF(AND(ISNUMBER(C10),ISNUMBER(J10)),IF(OR(J10>0,AND(J10<0,C10<0)),C10/J10-1,"n/m"),"n/a") -> n/a | D11: =IF(AND(ISNUMBER(D10),ISNUMBER(K10)),IF(OR(K10>0,AND(K10<0,D10<0)),D10/K10-1,"n/m"),"n/a") -> 0.25812462 | E11: =IF(AND(ISNUMBER(E10),ISNUMBER(L10)),IF(OR(L10>0,AND(L10<0,E10<0)),E10/L10-1,"n/m"),"n/a") -> 0.25180366 | F11: =IF(AND(ISNUMBER(F10),ISNUMBER(M10)),IF(OR(M10>0,AND(M10<0,F10<0)),F10/M10-1,"n/m"),"n/a") -> 0.17198885 | G11: =IF(AND(ISNUMBER(G10),ISNUMBER(N10)),IF(OR(N10>0,AND(N10<0,G10<0)),G10/N10-1,"n/m"),"n/a") -> 0.010364205 | H11: =IF(AND(ISNUMBER(H10),ISNUMBER(C10)),IF(OR(C10>0,AND(C10<0,H10<0)),H10/C10-1,"n/m"),"n/a") -> 0.25580552
B12: Δ Q/Q (abs.) | C12: =IF(AND(ISNUMBER(C10),ISNUMBER(M10)),C10-M10,"n/a") -> -529 | D12: =IF(AND(ISNUMBER(D10),ISNUMBER(C10)),D10-C10,"n/a") -> 8685 | E12: =IF(AND(ISNUMBER(E10),ISNUMBER(D10)),E10-D10,"n/a") -> 446 | F12: =IF(AND(ISNUMBER(F10),ISNUMBER(E10)),F10-E10,"n/a") -> -1875 | G12: n/a | H12: =IF(AND(ISNUMBER(H10),ISNUMBER(F10)),H10-F10,"n/a") -> 2614
B13: Less: sales recognized | C13: =C56 -> 4373 | D13: =D56 -> 4616 | E13: =E56 -> 3991 | F13: =F56 -> 4354 | G13: =G56 -> 17312 | H13: =H56 -> 4501.3766 | J13: =J56 -> 4367 | K13: =K56 -> 4261 | L13: =L56 -> 4328 | M13: =M56 -> 3995 | N13: =N56 -> 17264
B14: % Y/Y | C14: =IF(AND(ISNUMBER(C13),ISNUMBER(J13)),IF(OR(J13>0,AND(J13<0,C13<0)),C13/J13-1,"n/m"),"n/a") -> 0.0013739409 | D14: =IF(AND(ISNUMBER(D13),ISNUMBER(K13)),IF(OR(K13>0,AND(K13<0,D13<0)),D13/K13-1,"n/m"),"n/a") -> 0.083313776 | E14: =IF(AND(ISNUMBER(E13),ISNUMBER(L13)),IF(OR(L13>0,AND(L13<0,E13<0)),E13/L13-1,"n/m"),"n/a") -> -0.077865065 | F14: =IF(AND(ISNUMBER(F13),ISNUMBER(M13)),IF(OR(M13>0,AND(M13<0,F13<0)),F13/M13-1,"n/m"),"n/a") -> 0.089862328 | G14: =IF(AND(ISNUMBER(G13),ISNUMBER(N13)),IF(OR(N13>0,AND(N13<0,G13<0)),G13/N13-1,"n/m"),"n/a") -> 0.0027803522 | H14: =IF(AND(ISNUMBER(H13),ISNUMBER(C13)),IF(OR(C13>0,AND(C13<0,H13<0)),H13/C13-1,"n/m"),"n/a") -> 0.029356643
B15: Δ Q/Q (abs.) | C15: =IF(AND(ISNUMBER(C13),ISNUMBER(M13)),C13-M13,"n/a") -> 378 | D15: =IF(AND(ISNUMBER(D13),ISNUMBER(C13)),D13-C13,"n/a") -> 243 | E15: =IF(AND(ISNUMBER(E13),ISNUMBER(D13)),E13-D13,"n/a") -> -625 | F15: =IF(AND(ISNUMBER(F13),ISNUMBER(E13)),F13-E13,"n/a") -> 363 | G15: n/a | H15: =IF(AND(ISNUMBER(H13),ISNUMBER(F13)),H13-F13,"n/a") -> 147.3766
B16: Net orders (derived) | C16: =C19-C10+C13 -> 13058 | D16: =D19-D10+D13 -> 5062 | E16: =E19-E10+E13 -> 2116 | F16: =F19-F10+F13 -> 6968 | G16: =G19-G10+G13 -> 26910 | H16: =H25*H13 -> 4501.3766 | J16: n/d | K16: =K19-K10+K13 -> 4807 | L16: =L19-L10+L13 -> 5324 | M16: =M19-M10+M13 -> 3466 | N16: =N19-N10+N13 -> 17655
B17: % Y/Y | C17: =IF(AND(ISNUMBER(C16),ISNUMBER(J16)),IF(OR(J16>0,AND(J16<0,C16<0)),C16/J16-1,"n/m"),"n/a") -> n/a | D17: =IF(AND(ISNUMBER(D16),ISNUMBER(K16)),IF(OR(K16>0,AND(K16<0,D16<0)),D16/K16-1,"n/m"),"n/a") -> 0.053047639 | E17: =IF(AND(ISNUMBER(E16),ISNUMBER(L16)),IF(OR(L16>0,AND(L16<0,E16<0)),E16/L16-1,"n/m"),"n/a") -> -0.60255447 | F17: =IF(AND(ISNUMBER(F16),ISNUMBER(M16)),IF(OR(M16>0,AND(M16<0,F16<0)),F16/M16-1,"n/m"),"n/a") -> 1.0103866 | G17: =IF(AND(ISNUMBER(G16),ISNUMBER(N16)),IF(OR(N16>0,AND(N16<0,G16<0)),G16/N16-1,"n/m"),"n/a") -> 0.5242141 | H17: =IF(AND(ISNUMBER(H16),ISNUMBER(C16)),IF(OR(C16>0,AND(C16<0,H16<0)),H16/C16-1,"n/m"),"n/a") -> -0.65527825
B18: Δ Q/Q (abs.) | C18: =IF(AND(ISNUMBER(C16),ISNUMBER(M16)),C16-M16,"n/a") -> 9592 | D18: =IF(AND(ISNUMBER(D16),ISNUMBER(C16)),D16-C16,"n/a") -> -7996 | E18: =IF(AND(ISNUMBER(E16),ISNUMBER(D16)),E16-D16,"n/a") -> -2946 | F18: =IF(AND(ISNUMBER(F16),ISNUMBER(E16)),F16-E16,"n/a") -> 4852 | G18: n/a | H18: =IF(AND(ISNUMBER(H16),ISNUMBER(F16)),H16-F16,"n/a") -> -2466.6234
B19: Closing backlog | C19: 47269 | D19: 47715 | E19: 45840 | F19: 48454 | G19: =D19 -> 47715 | H19: =H10+H16-H13 -> 48454 | J19: 37571 | K19: 38117 | L19: 39113 | M19: 38584 | N19: =K19 -> 38117 | R19: S3,S5,S7,S9,S11,S12,S13 backlog tables
B20: % Y/Y | C20: =IF(AND(ISNUMBER(C19),ISNUMBER(J19)),IF(OR(J19>0,AND(J19<0,C19<0)),C19/J19-1,"n/m"),"n/a") -> 0.25812462 | D20: =IF(AND(ISNUMBER(D19),ISNUMBER(K19)),IF(OR(K19>0,AND(K19<0,D19<0)),D19/K19-1,"n/m"),"n/a") -> 0.25180366 | E20: =IF(AND(ISNUMBER(E19),ISNUMBER(L19)),IF(OR(L19>0,AND(L19<0,E19<0)),E19/L19-1,"n/m"),"n/a") -> 0.17198885 | F20: =IF(AND(ISNUMBER(F19),ISNUMBER(M19)),IF(OR(M19>0,AND(M19<0,F19<0)),F19/M19-1,"n/m"),"n/a") -> 0.25580552 | G20: =IF(AND(ISNUMBER(G19),ISNUMBER(N19)),IF(OR(N19>0,AND(N19<0,G19<0)),G19/N19-1,"n/m"),"n/a") -> 0.25180366 | H20: =IF(AND(ISNUMBER(H19),ISNUMBER(C19)),IF(OR(C19>0,AND(C19<0,H19<0)),H19/C19-1,"n/m"),"n/a") -> 0.025069284
B21: Δ Q/Q (abs.) | C21: =IF(AND(ISNUMBER(C19),ISNUMBER(M19)),C19-M19,"n/a") -> 8685 | D21: =IF(AND(ISNUMBER(D19),ISNUMBER(C19)),D19-C19,"n/a") -> 446 | E21: =IF(AND(ISNUMBER(E19),ISNUMBER(D19)),E19-D19,"n/a") -> -1875 | F21: =IF(AND(ISNUMBER(F19),ISNUMBER(E19)),F19-E19,"n/a") -> 2614 | G21: n/a | H21: =IF(AND(ISNUMBER(H19),ISNUMBER(F19)),H19-F19,"n/a") -> 0
B22: Average backlog | C22: =IF(AND(ISNUMBER(C10),ISNUMBER(C19)),(C10+C19)/2,"n/a") -> 42926.5 | D22: =IF(AND(ISNUMBER(D10),ISNUMBER(D19)),(D10+D19)/2,"n/a") -> 47492 | E22: =IF(AND(ISNUMBER(E10),ISNUMBER(E19)),(E10+E19)/2,"n/a") -> 46777.5 | F22: =IF(AND(ISNUMBER(F10),ISNUMBER(F19)),(F10+F19)/2,"n/a") -> 47147 | G22: =IF(AND(ISNUMBER(G10),ISNUMBER(G19)),(G10+G19)/2,"n/a") -> 42916 | H22: =IF(AND(ISNUMBER(H10),ISNUMBER(H19)),(H10+H19)/2,"n/a") -> 48454 | K22: =IF(AND(ISNUMBER(K10),ISNUMBER(K19)),(K10+K19)/2,"n/a") -> 37844 | L22: =IF(AND(ISNUMBER(L10),ISNUMBER(L19)),(L10+L19)/2,"n/a") -> 38615 | M22: =IF(AND(ISNUMBER(M10),ISNUMBER(M19)),(M10+M19)/2,"n/a") -> 38848.5 | N22: =IF(AND(ISNUMBER(N10),ISNUMBER(N19)),(N10+N19)/2,"n/a") -> 37921.5
