Workbook

Sheet Cover
A1: Intuitive Surgical, Inc. (NasdaqGS: ISRG)
A2: Cover
A3: $ millions, except per share
A4: Period | B4: 3Q26E
A5: Period end | B5: =DATE(2026,9,30) -> 46295
A6: Days in period | B6: =B5-EOMONTH(B5,-3) -> 92
A8: Company Model — built by Shortcut
A9: Author: Shortcut (model built with Shortcut tools; not investment advice)
A11: Company | B11: Intuitive Surgical, Inc.
A12: Ticker | B12: ISRG
A13: Exchange | B13: Nasdaq Global Select Market (NasdaqGS:ISRG)
A14: Fiscal year end | B14: 31-Dec; FQ3 2026 = quarter ended 30-Sep-2026 (issuer calendar quarter; supplied label 2026-09-30 matches)
A15: Reporting currency | B15: USD; amounts in $ millions
A16: EPS basis | B16: Issuer non-GAAP diluted EPS = CapIQ normalized diluted EPS, USD per diluted common share
A17: Information cutoff | B17: 2026-10-18 21:34:46 UTC
A18: Expected report date | B18: 2026-10-20 after market close (issuer IR event page; CapIQ supplied 2026-10-20)
A19: Consensus capture | B19: CapIQ snapshot 18-Oct-2026 (date precision); 24 EPS / 25 revenue estimates
A21: 3Q26E headline | B21: Estimate | C21: Consensus | D21: Variance | E21: Var. % | F21: Guide mid | G21: 3Q25A | H21: Y/Y %
A22: Revenue ($m) | B22: ='Income Statement'!G13 -> 2942.4529 | C22: =Inputs!B281 -> 2906.81 | D22: =B22-C22 -> 35.6429 | E22: =B22/C22-1 -> 0.012261861 | F22: Not guided | G22: ='Income Statement'!B13 -> 2505.1 | H22: =B22/G22-1 -> 0.17458501
A23: Non-GAAP net income ($m) | B23: ='Income Statement'!G92 -> 983.93893 | C23: =Inputs!B294 -> 940.37 | D23: =B23-C23 -> 43.568933 | E23: =B23/C23-1 -> 0.046331692 | F23: Not guided | G23: ='Income Statement'!B92 -> 867.2 | H23: =B23/G23-1 -> 0.13461593
A24: Non-GAAP diluted EPS (scored basis) | B24: ='Income Statement'!G97 -> 2.7589651 | C24: =Inputs!B263 -> 2.64 | D24: =B24-C24 -> 0.11896514 | E24: =B24/C24-1 -> 0.045062552 | F24: Not guided | G24: ='Income Statement'!B100 -> 2.4 | H24: =B24/G24-1 -> 0.14956881
A25: Net income – GAAP ($m) | B25: ='Income Statement'!G62 -> 790.70893 | C25: =Inputs!B295 -> 798.91 | D25: =B25-C25 -> -8.2010667 | E25: =B25/C25-1 -> -0.01026532 | F25: Not guided | G25: ='Income Statement'!B62 -> 704.4 | H25: =B25/G25-1 -> 0.1225283
A26: Diluted EPS – GAAP | B26: ='Income Statement'!G71 -> 2.2171481 | C26: =Inputs!B272 -> 2.37 | D26: =B26-C26 -> -0.15285186 | E26: =B26/C26-1 -> -0.064494454 | F26: Not guided | G26: ='Income Statement'!B73 -> 1.95 | H26: =B26/G26-1 -> 0.13699905
A27: Non-GAAP operating income ($m) | B27: ='Income Statement'!G120 -> 1196.0502 | C27: =Inputs!B291 -> 1141.88 | D27: =B27-C27 -> 54.170236 | E27: =B27/C27-1 -> 0.047439518 | F27: Not guided | G27: ='Income Statement'!B120 -> 975.9 | H27: =B27/G27-1 -> 0.22558688
A28: Structural checks (see note 1) | B28: =IF(COUNTIF('Revenue summary'!B38:G38,">0.000001")+COUNTIF('Revenue summary'!B38:G38,"<-0.000001")+COUNTIF('Revenue summary'!B81:G81,">0.000001")+COUNTIF('Revenue summary'!B81:G81,"<-0.000001")+COUNTIF('Revenue summary'!B135:G135,">0.000001")+COUNTIF('Revenue summary'!B135:G135,"<-0.000001")+COUNTIF('Revenue summary'!B136:G136,">0.000001")+COUNTIF('Revenue summary'!B136:G136,"<-0.000001")+COUNTIF('Revenue summary'!B164:G164,">0.000001")+COUNTIF('Revenue summary'!B164:G164,"<-0.000001")+COUNTIF('Revenue summary'!B172:G172,">0.000001")+COUNTIF('Revenue summary'!B172:G172,"<-0.000001")+COUNTIF('Revenue summary'!B187:G187,">0.000001")+COUNTIF('Revenue summary'!B187:G187,"<-0.000001")+COUNTIF('Revenue summary'!B225:G225,">0.000001")+COUNTIF('Revenue summary'!B225:G225,"<-0.000001")+COUNTIF('Revenue summary'!B235:G235,">0.000001")+COUNTIF('Revenue summary'!B235:G235,"<-0.000001")+COUNTIF('Revenue summary'!B279:G279,">0.000001")+COUNTIF('Revenue summary'!B279:G279,"<-0.000001")+COUNTIF('Revenue summary'!B290:G290,">0.000001")+COUNTIF('Revenue summary'!B290:G290,"<-0.000001")+COUNTIF('Revenue summary'!B475:G475,">0.000001")+COUNTIF('Revenue summary'!B475:G475,"<-0.000001")+COUNTIF('Revenue summary'!B476:G476,">0.000001")+COUNTIF('Revenue summary'!B476:G476,"<-0.000001")+COUNTIF('Revenue summary'!B477:G477,">0.000001")+COUNTIF('Revenue summary'!B477:G477,"<-0.000001")+COUNTIF('Income Statement'!B74:G74,">0.000001")+COUNTIF('Income Statement'!B74:G74,"<-0.000001")+COUNTIF('Income Statement'!B96:G96,">0.000001")+COUNTIF('Income Statement'!B96:G96,"<-0.000001")+COUNTIF('Income Statement'!B101:G101,">0.000001")+COUNTIF('Income Statement'!B101:G101,"<-0.000001")+COUNTIF('Income Statement'!B140:G140,">0.000001")+COUNTIF('Income Statement'!B140:G140,"<-0.000001")+COUNTIF('Income Statement'!B168:G168,">0.000001")+COUNTIF('Income Statement'!B168:G168,"<-0.000001")+COUNTIF('Balance Sheet'!B39:G39,">0.000001")+COUNTIF('Balance Sheet'!B39:G39,"<-0.000001")+COUNTIF('Balance Sheet'!B41:G41,">0.000001")+COUNTIF('Balance Sheet'!B41:G41,"<-0.000001")+COUNTIF('Balance Sheet'!B43:G43,">0.000001")+COUNTIF('Balance Sheet'!B43:G43,"<-0.000001")+COUNTIF('Cash Flow Statement'!B25:G25,">0.000001")+COUNTIF('Cash Flow Statement'!B25:G25,"<-0.000001")+COUNTIF('Cash Flow Statement'!B35:G35,">0.000001")+COUNTIF('Cash Flow Statement'!B35:G35,"<-0.000001")+COUNTIF('Cash Flow Statement'!B43:G43,">0.000001")+COUNTIF('Cash Flow Statement'!B43:G43,"<-0.000001")+COUNTIF('Cash Flow Statement'!B49:G49,">0.000001")+COUNTIF('Cash Flow Statement'!B49:G49,"<-0.000001")+COUNTIF('Cash Flow Statement'!B50:G50,">0.000001")+COUNTIF('Cash Flow Statement'!B50:G50,"<-0.000001")+COUNTIF('Cash Flow Statement'!B51:G51,">0.000001")+COUNTIF('Cash Flow Statement'!B51:G51,"<-0.000001")+COUNTIF(Geo!B80:G80,">0.000001")+COUNTIF(Geo!B80:G80,"<-0.000001")+COUNTIF(Geo!B81:G81,">0.000001")+COUNTIF(Geo!B81:G81,"<-0.000001")+COUNTIF(Geo!B82:G82,">0.000001")+COUNTIF(Geo!B82:G82,"<-0.000001")+COUNTIF(Geo!B83:G83,">0.000001")+COUNTIF(Geo!B83:G83,"<-0.000001")+COUNTIF('Share Count'!B38:G38,">0.000001")+COUNTIF('Share Count'!B38:G38,"<-0.000001")+COUNTIF(B40,">0.000001")=0,"PASS","FAIL") -> PASS
A29: P(beat consensus EPS) | B29: =Inputs!B347 -> 0.86
A30: Confidence | B30: =Inputs!B349 -> medium
A32: Guidance context (FY26, 16-Jul-26)
A33: FY26 dV procedure growth guide mid | B33: =Guidance!F24 -> 0.145
A34: 3Q26E dV procedure growth (model) | B34: ='Revenue summary'!G78 -> 0.13592848
A35: FY26 non-GAAP GM guide midpoint | B35: =Guidance!F25 -> 0.685
A36: 3Q26E NG GM (input = guide mid) | B36: ='Income Statement'!G109 -> 0.685
A37: Non-GAAP tax rate midpoint (FY26) | B37: =Guidance!F29 -> 0.225
A38: 3Q26E NG tax (input = guide mid) | B38: ='Income Statement'!G130 -> 0.225
A40: Check: Cover ties to statements (= 0) | B40: =ROUND(ABS(B22-'Income Statement'!G13)+ABS(B23-'Income Statement'!G92)+ABS(B24-'Income Statement'!G97)+ABS(B25-'Income Statement'!G62)+ABS(B26-'Income Statement'!G71)+ABS(B27-'Income Statement'!G120),9) -> 0
A41: Notes
A42: (1) Checks: 3Q26E cells Income Statement!G74, G96, G101, G140; Revenue summary!G135, G279, G475:G477; Geo!G80:G83;
A43: Cash Flow Statement!G50:G51 and Share Count!G38 are identities by construction and cannot fail. Balance Sheet!G39 holds by double-entry
A44: construction. None validates forecast assumptions. Revenue summary!G136/G225 test independent inputs; historical columns tie to reported values.
A45: (2) GAAP consensus lines (C25 net income 798.91; C26 EPS 2.37, 6 estimates) come from different CapIQ contributor sets and
...

Sheet Revenue summary
A1: Intuitive Surgical, Inc. (NasdaqGS: ISRG)
A2: Revenue summary — single reportable segment; drivers built here
A3: $ millions, except per share
A4: Period | B4: 3Q25A | C4: 4Q25A | D4: 1Q26A | E4: 2Q26A | F4: FY25A | G4: 3Q26E | H4: Source
A5: Period end | B5: =DATE(2025,9,30) -> 45930 | C5: =DATE(2025,12,31) -> 46022 | D5: =DATE(2026,3,31) -> 46112 | E5: =DATE(2026,6,30) -> 46203 | F5: =DATE(2025,12,31) -> 46022 | G5: =DATE(2026,9,30) -> 46295
A6: Days in period | B6: =B5-EOMONTH(B5,-3) -> 92 | C6: =C5-EOMONTH(C5,-3) -> 92 | D6: =D5-EOMONTH(D5,-3) -> 90 | E6: =E5-EOMONTH(E5,-3) -> 91 | F6: =F5-DATE(YEAR(F5)-1,12,31) -> 365 | G6: =G5-EOMONTH(G5,-3) -> 92
A8: Revenue by product line
A9: Single reportable segment; effectively ~66% U.S. / ~34% OUS revenue - split on Geo tab
A10: Instruments & accessories | B10: =B351 -> 1518.8 | C10: =C351 -> 1658.3 | D10: =D351 -> 1686.4 | E10: =E351 -> 1734.9 | F10: =F351 -> 6018.9 | G10: =G351 -> 1771.0315 | H10: S1
A11: Y/Y % | B11: =_xlfn.IFERROR(B10/Inputs!B45-1,"n.a.") -> 0.20139218 | C11: =_xlfn.IFERROR(C10/Inputs!C45-1,"n.a.") -> 0.17484945 | D11: =_xlfn.IFERROR(D10/Inputs!D45-1,"n.a.") -> 0.23301894 | E11: =_xlfn.IFERROR(E10/Inputs!E45-1,"n.a.") -> 0.17692151 | F11: =_xlfn.IFERROR(F10/Inputs!F45-1,"n.a.") -> 0.18505611 | G11: =_xlfn.IFERROR(G10/B10-1,"n.a.") -> 0.16607292
A12: Q/Q % | B12: =_xlfn.IFERROR(B10/Inputs!E45-1,"n.a.") -> 0.030323587 | C12: =_xlfn.IFERROR(C10/B10-1,"n.a.") -> 0.091848828 | D12: =_xlfn.IFERROR(D10/C10-1,"n.a.") -> 0.016945064 | E12: =_xlfn.IFERROR(E10/D10-1,"n.a.") -> 0.028759488 | F12: n.a. | G12: =_xlfn.IFERROR(G10/E10-1,"n.a.") -> 0.020826301
A13: % of total revenue | B13: =B10/B34 -> 0.60628318 | C13: =C10/C34 -> 0.57857093 | D13: =D10/D34 -> 0.60863289 | E13: =E10/E34 -> 0.59983404 | F13: =F10/F34 -> 0.59802081 | G13: =G10/G34 -> 0.60188952
A14: M&A / scope impact | B14: 0 | C14: 0 | D14: n.d. | E14: n.d. | F14: 0 | G14: n.d.
A15: FX impact | B15: n.d. | C15: n.d. | D15: n.d. | E15: n.d. | F15: n.d. | G15: n.d.
A16: Organic = (1+Y/Y)/((1+M&A)(1+FX))-1 | B16: =IF(AND(ISNUMBER(B14),ISNUMBER(B15),ISNUMBER(B11)),(1+B11)/((1+B14)*(1+B15))-1,"n.d.") -> n.d. | C16: =IF(AND(ISNUMBER(C14),ISNUMBER(C15),ISNUMBER(C11)),(1+C11)/((1+C14)*(1+C15))-1,"n.d.") -> n.d. | D16: =IF(AND(ISNUMBER(D14),ISNUMBER(D15),ISNUMBER(D11)),(1+D11)/((1+D14)*(1+D15))-1,"n.d.") -> n.d. | E16: =IF(AND(ISNUMBER(E14),ISNUMBER(E15),ISNUMBER(E11)),(1+E11)/((1+E14)*(1+E15))-1,"n.d.") -> n.d. | F16: =IF(AND(ISNUMBER(F14),ISNUMBER(F15),ISNUMBER(F11)),(1+F11)/((1+F14)*(1+F15))-1,"n.d.") -> n.d. | G16: =IF(AND(ISNUMBER(G14),ISNUMBER(G15),ISNUMBER(G11)),(1+G11)/((1+G14)*(1+G15))-1,"n.d.") -> n.d.
A17: Total Y/Y | B17: =B11 -> 0.20139218 | C17: =C11 -> 0.17484945 | D17: =D11 -> 0.23301894 | E17: =E11 -> 0.17692151 | F17: =F11 -> 0.18505611 | G17: =G11 -> 0.16607292
A18: Systems | B18: =B413 -> 590.4 | C18: =C413 -> 785.9 | D18: =D413 -> 650.7 | E18: =E413 -> 685 | F18: =F413 -> 2473.7 | G18: =G413 -> 692.2568 | H18: S1
A19: Y/Y % | B19: =_xlfn.IFERROR(B18/Inputs!B50-1,"n.a.") -> 0.32674157 | C19: =_xlfn.IFERROR(C18/Inputs!C50-1,"n.a.") -> 0.20058051 | D19: =_xlfn.IFERROR(D18/Inputs!D50-1,"n.a.") -> 0.24488234 | E19: =_xlfn.IFERROR(E18/Inputs!E50-1,"n.a.") -> 0.19192622 | F19: =_xlfn.IFERROR(F18/Inputs!F50-1,"n.a.") -> 0.25824008 | G19: =_xlfn.IFERROR(G18/B18-1,"n.a.") -> 0.17252168
A20: Q/Q % | B20: =_xlfn.IFERROR(B18/Inputs!E50-1,"n.a.") -> 0.027318601 | C20: =_xlfn.IFERROR(C18/B18-1,"n.a.") -> 0.33113144 | D20: =_xlfn.IFERROR(D18/C18-1,"n.a.") -> -0.17203207 | E20: =_xlfn.IFERROR(E18/D18-1,"n.a.") -> 0.052712464 | F20: n.a. | G20: =_xlfn.IFERROR(G18/E18-1,"n.a.") -> 0.010593869
A21: % of total revenue | B21: =B18/B34 -> 0.23567921 | C21: =C18/C34 -> 0.2741958 | D21: =D18/D34 -> 0.23484192 | E21: =E18/E34 -> 0.23683574 | F21: =F18/F34 -> 0.2457798 | G21: =G18/G34 -> 0.23526521
A22: M&A / scope impact | B22: 0 | C22: 0 | D22: n.d. | E22: n.d. | F22: 0 | G22: n.d.
A23: FX impact | B23: n.d. | C23: n.d. | D23: n.d. | E23: n.d. | F23: n.d. | G23: n.d.
A24: Organic = (1+Y/Y)/((1+M&A)(1+FX))-1 | B24: =IF(AND(ISNUMBER(B22),ISNUMBER(B23),ISNUMBER(B19)),(1+B19)/((1+B22)*(1+B23))-1,"n.d.") -> n.d. | C24: =IF(AND(ISNUMBER(C22),ISNUMBER(C23),ISNUMBER(C19)),(1+C19)/((1+C22)*(1+C23))-1,"n.d.") -> n.d. | D24: =IF(AND(ISNUMBER(D22),ISNUMBER(D23),ISNUMBER(D19)),(1+D19)/((1+D22)*(1+D23))-1,"n.d.") -> n.d. | E24: =IF(AND(ISNUMBER(E22),ISNUMBER(E23),ISNUMBER(E19)),(1+E19)/((1+E22)*(1+E23))-1,"n.d.") -> n.d. | F24: =IF(AND(ISNUMBER(F22),ISNUMBER(F23),ISNUMBER(F19)),(1+F19)/((1+F22)*(1+F23))-1,"n.d.") -> n.d. | G24: =IF(AND(ISNUMBER(G22),ISNUMBER(G23),ISNUMBER(G19)),(1+G19)/((1+G22)*(1+G23))-1,"n.d.") -> n.d.
A25: Total Y/Y | B25: =B19 -> 0.32674157 | C25: =C19 -> 0.20058051 | D25: =D19 -> 0.24488234 | E25: =E19 -> 0.19192622 | F25: =F19 -> 0.25824008 | G25: =G19 -> 0.17252168
A26: Services | B26: =B466 -> 395.9 | C26: =C466 -> 422 | D26: =D466 -> 433.7 | E26: =E466 -> 472.4 | F26: =F466 -> 1572.1 | G26: =G466 -> 479.16455 | H26: S1
A27: Y/Y % | B27: =_xlfn.IFERROR(B26/Inputs!B56-1,"n.a.") -> 0.20370933 | C27: =_xlfn.IFERROR(C26/Inputs!C56-1,"n.a.") -> 0.21473805 | D27: =_xlfn.IFERROR(D26/Inputs!D56-1,"n.a.") -> 0.19476584 | E27: =_xlfn.IFERROR(E26/Inputs!E56-1,"n.a.") -> 0.20756646 | F27: =_xlfn.IFERROR(F26/Inputs!F56-1,"n.a.") -> 0.20273889 | G27: =_xlfn.IFERROR(G26/B26-1,"n.a.") -> 0.21031713
A28: Q/Q % | B28: =_xlfn.IFERROR(B26/Inputs!E56-1,"n.a.") -> 0.012014315 | C28: =_xlfn.IFERROR(C26/B26-1,"n.a.") -> 0.065925739 | D28: =_xlfn.IFERROR(D26/C26-1,"n.a.") -> 0.027725118 | E28: =_xlfn.IFERROR(E26/D26-1,"n.a.") -> 0.089232188 | F28: n.a. | G28: =_xlfn.IFERROR(G26/E26-1,"n.a.") -> 0.014319539
A29: % of total revenue | B29: =B26/B34 -> 0.1580376 | C29: =C26/C34 -> 0.14723327 | D29: =D26/D34 -> 0.15652519 | E29: =E26/E34 -> 0.16333022 | F29: =F26/F34 -> 0.15619939 | G29: =G26/G34 -> 0.16284527
A30: M&A / scope impact | B30: 0 | C30: 0 | D30: n.d. | E30: n.d. | F30: 0 | G30: n.d.
A31: FX impact | B31: n.d. | C31: n.d. | D31: n.d. | E31: n.d. | F31: n.d. | G31: n.d.
A32: Organic = (1+Y/Y)/((1+M&A)(1+FX))-1 | B32: =IF(AND(ISNUMBER(B30),ISNUMBER(B31),ISNUMBER(B27)),(1+B27)/((1+B30)*(1+B31))-1,"n.d.") -> n.d. | C32: =IF(AND(ISNUMBER(C30),ISNUMBER(C31),ISNUMBER(C27)),(1+C27)/((1+C30)*(1+C31))-1,"n.d.") -> n.d. | D32: =IF(AND(ISNUMBER(D30),ISNUMBER(D31),ISNUMBER(D27)),(1+D27)/((1+D30)*(1+D31))-1,"n.d.") -> n.d. | E32: =IF(AND(ISNUMBER(E30),ISNUMBER(E31),ISNUMBER(E27)),(1+E27)/((1+E30)*(1+E31))-1,"n.d.") -> n.d. | F32: =IF(AND(ISNUMBER(F30),ISNUMBER(F31),ISNUMBER(F27)),(1+F27)/((1+F30)*(1+F31))-1,"n.d.") -> n.d. | G32: =IF(AND(ISNUMBER(G30),ISNUMBER(G31),ISNUMBER(G27)),(1+G27)/((1+G30)*(1+G31))-1,"n.d.") -> n.d.
A33: Total Y/Y | B33: =B27 -> 0.20370933 | C33: =C27 -> 0.21473805 | D33: =D27 -> 0.19476584 | E33: =E27 -> 0.20756646 | F33: =F27 -> 0.20273889 | G33: =G27 -> 0.21031713
A34: Total revenue | B34: =B10+B18+B26 -> 2505.1 | C34: =C10+C18+C26 -> 2866.2 | D34: =D10+D18+D26 -> 2770.8 | E34: =E10+E18+E26 -> 2892.3 | F34: =F10+F18+F26 -> 10064.7 | G34: =G10+G18+G26 -> 2942.4529 | H34: S1
A35: Y/Y % | B35: =_xlfn.IFERROR(B34/Inputs!B60-1,"n.a.") -> 0.22913498 | C35: =_xlfn.IFERROR(C34/Inputs!C60-1,"n.a.") -> 0.18756992 | D35: =_xlfn.IFERROR(D34/Inputs!D60-1,"n.a.") -> 0.22960859 | E35: =_xlfn.IFERROR(E34/Inputs!E60-1,"n.a.") -> 0.18536885 | F35: =_xlfn.IFERROR(F34/Inputs!F60-1,"n.a.") -> 0.20505023 | G35: =_xlfn.IFERROR(G34/B34-1,"n.a.") -> 0.17458501
A36: Q/Q % | B36: =_xlfn.IFERROR(B34/Inputs!E60-1,"n.a.") -> 0.026680328 | C36: =_xlfn.IFERROR(C34/B34-1,"n.a.") -> 0.14414594 | D36: =_xlfn.IFERROR(D34/C34-1,"n.a.") -> -0.033284488 | E36: =_xlfn.IFERROR(E34/D34-1,"n.a.") -> 0.043850152 | F36: n.a. | G36: =_xlfn.IFERROR(G34/E34-1,"n.a.") -> 0.017340145
A37: Total revenue (as reported) | B37: 2505.1 | C37: 2866.2 | D37: 2770.8 | E37: 2892.3 | F37: =Inputs!D60+Inputs!E60+B37+C37 -> 10064.7 | G37: n.a. | H37: S1
A38: Check: lines = reported total (= 0) | B38: =ROUND(B34-B37,6) -> 0 | C38: =ROUND(C34-C37,6) -> 0 | D38: =ROUND(D34-D37,6) -> 0 | E38: =ROUND(E34-E37,6) -> 0 | F38: =ROUND(F34-F37,6) -> 0 | G38: n.a.
A39: FX impact on OUS revenue ($m) | B39: 3 | C39: n.d. | D39: 36 | E39: 4 | F39: n.d. | G39: -5 | H39: S3/S4/S5; G: assumption (S19)
A40: Constant-currency revenue growth | B40: =IF(ISNUMBER(B39),(B34-B39)/Inputs!B60-1,"n.d.") -> 0.22766302 | C40: =IF(ISNUMBER(C39),(C34-C39)/Inputs!C60-1,"n.d.") -> n.d. | D40: =IF(ISNUMBER(D39),(D34-D39)/Inputs!D60-1,"n.d.") -> 0.21363273 | E40: =IF(ISNUMBER(E39),(E34-E39)/Inputs!E60-1,"n.d.") -> 0.18372951 | F40: n.d. | G40: =IF(ISNUMBER(G39),(G34-G39)/B34-1,"n.d.") -> 0.17658093
A41: M&A / scope impact | B41: 0 | C41: 0 | D41: n.d. | E41: n.d. | F41: 0 | G41: n.d.
...

Sheet Income Statement
A1: Intuitive Surgical, Inc. (NasdaqGS: ISRG)
A2: Income Statement (GAAP) and non-GAAP bridge
A3: $ millions, except per share
A4: Period | B4: 3Q25A | C4: 4Q25A | D4: 1Q26A | E4: 2Q26A | F4: FY25A | G4: 3Q26E | H4: Source
A5: Period end | B5: =DATE(2025,9,30) -> 45930 | C5: =DATE(2025,12,31) -> 46022 | D5: =DATE(2026,3,31) -> 46112 | E5: =DATE(2026,6,30) -> 46203 | F5: =DATE(2025,12,31) -> 46022 | G5: =DATE(2026,9,30) -> 46295
A6: Days in period | B6: =B5-EOMONTH(B5,-3) -> 92 | C6: =C5-EOMONTH(C5,-3) -> 92 | D6: =D5-EOMONTH(D5,-3) -> 90 | E6: =E5-EOMONTH(E5,-3) -> 91 | F6: =F5-DATE(YEAR(F5)-1,12,31) -> 365 | G6: =G5-EOMONTH(G5,-3) -> 92
A8: Revenue
A9: Instruments & accessories | B9: ='Revenue summary'!B351 -> 1518.8 | C9: ='Revenue summary'!C351 -> 1658.3 | D9: ='Revenue summary'!D351 -> 1686.4 | E9: ='Revenue summary'!E351 -> 1734.9 | F9: ='Revenue summary'!F351 -> 6018.9 | G9: ='Revenue summary'!G351 -> 1771.0315 | H9: S1
A10: Systems | B10: ='Revenue summary'!B413 -> 590.4 | C10: ='Revenue summary'!C413 -> 785.9 | D10: ='Revenue summary'!D413 -> 650.7 | E10: ='Revenue summary'!E413 -> 685 | F10: ='Revenue summary'!F413 -> 2473.7 | G10: ='Revenue summary'!G413 -> 692.2568 | H10: S1
A11: Product revenue | B11: =B9+B10 -> 2109.2 | C11: =C9+C10 -> 2444.2 | D11: =D9+D10 -> 2337.1 | E11: =E9+E10 -> 2419.9 | F11: =F9+F10 -> 8492.6 | G11: =G9+G10 -> 2463.2883
A12: Services | B12: ='Revenue summary'!B466 -> 395.9 | C12: ='Revenue summary'!C466 -> 422 | D12: ='Revenue summary'!D466 -> 433.7 | E12: ='Revenue summary'!E466 -> 472.4 | F12: ='Revenue summary'!F466 -> 1572.1 | G12: ='Revenue summary'!G466 -> 479.16455 | H12: S1
A13: Total revenue | B13: =B11+B12 -> 2505.1 | C13: =C11+C12 -> 2866.2 | D13: =D11+D12 -> 2770.8 | E13: =E11+E12 -> 2892.3 | F13: =F11+F12 -> 10064.7 | G13: =G11+G12 -> 2942.4529
A14: Y/Y % | B14: =_xlfn.IFERROR(B13/Inputs!B60-1,"n.a.") -> 0.22913498 | C14: =_xlfn.IFERROR(C13/Inputs!C60-1,"n.a.") -> 0.18756992 | D14: =_xlfn.IFERROR(D13/Inputs!D60-1,"n.a.") -> 0.22960859 | E14: =_xlfn.IFERROR(E13/Inputs!E60-1,"n.a.") -> 0.18536885 | F14: =_xlfn.IFERROR(F13/Inputs!F60-1,"n.a.") -> 0.20505023 | G14: =_xlfn.IFERROR(G13/B13-1,"n.a.") -> 0.17458501
A15: Q/Q % | B15: =_xlfn.IFERROR(B13/Inputs!E60-1,"n.a.") -> 0.026680328 | C15: =_xlfn.IFERROR(C13/B13-1,"n.a.") -> 0.14414594 | D15: =_xlfn.IFERROR(D13/C13-1,"n.a.") -> -0.033284488 | E15: =_xlfn.IFERROR(E13/D13-1,"n.a.") -> 0.043850152 | F15: n.a. | G15: =_xlfn.IFERROR(G13/E13-1,"n.a.") -> 0.017340145
A16: Cost of revenue
A17: Cost of revenue – service | B17: 143.3 | C17: 152.1 | D17: 160.3 | E17: 154.9 | F17: =Inputs!D73+Inputs!E73+B17+C17 -> 556.3 | G17: =G12*(1-G28) -> 162.91595 | H17: S2/S7
A18: Cost of revenue – product | B18: 699.4 | C18: 809.8 | D18: 780 | E18: 777 | F18: =Inputs!D72+Inputs!E72+B18+C18 -> 2866.1 | G18: =G19-G17 -> 828.75672 | H18: S2/S7
A19: Total cost of revenue | B19: =B18+B17 -> 842.7 | C19: =C18+C17 -> 961.9 | D19: =D18+D17 -> 940.3 | E19: =E18+E17 -> 931.9 | F19: =F18+F17 -> 3422.4 | G19: =G13-G20 -> 991.67266
A20: Gross profit | B20: =B13-B19 -> 1662.4 | C20: =C13-C19 -> 1904.3 | D20: =D13-D19 -> 1830.5 | E20: =E13-E19 -> 1960.4 | F20: =F13-F19 -> 6642.3 | G20: =G107-(G144+G145+G146+G147) -> 1950.7802
A21: Y/Y % | B21: =_xlfn.IFERROR(B20/Inputs!B75-1,"n.a.") -> 0.20998617 | C21: =_xlfn.IFERROR(C20/Inputs!C75-1,"n.a.") -> 0.15960297 | D21: =_xlfn.IFERROR(D20/Inputs!D75-1,"n.a.") -> 0.25574535 | E21: =_xlfn.IFERROR(E20/Inputs!E75-1,"n.a.") -> 0.21169417 | F21: =_xlfn.IFERROR(F20/Inputs!F75-1,"n.a.") -> 0.17892514 | G21: =_xlfn.IFERROR(G20/B20-1,"n.a.") -> 0.17347223
A22: Gross margin | B22: =B20/B13 -> 0.66360624 | C22: =C20/C13 -> 0.66439886 | D22: =D20/D13 -> 0.66063953 | E22: =E20/E13 -> 0.67779967 | F22: =F20/F13 -> 0.65996006 | G22: =G20/G13 -> 0.66297756
A23: Y/Y change (bp) | B23: =_xlfn.IFERROR((B22-Inputs!B137)*10000,"n.a.") -> -105.01995 | C23: =_xlfn.IFERROR((C22-Inputs!C137)*10000,"n.a.") -> -160.23767 | D23: =_xlfn.IFERROR((D22-Inputs!D137)*10000,"n.a.") -> 137.50381 | E23: =_xlfn.IFERROR((E22-Inputs!E137)*10000,"n.a.") -> 147.25905 | F23: =_xlfn.IFERROR((F22-Inputs!F137)*10000,"n.a.") -> -146.24777 | G23: =_xlfn.IFERROR((G22-B22)*10000,"n.a.") -> -6.2868583
A24: Q/Q change (bp) | B24: =_xlfn.IFERROR((B22-Inputs!E137)*10000,"n.a.") -> 5.3247277 | C24: =_xlfn.IFERROR((C22-B22)*10000,"n.a.") -> 7.9261236 | D24: =_xlfn.IFERROR((D22-C22)*10000,"n.a.") -> -37.593291 | E24: =_xlfn.IFERROR((E22-D22)*10000,"n.a.") -> 171.60149 | F24: n.a. | G24: =_xlfn.IFERROR((G22-E22)*10000,"n.a.") -> -148.22118
A25: Product gross margin | B25: =1-B18/B11 -> 0.66840508 | C25: =1-C18/C11 -> 0.66868505 | D25: =1-D18/D11 -> 0.66625305 | E25: =1-E18/E11 -> 0.67891235 | F25: =1-F18/F11 -> 0.66251796 | G25: =1-G18/G11 -> 0.66355676
A26: Y/Y change (bp) | B26: =_xlfn.IFERROR((B25-Inputs!B163)*10000,"n.a.") -> -66.475737 | C26: =_xlfn.IFERROR((C25-Inputs!C163)*10000,"n.a.") -> -99.849076 | D26: =_xlfn.IFERROR((D25-Inputs!D163)*10000,"n.a.") -> 210.45685 | E26: =_xlfn.IFERROR((E25-Inputs!E163)*10000,"n.a.") -> 138.40114 | F26: =_xlfn.IFERROR((F25-Inputs!F163)*10000,"n.a.") -> -91.498927 | G26: =_xlfn.IFERROR((G25-B25)*10000,"n.a.") -> -48.483237
A27: Q/Q change (bp) | B27: =_xlfn.IFERROR((B25-Inputs!E163)*10000,"n.a.") -> 33.328451 | C27: =_xlfn.IFERROR((C25-B25)*10000,"n.a.") -> 2.7996783 | D27: =_xlfn.IFERROR((D25-C25)*10000,"n.a.") -> -24.320017 | E27: =_xlfn.IFERROR((E25-D25)*10000,"n.a.") -> 126.59303 | F27: n.a. | G27: =_xlfn.IFERROR((G25-E25)*10000,"n.a.") -> -153.55593
A28: Service GM (3Q26E: input) | B28: =1-B17/B12 -> 0.63803991 | C28: =1-C17/C12 -> 0.63957346 | D28: =1-D17/D12 -> 0.63038967 | E28: =1-E17/E12 -> 0.67209992 | F28: =1-F17/F12 -> 0.6461421 | G28: 0.66
A29: Y/Y change (bp) | B29: =_xlfn.IFERROR((B28-Inputs!B164)*10000,"n.a.") -> -311.60456 | C29: =_xlfn.IFERROR((C28-Inputs!C164)*10000,"n.a.") -> -512.72827 | D29: =_xlfn.IFERROR((D28-Inputs!D164)*10000,"n.a.") -> -252.57713 | E29: =_xlfn.IFERROR((E28-Inputs!E164)*10000,"n.a.") -> 194.92553 | F29: =_xlfn.IFERROR((F28-Inputs!F164)*10000,"n.a.") -> -441.64683 | G29: =_xlfn.IFERROR((G28-B28)*10000,"n.a.") -> 219.60091
A30: Q/Q change (bp) | B30: =_xlfn.IFERROR((B28-Inputs!E164)*10000,"n.a.") -> -145.67453 | C30: =_xlfn.IFERROR((C28-B28)*10000,"n.a.") -> 15.335506 | D30: =_xlfn.IFERROR((D28-C28)*10000,"n.a.") -> -91.837894 | E30: =_xlfn.IFERROR((E28-D28)*10000,"n.a.") -> 417.10245 | F30: n.a. | G30: =_xlfn.IFERROR((G28-E28)*10000,"n.a.") -> -120.99915
A31: Operating expenses
A32: Selling, general & administrative | B32: 573.3 | C32: 687.1 | D32: 613.3 | E32: 617.9 | F32: =Inputs!D76+Inputs!E76+B32+C32 -> 2385 | G32: =G112+G148+G149+G150+G151+G152+G153+G154 -> 621.37 | H32: S1
A33: Y/Y % | B33: =_xlfn.IFERROR(B32/Inputs!B76-1,"n.a.") -> 0.12279671 | C33: =_xlfn.IFERROR(C32/Inputs!C76-1,"n.a.") -> 0.1216128 | D33: =_xlfn.IFERROR(D32/Inputs!D76-1,"n.a.") -> 0.0885694 | E33: =_xlfn.IFERROR(E32/Inputs!E76-1,"n.a.") -> 0.1010335 | F33: =_xlfn.IFERROR(F32/Inputs!F76-1,"n.a.") -> 0.11448598 | G33: =_xlfn.IFERROR(G32/B32-1,"n.a.") -> 0.083847898
A34: Q/Q change | B34: =_xlfn.IFERROR(B32-Inputs!E76,"n.a.") -> 12.1 | C34: =_xlfn.IFERROR(C32-B32,"n.a.") -> 113.8 | D34: =_xlfn.IFERROR(D32-C32,"n.a.") -> -73.8 | E34: =_xlfn.IFERROR(E32-D32,"n.a.") -> 4.6 | F34: n.a. | G34: =_xlfn.IFERROR(G32-E32,"n.a.") -> 3.47
A35: SG&A % of revenue | B35: =B32/B13 -> 0.22885314 | C35: =C32/C13 -> 0.23972507 | D35: =D32/D13 -> 0.22134402 | E35: =E32/E13 -> 0.21363621 | F35: =F32/F13 -> 0.23696682 | G35: =G32/G13 -> 0.21117415
A36: Y/Y change (bp) | B36: =_xlfn.IFERROR((B35-Inputs!B165)*10000,"n.a.") -> -216.74312 | C36: =_xlfn.IFERROR((C35-Inputs!C165)*10000,"n.a.") -> -140.97178 | D36: =_xlfn.IFERROR((D35-Inputs!D165)*10000,"n.a.") -> -286.78173 | E36: =_xlfn.IFERROR((E35-Inputs!E165)*10000,"n.a.") -> -163.63794 | F36: =_xlfn.IFERROR((F35-Inputs!F165)*10000,"n.a.") -> -192.56161 | G36: =_xlfn.IFERROR((G35-B35)*10000,"n.a.") -> -176.78986
A37: Q/Q change (bp) | B37: =_xlfn.IFERROR((B35-Inputs!E165)*10000,"n.a.") -> -11.468604 | C37: =_xlfn.IFERROR((C35-B35)*10000,"n.a.") -> 108.71932 | D37: =_xlfn.IFERROR((D35-C35)*10000,"n.a.") -> -183.81055 | E37: =_xlfn.IFERROR((E35-D35)*10000,"n.a.") -> -77.078097 | F37: n.a. | G37: =_xlfn.IFERROR((G35-E35)*10000,"n.a.") -> -24.620531
A38: Research & development | B38: 329.4 | C38: 352.9 | D38: 361.9 | E38: 370.6 | F38: =Inputs!D77+Inputs!E77+B38+C38 -> 1311.8 | G38: =G115+G155+G156 -> 391.36 | H38: S1
A39: Y/Y % | B39: =_xlfn.IFERROR(B38/Inputs!B77-1,"n.a.") -> 0.15174825 | C39: =_xlfn.IFERROR(C38/Inputs!C77-1,"n.a.") -> 0.19748897 | D39: =_xlfn.IFERROR(D38/Inputs!D77-1,"n.a.") -> 0.14452878 | E39: =_xlfn.IFERROR(E38/Inputs!E77-1,"n.a.") -> 0.1828918 | F39: =_xlfn.IFERROR(F38/Inputs!F77-1,"n.a.") -> 0.14537676 | G39: =_xlfn.IFERROR(G38/B38-1,"n.a.") -> 0.18809957
A40: Q/Q change | B40: =_xlfn.IFERROR(B38-Inputs!E77,"n.a.") -> 16.1 | C40: =_xlfn.IFERROR(C38-B38,"n.a.") -> 23.5 | D40: =_xlfn.IFERROR(D38-C38,"n.a.") -> 9 | E40: =_xlfn.IFERROR(E38-D38,"n.a.") -> 8.7 | F40: n.a. | G40: =_xlfn.IFERROR(G38-E38,"n.a.") -> 20.76
A41: R&D % of revenue | B41: =B38/B13 -> 0.13149176 | C41: =C38/C13 -> 0.12312469 | D41: =D38/D13 -> 0.1306121 | E41: =E38/E13 -> 0.12813332 | F41: =F38/F13 -> 0.13033672 | G41: =G38/G13 -> 0.13300468
...

Sheet Balance Sheet
A1: Intuitive Surgical, Inc. (NasdaqGS: ISRG)
A2: Balance Sheet
A3: $ millions, except per share
A4: Period | B4: 3Q25A | C4: 4Q25A | D4: 1Q26A | E4: 2Q26A | F4: FY25A | G4: 3Q26E | H4: Source
A5: Period end | B5: =DATE(2025,9,30) -> 45930 | C5: =DATE(2025,12,31) -> 46022 | D5: =DATE(2026,3,31) -> 46112 | E5: =DATE(2026,6,30) -> 46203 | F5: =DATE(2025,12,31) -> 46022 | G5: =DATE(2026,9,30) -> 46295
A6: Days in period | B6: =B5-EOMONTH(B5,-3) -> 92 | C6: =C5-EOMONTH(C5,-3) -> 92 | D6: =D5-EOMONTH(D5,-3) -> 90 | E6: =E5-EOMONTH(E5,-3) -> 91 | F6: =F5-DATE(YEAR(F5)-1,12,31) -> 365 | G6: =G5-EOMONTH(G5,-3) -> 92
A8: Assets
A9: Cash and cash equivalents | B9: 2806.6 | C9: 3368 | D9: 2006.5 | E9: 2760.4 | F9: =C9 -> 3368 | G9: ='Cash Flow Statement'!G47-G45-G46 -> 3229.1089 | H9: S3/S4/S5/S6
A10: Short-term investments | B10: 2102.2 | C10: 2566.9 | D10: 2510.8 | E10: 2455.8 | F10: =C10 -> 2566.9 | G10: =E10-('Cash Flow Statement'!G27+'Cash Flow Statement'!G28+'Cash Flow Statement'!G29) -> 2455.8 | H10: S3/S4/S5/S6
A11: Accounts receivable, net | B11: 1259.7 | C11: 1527.3 | D11: 1595.6 | E11: 1673.2 | F11: =C11 -> 1527.3 | G11: =E11-'Cash Flow Statement'!G16 -> 1733.2 | H11: S3/S4/S5/S6
A12: Inventory | B12: 1781.9 | C12: 1840 | D12: 1945.1 | E12: 2028.7 | F12: =C12 -> 1840 | G12: =E12-'Cash Flow Statement'!G17-'Cash Flow Statement'!G60 -> 2068.7 | H12: S3/S4/S5/S6
A13: Prepaids and other current assets | B13: 574.9 | C13: 477.3 | D13: 751.5 | E13: 624.6 | F13: =C13 -> 477.3 | G13: =E13-'Cash Flow Statement'!G18 -> 654.6 | H13: S3/S4/S5/S6
A14: Total current assets | B14: =B9+B10+B11+B12+B13 -> 8525.3 | C14: =C9+C10+C11+C12+C13 -> 9779.5 | D14: =D9+D10+D11+D12+D13 -> 8809.5 | E14: =E9+E10+E11+E12+E13 -> 9542.7 | F14: =F9+F10+F11+F12+F13 -> 9779.5 | G14: =G9+G10+G11+G12+G13 -> 10141.409
A15: Property, plant and equipment, net | B15: 5150.9 | C15: 5342.4 | D15: 5447.9 | E15: 5551.5 | F15: =C15 -> 5342.4 | G15: =E15-'Cash Flow Statement'!G31+'Cash Flow Statement'!G60-'Cash Flow Statement'!G10 -> 5696.5 | H15: S3/S4/S5/S6
A16: Long-term investments | B16: 3523.7 | C16: 3099.2 | D16: 3461.9 | E16: 3409.3 | F16: =C16 -> 3099.2 | G16: =E16-'Cash Flow Statement'!G12 -> 3419.3 | H16: S3/S4/S5/S6
A17: Deferred tax assets | B17: 978.9 | C17: 1018.6 | D17: 683.8 | E17: 652.4 | F17: =C17 -> 1018.6 | G17: =E17-'Cash Flow Statement'!G14 -> 622.4 | H17: S3/S4/S5/S6
A18: Intangible and other assets, net | B18: 824.9 | C18: 848.7 | D18: 1094.7 | E18: 1140.1 | F18: =C18 -> 848.7 | G18: =E18-'Cash Flow Statement'!G11-'Cash Flow Statement'!G32 -> 1102.1 | H18: S3/S4/S5/S6
A19: Goodwill | B19: 348.1 | C19: 370.3 | D19: 613.2 | E19: 580.6 | F19: =C19 -> 370.3 | G19: =E19 -> 580.6 | H19: S3/S4/S5/S6
A20: Total assets | B20: =B14+B15+B16+B17+B18+B19 -> 19351.8 | C20: =C14+C15+C16+C17+C18+C19 -> 20458.7 | D20: =D14+D15+D16+D17+D18+D19 -> 20111 | E20: =E14+E15+E16+E17+E18+E19 -> 20876.6 | F20: =F14+F15+F16+F17+F18+F19 -> 20458.7 | G20: =G14+G15+G16+G17+G18+G19 -> 21562.309
A21: Liabilities
A22: Accounts payable | B22: 291.2 | C22: 255.1 | D22: 332.9 | E22: 277.2 | F22: =C22 -> 255.1 | G22: =E22+'Cash Flow Statement'!G19 -> 287.2 | H22: S3/S4/S5/S6
A23: Accrued compensation & benefits | B23: 455.5 | C23: 648.4 | D23: 370.7 | E23: 425.7 | F23: =C23 -> 648.4 | G23: =E23+'Cash Flow Statement'!G20 -> 485.7 | H23: S3/S4/S5/S6
A24: Deferred revenue | B24: 491.1 | C24: 506.7 | D24: 559.5 | E24: 549.4 | F24: =C24 -> 506.7 | G24: =E24+'Cash Flow Statement'!G21 -> 549.4 | H24: S3/S4/S5/S6
A25: Other accrued liabilities | B25: 565.4 | C25: 596 | D25: 647.9 | E25: 670.6 | F25: =C25 -> 596 | G25: =E25+'Cash Flow Statement'!G22 -> 690.6 | H25: S3/S4/S5/S6
A26: Total current liabilities | B26: =B22+B23+B24+B25 -> 1803.2 | C26: =C22+C23+C24+C25 -> 2006.2 | D26: =D22+D23+D24+D25 -> 1911 | E26: =E22+E23+E24+E25 -> 1922.9 | F26: =F22+F23+F24+F25 -> 2006.2 | G26: =G22+G23+G24+G25 -> 2012.9
A27: Other long-term liabilities | B27: 506.5 | C27: 510.8 | D27: 602.8 | E27: 656 | F27: =C27 -> 510.8 | G27: =E27 -> 656 | H27: S3/S4/S5/S6
A28: Total liabilities | B28: =B26+B27 -> 2309.7 | C28: =C26+C27 -> 2517 | D28: =D26+D27 -> 2513.8 | E28: =E26+E27 -> 2578.9 | F28: =F26+F27 -> 2517 | G28: =G26+G27 -> 2668.9
A29: Stockholders' equity
A30: Common stock | B30: 0.4 | C30: 0.4 | D30: 0.4 | E30: 0.4 | F30: =C30 -> 0.4 | G30: =E30 -> 0.4 | H30: S3/S4/S5/S6
A31: Additional paid-in capital | B31: 10478.8 | C31: 10768.5 | D31: 11059.9 | E31: 11325 | F31: =C31 -> 10768.5 | G31: =E31+'Cash Flow Statement'!G15+'Cash Flow Statement'!G37+'Cash Flow Statement'!G38+'Cash Flow Statement'!G40 -> 11625 | H31: S3/S4/S5/S6
A32: Retained earnings | B32: 6424 | C32: 7011.8 | D32: 6397.7 | E32: 6837.2 | F32: =C32 -> 7011.8 | G32: =E32+'Income Statement'!G62+'Cash Flow Statement'!G39 -> 7127.9089 | H32: S3/S4/S5/S6
A33: Accumulated OCI | B33: 26.5 | C33: 43.3 | D33: 16.5 | E33: 5.8 | F33: =C33 -> 43.3 | G33: =E33 -> 5.8 | H33: S3/S4/S5/S6
A34: Total Intuitive stockholders' equity | B34: =B30+B31+B32+B33 -> 16929.7 | C34: =C30+C31+C32+C33 -> 17824 | D34: =D30+D31+D32+D33 -> 17474.5 | E34: =E30+E31+E32+E33 -> 18168.4 | F34: =F30+F31+F32+F33 -> 17824 | G34: =G30+G31+G32+G33 -> 18759.109
A35: Noncontrolling interest (JV) | B35: 112.4 | C35: 117.7 | D35: 122.7 | E35: 129.3 | F35: =C35 -> 117.7 | G35: =E35+'Income Statement'!G61 -> 134.3 | H35: S3/S4/S5/S6
A36: Total stockholders' equity | B36: =B34+B35 -> 17042.1 | C36: =C34+C35 -> 17941.7 | D36: =D34+D35 -> 17597.2 | E36: =E34+E35 -> 18297.7 | F36: =F34+F35 -> 17941.7 | G36: =G34+G35 -> 18893.409
A37: Total liabilities & equity | B37: =B28+B36 -> 19351.8 | C37: =C28+C36 -> 20458.7 | D37: =D28+D36 -> 20111 | E37: =E28+E36 -> 20876.6 | F37: =F28+F36 -> 20458.7 | G37: =G28+G36 -> 21562.309
A38: Checks
A39: Check: assets - liab. - equity (= 0) | B39: =ROUND(B20-B28-B36,6) -> 0 | C39: =ROUND(C20-C28-C36,6) -> 0 | D39: =ROUND(D20-D28-D36,6) -> 0 | E39: =ROUND(E20-E28-E36,6) -> 0 | F39: =ROUND(F20-F28-F36,6) -> 0 | G39: =ROUND(G20-G28-G36,6) -> 0
A40: Total assets (as reported) | B40: 19351.8 | C40: 20458.7 | D40: 20111 | E40: 20876.6 | F40: =C40 -> 20458.7 | G40: n.a. | H40: S3/S4/S5/S6
A41: Check: total assets = reported (= 0) | B41: =ROUND(B20-B40,6) -> 0 | C41: =ROUND(C20-C40,6) -> 0 | D41: =ROUND(D20-D40,6) -> 0 | E41: =ROUND(E20-E40,6) -> 0 | F41: =ROUND(F20-F40,6) -> 0 | G41: n.a.
...

Sheet Cash Flow Statement
A1: Intuitive Surgical, Inc. (NasdaqGS: ISRG)
A2: Cash Flow Statement
A3: $ millions, except per share
A4: Period | B4: 3Q25A | C4: 4Q25A | D4: 1Q26A | E4: 2Q26A | F4: FY25A | G4: 3Q26E | H4: Source
A5: Period end | B5: =DATE(2025,9,30) -> 45930 | C5: =DATE(2025,12,31) -> 46022 | D5: =DATE(2026,3,31) -> 46112 | E5: =DATE(2026,6,30) -> 46203 | F5: =DATE(2025,12,31) -> 46022 | G5: =DATE(2026,9,30) -> 46295
A6: Days in period | B6: =B5-EOMONTH(B5,-3) -> 92 | C6: =C5-EOMONTH(C5,-3) -> 92 | D6: =D5-EOMONTH(D5,-3) -> 90 | E6: =E5-EOMONTH(E5,-3) -> 91 | F6: =F5-DATE(YEAR(F5)-1,12,31) -> 365 | G6: =G5-EOMONTH(G5,-3) -> 92
A8: Operating activities
A9: Net income | B9: =Inputs!C192-Inputs!B192 -> 709.2 | C9: =Inputs!D192-Inputs!C192 -> 799.5 | D9: =Inputs!E192 -> 826 | E9: =Inputs!F192-Inputs!E192 -> 823.2 | F9: =Inputs!B192+B9+C9 -> 2876.6 | G9: ='Income Statement'!G60 -> 795.70893 | H9: S3/S4/S5/S6
A10: Depreciation & loss on PP&E disposal | B10: =Inputs!C193-Inputs!B193 -> 156.7 | C10: =Inputs!D193-Inputs!C193 -> 168.4 | D10: =Inputs!E193 -> 178.9 | E10: =Inputs!F193-Inputs!E193 -> 192.3 | F10: =Inputs!B193+B10+C10 -> 614.7 | G10: 195 | H10: S3/S4/S5/S6
A11: Amortization of intangibles & other | B11: =Inputs!C194-Inputs!B194 -> 12.9 | C11: =Inputs!D194-Inputs!C194 -> 25.1 | D11: =Inputs!E194 -> 21.1 | E11: =Inputs!F194-Inputs!E194 -> 38.8 | F11: =Inputs!B194+B11+C11 -> 62.4 | G11: 38 | H11: S3/S4/S5/S6
A12: (Gains) on investments/accretion | B12: =Inputs!C197-Inputs!B197 -> -14.9 | C12: =Inputs!D197-Inputs!C197 -> -14.9 | D12: =Inputs!E197 -> -10.2 | E12: =Inputs!F197-Inputs!E197 -> -8.8 | F12: =Inputs!B197+B12+C12 -> -57.2 | G12: -10 | H12: S3/S4/S5/S6
A13: Gain on sale of business and assets | B13: =Inputs!C198-Inputs!B198 -> 0 | C13: =Inputs!D198-Inputs!C198 -> -1 | D13: =Inputs!E198 -> -7.9 | E13: =Inputs!F198-Inputs!E198 -> 0 | F13: =Inputs!B198+B13+C13 -> -1 | G13: 0 | H13: S3/S4/S5/S6
A14: Deferred income taxes | B14: =Inputs!C199-Inputs!B199 -> 88 | C14: =Inputs!D199-Inputs!C199 -> -39.5 | D14: =Inputs!E199 -> 339.3 | E14: =Inputs!F199-Inputs!E199 -> 31 | F14: =Inputs!B199+B14+C14 -> 19.1 | G14: 30 | H14: S3/S4/S5/S6
A15: Share-based compensation expense | B15: =Inputs!C200-Inputs!B200 -> 203.5 | C15: =Inputs!D200-Inputs!C200 -> 203.3 | D15: =Inputs!E200 -> 209.5 | E15: =Inputs!F200-Inputs!E200 -> 209.9 | F15: =Inputs!B200+B15+C15 -> 788.2 | G15: ='Income Statement'!G159 -> 230 | H15: S3/S4/S5/S6
A16: Change in accounts receivable | B16: =Inputs!C201-Inputs!B201 -> 9.9 | C16: =Inputs!D201-Inputs!C201 -> -267.5 | D16: =Inputs!E201 -> 25.1 | E16: =Inputs!F201-Inputs!E201 -> -74.9 | F16: =Inputs!B201+B16+C16 -> -301.7 | G16: -60 | H16: S3/S4/S5/S6
A17: Change in inventory | B17: =Inputs!C202-Inputs!B202 -> -316.2 | C17: =Inputs!D202-Inputs!C202 -> -253 | D17: =Inputs!E202 -> -266.6 | E17: =Inputs!F202-Inputs!E202 -> -248 | F17: =Inputs!B202+B17+C17 -> -1063.4 | G17: -250 | H17: S3/S4/S5/S6
A18: Change in prepaids and other assets | B18: =Inputs!C203-Inputs!B203 -> -107.1 | C18: =Inputs!D203-Inputs!C203 -> 61.8 | D18: =Inputs!E203 -> -269.3 | E18: =Inputs!F203-Inputs!E203 -> 90.3 | F18: =Inputs!B203+B18+C18 -> -187.1 | G18: -30 | H18: S3/S4/S5/S6
A19: Change in accounts payable | B19: =Inputs!C204-Inputs!B204 -> 24.6 | C19: =Inputs!D204-Inputs!C204 -> -39.1 | D19: =Inputs!E204 -> 73.9 | E19: =Inputs!F204-Inputs!E204 -> -52.5 | F19: =Inputs!B204+B19+C19 -> 57.9 | G19: 10 | H19: S3/S4/S5/S6
A20: Change in accrued compensation | B20: =Inputs!C205-Inputs!B205 -> 34.7 | C20: =Inputs!D205-Inputs!C205 -> 192.9 | D20: =Inputs!E205 -> -284.7 | E20: =Inputs!F205-Inputs!E205 -> 55 | F20: =Inputs!B205+B20+C20 -> 112.7 | G20: 60 | H20: S3/S4/S5/S6
A21: Change in deferred revenue | B21: =Inputs!C206-Inputs!B206 -> -1.2 | C21: =Inputs!D206-Inputs!C206 -> 27.6 | D21: =Inputs!E206 -> 46.1 | E21: =Inputs!F206-Inputs!E206 -> -1.4 | F21: =Inputs!B206+B21+C21 -> 75.2 | G21: 0 | H21: S3/S4/S5/S6
A22: Change in other liabilities | B22: =Inputs!C207-Inputs!B207 -> 40.9 | C22: =Inputs!D207-Inputs!C207 -> 28.9 | D22: =Inputs!E207 -> 30.7 | E22: =Inputs!F207-Inputs!E207 -> 6.1 | F22: =Inputs!B207+B22+C22 -> 34.1 | G22: 20 | H22: S3/S4/S5/S6
A23: Net cash from operating activities | B23: =B9+B10+B11+B12+B13+B14+B15+B16+B17+B18+B19+B20+B21+B22 -> 841 | C23: =C9+C10+C11+C12+C13+C14+C15+C16+C17+C18+C19+C20+C21+C22 -> 892.5 | D23: =D9+D10+D11+D12+D13+D14+D15+D16+D17+D18+D19+D20+D21+D22 -> 911.9 | E23: =E9+E10+E11+E12+E13+E14+E15+E16+E17+E18+E19+E20+E21+E22 -> 1061 | F23: =F9+F10+F11+F12+F13+F14+F15+F16+F17+F18+F19+F20+F21+F22 -> 3030.5 | G23: =G9+G10+G11+G12+G13+G14+G15+G16+G17+G18+G19+G20+G21+G22 -> 1028.7089
A24: Operating cash flow (as reported) | B24: =Inputs!C208-Inputs!B208 -> 841 | C24: =Inputs!D208-Inputs!C208 -> 892.5 | D24: =Inputs!E208 -> 911.9 | E24: =Inputs!F208-Inputs!E208 -> 1061 | F24: =Inputs!B208+B24+C24 -> 3030.5 | G24: n.a. | H24: S3/S4/S5/S6
A25: Check: OCF = reported (= 0) | B25: =ROUND(B23-B24,6) -> 0 | C25: =ROUND(C23-C24,6) -> 0 | D25: =ROUND(D23-D24,6) -> 0 | E25: =ROUND(E23-E24,6) -> 0 | F25: =ROUND(F23-F24,6) -> 0 | G25: n.a.
A26: Investing activities
A27: Purchases of investments | B27: =Inputs!C209-Inputs!B209 -> -99.1 | C27: =Inputs!D209-Inputs!C209 -> -425 | D27: =Inputs!E209 -> -911.3 | E27: =Inputs!F209-Inputs!E209 -> -437.8 | F27: =Inputs!B209+B27+C27 -> -1215.9 | G27: -700 | H27: S3/S4/S5/S6
A28: Proceeds from sales of investments | B28: =Inputs!C210-Inputs!B210 -> 0 | C28: =Inputs!D210-Inputs!C210 -> 10.8 | D28: =Inputs!E210 -> 0 | E28: =Inputs!F210-Inputs!E210 -> 0.1 | F28: =Inputs!B210+B28+C28 -> 259.9 | G28: 0 | H28: S3/S4/S5/S6
A29: Maturities of investments | B29: =Inputs!C211-Inputs!B211 -> 605.5 | C29: =Inputs!D211-Inputs!C211 -> 380 | D29: =Inputs!E211 -> 582.3 | E29: =Inputs!F211-Inputs!E211 -> 523.7 | F29: =Inputs!B211+B29+C29 -> 2175.5 | G29: 700 | H29: S3/S4/S5/S6
A30: Proceeds from sale of assets | B30: =Inputs!C212-Inputs!B212 -> 0 | C30: =Inputs!D212-Inputs!C212 -> 0 | D30: =Inputs!E212 -> 46 | E30: =Inputs!F212-Inputs!E212 -> 0 | F30: =Inputs!B212+B30+C30 -> 0 | G30: 0 | H30: S3/S4/S5/S6
A31: Purchases of PP&E (capex) | B31: =Inputs!C213-Inputs!B213 -> -105.4 | C31: =Inputs!D213-Inputs!C213 -> -162.5 | D31: =Inputs!E213 -> -103.3 | E31: =Inputs!F213-Inputs!E213 -> -112.6 | F31: =Inputs!B213+B31+C31 -> -539.8 | G31: -130 | H31: S3/S4/S5/S6
A32: Acquisitions, IP and other | B32: =Inputs!C214-Inputs!B214 -> 0 | C32: =Inputs!D214-Inputs!C214 -> -12.7 | D32: =Inputs!E214 -> -528.2 | E32: =Inputs!F214-Inputs!E214 -> 0 | F32: =Inputs!B214+B32+C32 -> -13.9 | G32: 0 | H32: S3/S4/S5/S6
A33: Net cash from investing activities | B33: =B27+B28+B29+B30+B31+B32 -> 401 | C33: =C27+C28+C29+C30+C31+C32 -> -209.4 | D33: =D27+D28+D29+D30+D31+D32 -> -914.5 | E33: =E27+E28+E29+E30+E31+E32 -> -26.6 | F33: =F27+F28+F29+F30+F31+F32 -> 665.8 | G33: =G27+G28+G29+G30+G31+G32 -> -130
A34: Investing cash flow (as reported) | B34: =Inputs!C215-Inputs!B215 -> 401 | C34: =Inputs!D215-Inputs!C215 -> -209.4 | D34: =Inputs!E215 -> -914.5 | E34: =Inputs!F215-Inputs!E215 -> -26.6 | F34: =Inputs!B215+B34+C34 -> 665.8 | G34: n.a. | H34: S3/S4/S5/S6
A35: Check: lines sum to reported (= 0) | B35: =ROUND(B33-B34,6) -> 0 | C35: =ROUND(C33-C34,6) -> 0 | D35: =ROUND(D33-D34,6) -> 0 | E35: =ROUND(E33-E34,6) -> 0 | F35: =ROUND(F33-F34,6) -> 0 | G35: n.a.
A36: Financing activities
A37: Proceeds from employee stock plans | B37: =Inputs!C216-Inputs!B216 -> 90 | C37: =Inputs!D216-Inputs!C216 -> 76.6 | D37: =Inputs!E216 -> 121.8 | E37: =Inputs!F216-Inputs!E216 -> 65.6 | F37: =Inputs!B216+B37+C37 -> 350.3 | G37: 90 | H37: S3/S4/S5/S6
A38: Taxes paid on net share settlement | B38: =Inputs!C217-Inputs!B217 -> -19.7 | C38: =Inputs!D217-Inputs!C217 -> -13.1 | D38: =Inputs!E217 -> -352.3 | E38: =Inputs!F217-Inputs!E217 -> -13.1 | F38: =Inputs!B217+B38+C38 -> -419.1 | G38: -20 | H38: S3/S4/S5/S6
A39: Repurchase of common stock | B39: =Inputs!C218-Inputs!B218 -> -1913.3 | C39: =Inputs!D218-Inputs!C218 -> -201 | D39: =Inputs!E218 -> -1123.2 | E39: =Inputs!F218-Inputs!E218 -> -320.3 | F39: =Inputs!B218+B39+C39 -> -2295.3 | G39: =-'Share Count'!G16 -> -500 | H39: S3/S4/S5/S6
A40: Other financing activities | B40: =Inputs!C219-Inputs!B219 -> 0 | C40: =Inputs!D219-Inputs!C219 -> 0 | D40: =Inputs!E219 -> 0 | E40: =Inputs!F219-Inputs!E219 -> -20.1 | F40: =Inputs!B219+B40+C40 -> 0 | G40: 0 | H40: S3/S4/S5/S6
A41: Net cash from financing activities | B41: =B37+B38+B39+B40 -> -1843 | C41: =C37+C38+C39+C40 -> -137.5 | D41: =D37+D38+D39+D40 -> -1353.7 | E41: =E37+E38+E39+E40 -> -287.9 | F41: =F37+F38+F39+F40 -> -2364.1 | G41: =G37+G38+G39+G40 -> -430
...

Sheet Geo
A1: Intuitive Surgical, Inc. (NasdaqGS: ISRG)
A2: Revenue by geography (U.S. / OUS)
A3: $ millions, except per share
A4: Period | B4: 3Q25A | C4: 4Q25A | D4: 1Q26A | E4: 2Q26A | F4: FY25A | G4: 3Q26E | H4: Source
A5: Period end | B5: =DATE(2025,9,30) -> 45930 | C5: =DATE(2025,12,31) -> 46022 | D5: =DATE(2026,3,31) -> 46112 | E5: =DATE(2026,6,30) -> 46203 | F5: =DATE(2025,12,31) -> 46022 | G5: =DATE(2026,9,30) -> 46295
A6: Days in period | B6: =B5-EOMONTH(B5,-3) -> 92 | C6: =C5-EOMONTH(C5,-3) -> 92 | D6: =D5-EOMONTH(D5,-3) -> 90 | E6: =E5-EOMONTH(E5,-3) -> 91 | F6: =F5-DATE(YEAR(F5)-1,12,31) -> 365 | G6: =G5-EOMONTH(G5,-3) -> 92
A8: United States
A9: U.S. instruments & accessories | B9: 1062 | C9: 1160.3 | D9: 1121.8 | E9: 1180.4 | F9: =Inputs!D64+Inputs!E64+B9+C9 -> 4203.4 | G9: ='Revenue summary'!G351-G39 -> 1204.3015 | H9: S1
A10: Y/Y % | B10: =_xlfn.IFERROR(B9/Inputs!B64-1,"n.a.") -> 0.17374005 | C10: =_xlfn.IFERROR(C9/Inputs!C64-1,"n.a.") -> 0.15131971 | D10: =_xlfn.IFERROR(D9/Inputs!D64-1,"n.a.") -> 0.16393443 | E10: =_xlfn.IFERROR(E9/Inputs!E64-1,"n.a.") -> 0.16032635 | F10: =_xlfn.IFERROR(F9/Inputs!F64-1,"n.a.") -> 0.15911096 | G10: =_xlfn.IFERROR(G9/B9-1,"n.a.") -> 0.13399384
A11: Q/Q % | B11: =_xlfn.IFERROR(B9/Inputs!E64-1,"n.a.") -> 0.043939841 | C11: =_xlfn.IFERROR(C9/B9-1,"n.a.") -> 0.092561205 | D11: =_xlfn.IFERROR(D9/C9-1,"n.a.") -> -0.033181074 | E11: =_xlfn.IFERROR(E9/D9-1,"n.a.") -> 0.052237475 | F11: n.a. | G11: =_xlfn.IFERROR(G9/E9-1,"n.a.") -> 0.020248606
A12: M&A / scope impact | B12: 0 | C12: 0 | D12: 0 | E12: 0 | F12: 0 | G12: 0 | H12: S3; G: assumption
A13: FX impact | B13: 0 | C13: 0 | D13: 0 | E13: 0 | F13: 0 | G13: 0
A14: Organic = (1+Y/Y)/((1+M&A)(1+FX))-1 | B14: =IF(AND(ISNUMBER(B12),ISNUMBER(B13),ISNUMBER(B10)),(1+B10)/((1+B12)*(1+B13))-1,"n.d.") -> 0.17374005 | C14: =IF(AND(ISNUMBER(C12),ISNUMBER(C13),ISNUMBER(C10)),(1+C10)/((1+C12)*(1+C13))-1,"n.d.") -> 0.15131971 | D14: =IF(AND(ISNUMBER(D12),ISNUMBER(D13),ISNUMBER(D10)),(1+D10)/((1+D12)*(1+D13))-1,"n.d.") -> 0.16393443 | E14: =IF(AND(ISNUMBER(E12),ISNUMBER(E13),ISNUMBER(E10)),(1+E10)/((1+E12)*(1+E13))-1,"n.d.") -> 0.16032635 | F14: =IF(AND(ISNUMBER(F12),ISNUMBER(F13),ISNUMBER(F10)),(1+F10)/((1+F12)*(1+F13))-1,"n.d.") -> 0.15911096 | G14: =IF(AND(ISNUMBER(G12),ISNUMBER(G13),ISNUMBER(G10)),(1+G10)/((1+G12)*(1+G13))-1,"n.d.") -> 0.13399384
A15: Total Y/Y | B15: =B10 -> 0.17374005 | C15: =C10 -> 0.15131971 | D15: =D10 -> 0.16393443 | E15: =E10 -> 0.16032635 | F15: =F10 -> 0.15911096 | G15: =G10 -> 0.13399384
A16: U.S. systems | B16: 397.5 | C16: 494.4 | D16: 379.8 | E16: 442.1 | F16: =Inputs!D65+Inputs!E65+B16+C16 -> 1581.8 | G16: ='Revenue summary'!G413-G46 -> 456.88949 | H16: S1
A17: Y/Y % | B17: =_xlfn.IFERROR(B16/Inputs!B65-1,"n.a.") -> 0.49773926 | C17: =_xlfn.IFERROR(C16/Inputs!C65-1,"n.a.") -> 0.17602284 | D17: =_xlfn.IFERROR(D16/Inputs!D65-1,"n.a.") -> 0.13069366 | E17: =_xlfn.IFERROR(E16/Inputs!E65-1,"n.a.") -> 0.24887006 | F17: =_xlfn.IFERROR(F16/Inputs!F65-1,"n.a.") -> 0.40905042 | G17: =_xlfn.IFERROR(G16/B16-1,"n.a.") -> 0.14940752
A18: Q/Q % | B18: =_xlfn.IFERROR(B16/Inputs!E65-1,"n.a.") -> 0.12288136 | C18: =_xlfn.IFERROR(C16/B16-1,"n.a.") -> 0.24377358 | D18: =_xlfn.IFERROR(D16/C16-1,"n.a.") -> -0.23179612 | E18: =_xlfn.IFERROR(E16/D16-1,"n.a.") -> 0.1640337 | F18: n.a. | G18: =_xlfn.IFERROR(G16/E16-1,"n.a.") -> 0.033452812
A19: M&A / scope impact | B19: 0 | C19: 0 | D19: 0 | E19: 0 | F19: 0 | G19: 0 | H19: S3; G: assumption
A20: FX impact | B20: 0 | C20: 0 | D20: 0 | E20: 0 | F20: 0 | G20: 0
A21: Organic = (1+Y/Y)/((1+M&A)(1+FX))-1 | B21: =IF(AND(ISNUMBER(B19),ISNUMBER(B20),ISNUMBER(B17)),(1+B17)/((1+B19)*(1+B20))-1,"n.d.") -> 0.49773926 | C21: =IF(AND(ISNUMBER(C19),ISNUMBER(C20),ISNUMBER(C17)),(1+C17)/((1+C19)*(1+C20))-1,"n.d.") -> 0.17602284 | D21: =IF(AND(ISNUMBER(D19),ISNUMBER(D20),ISNUMBER(D17)),(1+D17)/((1+D19)*(1+D20))-1,"n.d.") -> 0.13069366 | E21: =IF(AND(ISNUMBER(E19),ISNUMBER(E20),ISNUMBER(E17)),(1+E17)/((1+E19)*(1+E20))-1,"n.d.") -> 0.24887006 | F21: =IF(AND(ISNUMBER(F19),ISNUMBER(F20),ISNUMBER(F17)),(1+F17)/((1+F19)*(1+F20))-1,"n.d.") -> 0.40905042 | G21: =IF(AND(ISNUMBER(G19),ISNUMBER(G20),ISNUMBER(G17)),(1+G17)/((1+G19)*(1+G20))-1,"n.d.") -> 0.14940752
A22: Total Y/Y | B22: =B17 -> 0.49773926 | C22: =C17 -> 0.17602284 | D22: =D17 -> 0.13069366 | E22: =E17 -> 0.24887006 | F22: =F17 -> 0.40905042 | G22: =G17 -> 0.14940752
A23: U.S. services | B23: 258.1 | C23: 275.9 | D23: 281.7 | E23: 310.7 | F23: =Inputs!D66+Inputs!E66+B23+C23 -> 1030.6 | G23: ='Revenue summary'!G466-G53 -> 315.29027 | H23: S1
A24: Y/Y % | B24: =_xlfn.IFERROR(B23/Inputs!B66-1,"n.a.") -> 0.23374761 | C24: =_xlfn.IFERROR(C23/Inputs!C66-1,"n.a.") -> 0.23114681 | D24: =_xlfn.IFERROR(D23/Inputs!D66-1,"n.a.") -> 0.18113208 | E24: =_xlfn.IFERROR(E23/Inputs!E66-1,"n.a.") -> 0.20379698 | F24: =_xlfn.IFERROR(F23/Inputs!F66-1,"n.a.") -> 0.2263208 | G24: =_xlfn.IFERROR(G23/B23-1,"n.a.") -> 0.22158184
A25: Q/Q % | B25: =_xlfn.IFERROR(B23/Inputs!E66-1,"n.a.") -> 0 | C25: =_xlfn.IFERROR(C23/B23-1,"n.a.") -> 0.068965517 | D25: =_xlfn.IFERROR(D23/C23-1,"n.a.") -> 0.021022109 | E25: =_xlfn.IFERROR(E23/D23-1,"n.a.") -> 0.1029464 | F25: n.a. | G25: =_xlfn.IFERROR(G23/E23-1,"n.a.") -> 0.014773975
A26: M&A / scope impact | B26: 0 | C26: 0 | D26: 0 | E26: 0 | F26: 0 | G26: 0 | H26: S3; G: assumption
A27: FX impact | B27: 0 | C27: 0 | D27: 0 | E27: 0 | F27: 0 | G27: 0
A28: Organic = (1+Y/Y)/((1+M&A)(1+FX))-1 | B28: =IF(AND(ISNUMBER(B26),ISNUMBER(B27),ISNUMBER(B24)),(1+B24)/((1+B26)*(1+B27))-1,"n.d.") -> 0.23374761 | C28: =IF(AND(ISNUMBER(C26),ISNUMBER(C27),ISNUMBER(C24)),(1+C24)/((1+C26)*(1+C27))-1,"n.d.") -> 0.23114681 | D28: =IF(AND(ISNUMBER(D26),ISNUMBER(D27),ISNUMBER(D24)),(1+D24)/((1+D26)*(1+D27))-1,"n.d.") -> 0.18113208 | E28: =IF(AND(ISNUMBER(E26),ISNUMBER(E27),ISNUMBER(E24)),(1+E24)/((1+E26)*(1+E27))-1,"n.d.") -> 0.20379698 | F28: =IF(AND(ISNUMBER(F26),ISNUMBER(F27),ISNUMBER(F24)),(1+F24)/((1+F26)*(1+F27))-1,"n.d.") -> 0.2263208 | G28: =IF(AND(ISNUMBER(G26),ISNUMBER(G27),ISNUMBER(G24)),(1+G24)/((1+G26)*(1+G27))-1,"n.d.") -> 0.22158184
A29: Total Y/Y | B29: =B24 -> 0.23374761 | C29: =C24 -> 0.23114681 | D29: =D24 -> 0.18113208 | E29: =E24 -> 0.20379698 | F29: =F24 -> 0.2263208 | G29: =G24 -> 0.22158184
A30: Total U.S. revenue | B30: =B9+B16+B23 -> 1717.6 | C30: =C9+C16+C23 -> 1930.6 | D30: =D9+D16+D23 -> 1783.3 | E30: =E9+E16+E23 -> 1933.2 | F30: =F9+F16+F23 -> 6815.8 | G30: =G9+G16+G23 -> 1976.4812
A31: Y/Y % | B31: =_xlfn.IFERROR(B30/Inputs!B70-1,"n.a.") -> 0.24517906 | C31: =_xlfn.IFERROR(C30/Inputs!C70-1,"n.a.") -> 0.16843188 | D31: =_xlfn.IFERROR(D30/Inputs!D70-1,"n.a.") -> 0.15934209 | E31: =_xlfn.IFERROR(E30/Inputs!E70-1,"n.a.") -> 0.186449 | F31: =_xlfn.IFERROR(F30/Inputs!F70-1,"n.a.") -> 0.21941532 | G31: =_xlfn.IFERROR(G30/B30-1,"n.a.") -> 0.15072265
A32: Q/Q % | B32: =_xlfn.IFERROR(B30/Inputs!E70-1,"n.a.") -> 0.054130355 | C32: =_xlfn.IFERROR(C30/B30-1,"n.a.") -> 0.12401025 | D32: =_xlfn.IFERROR(D30/C30-1,"n.a.") -> -0.076297524 | E32: =_xlfn.IFERROR(E30/D30-1,"n.a.") -> 0.084057646 | F32: n.a. | G32: =_xlfn.IFERROR(G30/E30-1,"n.a.") -> 0.02238838
A33: % of total revenue | B33: =B30/'Revenue summary'!B34 -> 0.68564129 | C33: =C30/'Revenue summary'!C34 -> 0.67357477 | D33: =D30/'Revenue summary'!D34 -> 0.64360474 | E33: =E30/'Revenue summary'!E34 -> 0.66839539 | F33: =F30/'Revenue summary'!F34 -> 0.67719853 | G33: =G30/'Revenue summary'!G34 -> 0.6717121
A34: M&A / scope impact | B34: 0 | C34: 0 | D34: 0 | E34: 0 | F34: 0 | G34: 0 | H34: S3; G: assumption
A35: FX impact | B35: 0 | C35: 0 | D35: 0 | E35: 0 | F35: 0 | G35: 0
A36: Organic = (1+Y/Y)/((1+M&A)(1+FX))-1 | B36: =IF(AND(ISNUMBER(B34),ISNUMBER(B35),ISNUMBER(B31)),(1+B31)/((1+B34)*(1+B35))-1,"n.d.") -> 0.24517906 | C36: =IF(AND(ISNUMBER(C34),ISNUMBER(C35),ISNUMBER(C31)),(1+C31)/((1+C34)*(1+C35))-1,"n.d.") -> 0.16843188 | D36: =IF(AND(ISNUMBER(D34),ISNUMBER(D35),ISNUMBER(D31)),(1+D31)/((1+D34)*(1+D35))-1,"n.d.") -> 0.15934209 | E36: =IF(AND(ISNUMBER(E34),ISNUMBER(E35),ISNUMBER(E31)),(1+E31)/((1+E34)*(1+E35))-1,"n.d.") -> 0.186449 | F36: =IF(AND(ISNUMBER(F34),ISNUMBER(F35),ISNUMBER(F31)),(1+F31)/((1+F34)*(1+F35))-1,"n.d.") -> 0.21941532 | G36: =IF(AND(ISNUMBER(G34),ISNUMBER(G35),ISNUMBER(G31)),(1+G31)/((1+G34)*(1+G35))-1,"n.d.") -> 0.15072265
A37: Total Y/Y | B37: =B31 -> 0.24517906 | C37: =C31 -> 0.16843188 | D37: =D31 -> 0.15934209 | E37: =E31 -> 0.186449 | F37: =F31 -> 0.21941532 | G37: =G31 -> 0.15072265
A38: Outside the United States (OUS)
A39: OUS instruments & accessories | B39: 456.8 | C39: 498 | D39: 564.6 | E39: 554.5 | F39: =Inputs!D67+Inputs!E67+B39+C39 -> 1815.5 | G39: ='Revenue summary'!G351*G70 -> 566.7301 | H39: S1
A40: Y/Y % | B40: =_xlfn.IFERROR(B39/Inputs!B67-1,"n.a.") -> 0.27100723 | C40: =_xlfn.IFERROR(C39/Inputs!C67-1,"n.a.") -> 0.2335893 | D40: =_xlfn.IFERROR(D39/Inputs!D67-1,"n.a.") -> 0.39787076 | E40: =_xlfn.IFERROR(E39/Inputs!E67-1,"n.a.") -> 0.21387916 | F40: =_xlfn.IFERROR(F39/Inputs!F67-1,"n.a.") -> 0.24982789 | G40: =_xlfn.IFERROR(G39/B39-1,"n.a.") -> 0.24065257
A41: Q/Q % | B41: =_xlfn.IFERROR(B39/Inputs!E67-1,"n.a.") -> 0 | C41: =_xlfn.IFERROR(C39/B39-1,"n.a.") -> 0.090192644 | D41: =_xlfn.IFERROR(D39/C39-1,"n.a.") -> 0.13373494 | E41: =_xlfn.IFERROR(E39/D39-1,"n.a.") -> -0.017888771 | F41: n.a. | G41: =_xlfn.IFERROR(G39/E39-1,"n.a.") -> 0.022056079
...

Sheet Share Count
A1: Intuitive Surgical, Inc. (NasdaqGS: ISRG)
A2: Share Count
A3: $ millions, except per share
A4: Period | B4: 3Q25A | C4: 4Q25A | D4: 1Q26A | E4: 2Q26A | F4: FY25A | G4: 3Q26E | H4: Source
A5: Period end | B5: =DATE(2025,9,30) -> 45930 | C5: =DATE(2025,12,31) -> 46022 | D5: =DATE(2026,3,31) -> 46112 | E5: =DATE(2026,6,30) -> 46203 | F5: =DATE(2025,12,31) -> 46022 | G5: =DATE(2026,9,30) -> 46295
A6: Days in period | B6: =B5-EOMONTH(B5,-3) -> 92 | C6: =C5-EOMONTH(C5,-3) -> 92 | D6: =D5-EOMONTH(D5,-3) -> 90 | E6: =E5-EOMONTH(E5,-3) -> 91 | F6: =F5-DATE(YEAR(F5)-1,12,31) -> 365 | G6: =G5-EOMONTH(G5,-3) -> 92
A8: Shares outstanding rollforward (m)
A9: Shares outstanding – beginning | B9: n.d. | C9: =B14 -> 354.9 | D9: =C14 -> 355.1 | E9: =D14 -> 354.4 | F9: 356.6 | G9: =E14 -> 353.9 | H9: S6
A10: Issued under employee plans, net | B10: n.d. | C10: n.d. | D10: =D14-D9+D13 -> 1.6 | E10: =E14-E9+E13 -> 0.4 | F10: n.d. | G10: 0.8
A11: Y/Y % | B11: n.a. | C11: n.a. | D11: n.a. | E11: n.a. | F11: n.a. | G11: =_xlfn.IFERROR(G10/B10-1,"n.a.") -> n.a.
A12: Q/Q change | B12: n.a. | C12: =_xlfn.IFERROR(C10-B10,"n.a.") -> n.a. | D12: =_xlfn.IFERROR(D10-C10,"n.a.") -> n.a. | E12: =_xlfn.IFERROR(E10-D10,"n.a.") -> -1.2 | F12: n.a. | G12: =_xlfn.IFERROR(G10-E10,"n.a.") -> 0.4
A13: Shares repurchased | B13: 4 | C13: n.d. | D13: 2.3 | E13: 0.9 | F13: n.d. | G13: =G16/G19 -> 1.3333333 | H13: S3/S4/S5
A14: Shares outstanding – ending | B14: ='Balance Sheet'!B50 -> 354.9 | C14: ='Balance Sheet'!C50 -> 355.1 | D14: ='Balance Sheet'!D50 -> 354.4 | E14: ='Balance Sheet'!E50 -> 353.9 | F14: =C14 -> 355.1 | G14: =G9+G10-G13 -> 353.36667
A15: Repurchases
A16: Value repurchased ($m, trade date) | B16: 1919.6 | C16: 200.3 | D16: 1127.5 | E16: 379 | F16: =Inputs!D144+Inputs!E144+B16+C16 -> 2300.9 | G16: 500 | H16: S1; G: assumption
A17: Y/Y % | B17: =_xlfn.IFERROR(B16/Inputs!B144-1,"n.a.") -> n.a. | C17: =_xlfn.IFERROR(C16/Inputs!C144-1,"n.a.") -> n.a. | D17: =_xlfn.IFERROR(D16/Inputs!D144-1,"n.a.") -> n.a. | E17: =_xlfn.IFERROR(E16/Inputs!E144-1,"n.a.") -> 1.0939227 | F17: =_xlfn.IFERROR(F16/Inputs!F144-1,"n.a.") -> n.a. | G17: =_xlfn.IFERROR(G16/B16-1,"n.a.") -> -0.73952907
A18: Q/Q change | B18: =_xlfn.IFERROR(B16-Inputs!E144,"n.a.") -> 1738.6 | C18: =_xlfn.IFERROR(C16-B16,"n.a.") -> -1719.3 | D18: =_xlfn.IFERROR(D16-C16,"n.a.") -> 927.2 | E18: =_xlfn.IFERROR(E16-D16,"n.a.") -> -748.5 | F18: n.a. | G18: =_xlfn.IFERROR(G16-E16,"n.a.") -> 121
A19: Average price paid per share ($) | B19: 479.6 | C19: n.d. | D19: 489.55 | E19: 438.68 | F19: n.d. | G19: 375 | H19: S3/S4/S5; G: assumption
A20: Y/Y % | B20: =_xlfn.IFERROR(B19/Inputs!B184-1,"n.a.") -> n.a. | C20: =_xlfn.IFERROR(C19/Inputs!C184-1,"n.a.") -> n.a. | D20: =_xlfn.IFERROR(D19/Inputs!D184-1,"n.a.") -> n.a. | E20: =_xlfn.IFERROR(E19/Inputs!E184-1,"n.a.") -> -0.15263666 | F20: =_xlfn.IFERROR(F19/Inputs!F184-1,"n.a.") -> n.a. | G20: =_xlfn.IFERROR(G19/B19-1,"n.a.") -> -0.21809842
A21: Q/Q change | B21: =_xlfn.IFERROR(B19-Inputs!E184,"n.a.") -> -38.1 | C21: =_xlfn.IFERROR(C19-B19,"n.a.") -> n.a. | D21: =_xlfn.IFERROR(D19-C19,"n.a.") -> n.a. | E21: =_xlfn.IFERROR(E19-D19,"n.a.") -> -50.87 | F21: n.a. | G21: =_xlfn.IFERROR(G19-E19,"n.a.") -> -63.68
A22: Cash paid for repurchases ($m) | B22: =-'Cash Flow Statement'!B39 -> 1913.3 | C22: =-'Cash Flow Statement'!C39 -> 201 | D22: =-'Cash Flow Statement'!D39 -> 1123.2 | E22: =-'Cash Flow Statement'!E39 -> 320.3 | F22: =-'Cash Flow Statement'!F39 -> 2295.3 | G22: =-'Cash Flow Statement'!G39 -> 500
A23: Weighted average shares (m)
A24: Basic weighted average shares | B24: ='Income Statement'!B68 -> 356.6 | C24: ='Income Statement'!C68 -> 354.9 | D24: ='Income Statement'!D68 -> 354.9 | E24: ='Income Statement'!E68 -> 354.1 | F24: ='Income Statement'!F68 -> 356.9 | G24: =(G9+G14)/2 -> 353.63333
A25: Y/Y % | B25: =_xlfn.IFERROR(B24/Inputs!B87-1,"n.a.") -> 0.0022484542 | C25: =_xlfn.IFERROR(C24/Inputs!C87-1,"n.a.") -> -0.0042087542 | D25: =_xlfn.IFERROR(D24/Inputs!D87-1,"n.a.") -> -0.0072727273 | E25: =_xlfn.IFERROR(E24/Inputs!E87-1,"n.a.") -> -0.012273361 | F25: =_xlfn.IFERROR(F24/Inputs!F87-1,"n.a.") -> 0.004786036 | G25: =_xlfn.IFERROR(G24/B24-1,"n.a.") -> -0.008319312
A26: Q/Q change | B26: =_xlfn.IFERROR(B24-Inputs!E87,"n.a.") -> -1.9 | C26: =_xlfn.IFERROR(C24-B24,"n.a.") -> -1.7 | D26: =_xlfn.IFERROR(D24-C24,"n.a.") -> 0 | E26: =_xlfn.IFERROR(E24-D24,"n.a.") -> -0.8 | F26: n.a. | G26: =_xlfn.IFERROR(G24-E24,"n.a.") -> -0.46666667
A27: Dilutive effect of equity awards | B27: ='Income Statement'!B69-'Income Statement'!B68 -> 5.2 | C27: ='Income Statement'!C69-'Income Statement'!C68 -> 5.5 | D27: ='Income Statement'!D69-'Income Statement'!D68 -> 4.9 | E27: ='Income Statement'!E69-'Income Statement'!E68 -> 3.2 | F27: ='Income Statement'!F69-'Income Statement'!F68 -> 5.8 | G27: 3
A28: Y/Y % | B28: =_xlfn.IFERROR(B27/Inputs!B183-1,"n.a.") -> -0.24637681 | C28: =_xlfn.IFERROR(C27/Inputs!C183-1,"n.a.") -> -0.26666667 | D28: =_xlfn.IFERROR(D27/Inputs!D183-1,"n.a.") -> -0.30985915 | E28: =_xlfn.IFERROR(E27/Inputs!E183-1,"n.a.") -> -0.42857143 | F28: =_xlfn.IFERROR(F27/Inputs!F183-1,"n.a.") -> -0.14705882 | G28: =_xlfn.IFERROR(G27/B27-1,"n.a.") -> -0.42307692
A29: Q/Q change | B29: =_xlfn.IFERROR(B27-Inputs!E183,"n.a.") -> -0.4 | C29: =_xlfn.IFERROR(C27-B27,"n.a.") -> 0.3 | D29: =_xlfn.IFERROR(D27-C27,"n.a.") -> -0.6 | E29: =_xlfn.IFERROR(E27-D27,"n.a.") -> -1.7 | F29: n.a. | G29: =_xlfn.IFERROR(G27-E27,"n.a.") -> -0.2
A30: Diluted weighted average shares | B30: ='Income Statement'!B69 -> 361.8 | C30: ='Income Statement'!C69 -> 360.4 | D30: ='Income Statement'!D69 -> 359.8 | E30: ='Income Statement'!E69 -> 357.3 | F30: ='Income Statement'!F69 -> 362.7 | G30: =G24+G27 -> 356.63333
A31: Y/Y % | B31: =_xlfn.IFERROR(B30/Inputs!B86-1,"n.a.") -> -0.0024813896 | C31: =_xlfn.IFERROR(C30/Inputs!C86-1,"n.a.") -> -0.0096180269 | D31: =_xlfn.IFERROR(D30/Inputs!D86-1,"n.a.") -> -0.013165112 | E31: =_xlfn.IFERROR(E30/Inputs!E86-1,"n.a.") -> -0.018676188 | F31: =_xlfn.IFERROR(F30/Inputs!F86-1,"n.a.") -> 0.0019337017 | G31: =_xlfn.IFERROR(G30/B30-1,"n.a.") -> -0.01428045
A32: Q/Q change | B32: =_xlfn.IFERROR(B30-Inputs!E86,"n.a.") -> -2.3 | C32: =_xlfn.IFERROR(C30-B30,"n.a.") -> -1.4 | D32: =_xlfn.IFERROR(D30-C30,"n.a.") -> -0.6 | E32: =_xlfn.IFERROR(E30-D30,"n.a.") -> -2.5 | F32: n.a. | G32: =_xlfn.IFERROR(G30-E30,"n.a.") -> -0.66666667
A33: EPS chain
A34: Non-GAAP net income ($m) | B34: ='Income Statement'!B92 -> 867.2 | C34: ='Income Statement'!C92 -> 913.6 | D34: ='Income Statement'!D92 -> 901.1 | E34: ='Income Statement'!E92 -> 1002.1 | F34: ='Income Statement'!F92 -> 3240.2 | G34: ='Income Statement'!G92 -> 983.93893
A35: Non-GAAP EPS = NI / diluted shs | B35: =B34/B30 -> 2.3969044 | C35: =C34/C30 -> 2.5349612 | D35: =D34/D30 -> 2.5044469 | E35: =E34/E30 -> 2.804646 | F35: =F34/F30 -> 8.9335539 | G35: =G34/G30 -> 2.7589651
A36: GAAP net income attributable ($m) | B36: ='Income Statement'!B62 -> 704.4 | C36: ='Income Statement'!C62 -> 794.8 | D36: ='Income Statement'!D62 -> 821.5 | E36: ='Income Statement'!E62 -> 818.1 | F36: ='Income Statement'!F62 -> 2856 | G36: ='Income Statement'!G62 -> 790.70893
A37: GAAP EPS = NI / diluted shs | B37: =B36/B30 -> 1.946932 | C37: =C36/C30 -> 2.2053274 | D37: =D36/D30 -> 2.2832129 | E37: =E36/E30 -> 2.2896725 | F37: =F36/F30 -> 7.8742763 | G37: =G36/G30 -> 2.2171481
A38: Check: EPS = NI / diluted shs (= 0) | B38: =ROUND(B35-'Income Statement'!B97,9)+ROUND(B37-'Income Statement'!B71,9) -> 0 | C38: =ROUND(C35-'Income Statement'!C97,9)+ROUND(C37-'Income Statement'!C71,9) -> 0 | D38: =ROUND(D35-'Income Statement'!D97,9)+ROUND(D37-'Income Statement'!D71,9) -> 0 | E38: =ROUND(E35-'Income Statement'!E97,9)+ROUND(E37-'Income Statement'!E71,9) -> 0 | F38: =ROUND(F35-'Income Statement'!F97,9)+ROUND(F37-'Income Statement'!F71,9) -> 0 | G38: =ROUND(G35-'Income Statement'!G97,9)+ROUND(G37-'Income Statement'!G71,9) -> 0

Sheet Guidance
A1: Intuitive Surgical, Inc. (NasdaqGS: ISRG)
A2: Guidance history
A3: $ millions, except per share
A4: Period | B4: 3Q26E
A5: Period end | B5: =DATE(2026,9,30) -> 46295
A6: Days in period | B6: =B5-EOMONTH(B5,-3) -> 92
A8: Metric (non-GAAP unless stated) | B8: Date given | C8: Period | D8: Low | E8: High | F8: Midpoint | G8: Actual | H8: Beat / miss | I8: Source
A9: Worldwide da Vinci procedure growth | B9: =DATE(2025,10,21) -> 45951 | C9: FY25 | D9: 0.17 | E9: 0.175 | F9: =AVERAGE(D9:E9) -> 0.1725 | G9: ='Revenue summary'!F78 -> 0.17517704 | H9: =IF(ISNUMBER(G9),IF(G9>F9,"Beat",IF(G9<F9,"Miss","In line")),"Pending") -> Beat | I9: S8
A10: Gross profit margin | B10: =DATE(2025,10,21) -> 45951 | C10: FY25 | D10: 0.67 | E10: 0.675 | F10: =AVERAGE(D10:E10) -> 0.6725 | G10: ='Income Statement'!F109 -> 0.67558894 | H10: =IF(ISNUMBER(G10),IF(G10>F10,"Beat",IF(G10<F10,"Miss","In line")),"Pending") -> Beat | I10: S8
A11: Operating expense growth | B11: =DATE(2025,10,21) -> 45951 | C11: FY25 | D11: 0.11 | E11: 0.13 | F11: =AVERAGE(D11:E11) -> 0.12 | G11: ='Income Statement'!F118/Inputs!F108-1 -> 0.12383981 | H11: =IF(ISNUMBER(G11),IF(G11<F11,"Below (favourable)",IF(G11>F11,"Above (unfavourable)","In line")),"Pending") -> Above (unfavourable) | I11: S8
A12: Worldwide da Vinci procedure growth | B12: =DATE(2026,1,22) -> 46044 | C12: FY26 | D12: 0.13 | E12: 0.15 | F12: =AVERAGE(D12:E12) -> 0.14 | G12: Pending | H12: =IF(ISNUMBER(G12),IF(G12>F12,"Beat",IF(G12<F12,"Miss","In line")),"Pending") -> Pending | I12: S11
A13: Gross profit margin | B13: =DATE(2026,1,22) -> 46044 | C13: FY26 | D13: 0.67 | E13: 0.68 | F13: =AVERAGE(D13:E13) -> 0.675 | G13: Pending | H13: =IF(ISNUMBER(G13),IF(G13>F13,"Beat",IF(G13<F13,"Miss","In line")),"Pending") -> Pending | I13: S11
A14: Operating expense growth | B14: =DATE(2026,1,22) -> 46044 | C14: FY26 | D14: 0.11 | E14: 0.15 | F14: =AVERAGE(D14:E14) -> 0.13 | G14: Pending | H14: =IF(ISNUMBER(G14),IF(G14<F14,"Below (favourable)",IF(G14>F14,"Above (unfavourable)","In line")),"Pending") -> Pending | I14: S11
