Workbook

Sheet Cover
C1: Company Model — built by Shortcut
B2: General Motors Company (NYSE: GM)
B3: Cover
B4: $ millions, except per share
B5: Period | C5: 1Q25A | D5: 2Q25A | E5: 3Q25A | F5: 4Q25A | G5: 1Q26A | H5: 2Q26A | I5: FY25A | J5: 3Q26E | K5: Notes / sources
B6: Period end | C6: =DATE(2025,3,31) -> 45747 | D6: =DATE(2025,6,30) -> 45838 | E6: =DATE(2025,9,30) -> 45930 | F6: =DATE(2025,12,31) -> 46022 | G6: =DATE(2026,3,31) -> 46112 | H6: =DATE(2026,6,30) -> 46203 | I6: =DATE(2025,12,31) -> 46022 | J6: =DATE(2026,9,30) -> 46295
B7: Days in period | C7: =C6-EOMONTH(C6,-3) -> 90 | D7: =D6-EOMONTH(D6,-3) -> 91 | E7: =E6-EOMONTH(E6,-3) -> 92 | F7: =F6-EOMONTH(F6,-3) -> 92 | G7: =G6-EOMONTH(G6,-3) -> 90 | H7: =H6-EOMONTH(H6,-3) -> 91 | I7: =I6-EOMONTH(I6,-12) -> 365 | J7: =J6-EOMONTH(J6,-3) -> 92
B9: Company (text fields; row-5 period band does not apply)
B10: Company | C10: General Motors Company
B11: Ticker / exchange | C11: GM / New York Stock Exchange (NYSE: GM)
B12: Fiscal year end | C12: December 31 (calendar year; 3Q26 = quarter ended 2026-09-30, supplied label FQ3 2026 - Sep 2026)
B13: Reporting currency | C13: USD; amounts in $ millions
B14: EPS basis (consensus) | C14: EPS-diluted-adjusted = CapIQ normalized diluted EPS per common share, USD
B15: Information cutoff | C15: 2026-10-18T21:34:46Z
B16: Expected report date | C16: 2026-10-20 before market (issuer-confirmed, S22; matches supplied CapIQ date)
B17: Author | C17: Shortcut
B19: Headline: 3Q26E estimate vs consensus at cutoff vs guidance (columns per row-20 headers; row-5 period band does not apply)
B20: Metric | C20: 3Q26E | D20: Consensus | E20: Variance | F20: Q3 guide | G20: FY26 mid | K20: C = Shortcut estimate; D = S&P CapIQ consensus at cutoff (frozen, 2026-10-18); F = quarterly guidance midpoint (GM gives none); G = FY26 guidance midpoint (Jul 21 2026)
B21: Total net sales and revenue ($M) | C21: ='Income Statement'!J12 -> 49062.77 | D21: =Inputs!C41 -> 48762.9 | E21: =_xlfn.IFERROR(C21-D21,"n.a.") -> 299.87029 | F21: n.a. | G21: n.a.
B22: Variance % vs consensus | E22: =_xlfn.IFERROR(E21/D21,"n.a.") -> 0.0061495581
B23: EBIT-adjusted ($M) | C23: ='Income Statement'!J89 -> 4015.0836 | D23: n.a. | E23: =_xlfn.IFERROR(C23-D23,"n.a.") -> n.a. | F23: n.a. | G23: =Guidance!G38*1000 -> 15000
B24: Variance % vs consensus | E24: =_xlfn.IFERROR(E23/D23,"n.a.") -> n.a. | K24: CapIQ EBIT mean $4,098M is not on the issuer EBIT-adjusted definition; not compared
B25: Adjusted net income to common ($M, EPS-adj numerator) | C25: ='Income Statement'!J115 -> 3264.3432 | D25: =Inputs!C54 -> 3246.71 | E25: =_xlfn.IFERROR(C25-D25,"n.a.") -> 17.633169 | F25: n.a. | G25: n.a. | K25: D25 = CapIQ net_income_excl_excep: preferred/NCI basis and contributor set not documented; not verified like-for-like with GM adjusted NI to common (EPS-adj numerator)
B26: Variance % vs consensus | E26: =_xlfn.IFERROR(E25/D25,"n.a.") -> 0.0054310883
B27: Net income attributable to stockholders - GAAP ($M) | C27: ='Income Statement'!J49 -> 3114.3432 | D27: =Inputs!C55 -> 2775.25 | E27: =_xlfn.IFERROR(C27-D27,"n.a.") -> 339.09317 | F27: n.a. | G27: =Guidance!G37*1000 -> 9100 | K27: C27 = NI attributable to stockholders (Income Statement!J49); forecast NI to common = J57 (3,094.3). D27 = CapIQ net_income_gaap: stockholder vs common basis not verified; implies ~$3.14/share vs GAAP EPS mean $3.68 (n=6), so contributor sets differ - E27:E28 not like-for-like
B28: Variance % vs consensus | E28: =_xlfn.IFERROR(E27/D27,"n.a.") -> 0.12218473
B29: EPS-diluted-adjusted ($, consensus basis) | C29: ='Income Statement'!J118 -> 3.697564 | D29: =Inputs!C23 -> 3.63 | E29: =_xlfn.IFERROR(C29-D29,"n.a.") -> 0.067563976 | F29: n.a. | G29: =Guidance!G42 -> 13
B30: Variance % vs consensus | E30: =_xlfn.IFERROR(E29/D29,"n.a.") -> 0.018612666
B31: EPS-diluted GAAP ($) | C31: ='Income Statement'!J61 -> 3.5050028 | D31: =Inputs!C32 -> 3.68 | E31: =_xlfn.IFERROR(C31-D31,"n.a.") -> -0.17499724 | F31: n.a. | G31: =Guidance!G41 -> 9.98 | K31: CapIQ GAAP EPS mean has n_est 6 vs normalized EPS n_est 15 (16 contributors): different contributor sets; only normalized EPS (row 29) is scored
B32: Variance % vs consensus | E32: =_xlfn.IFERROR(E31/D31,"n.a.") -> -0.047553597
B33: P(beat consensus EPS) | C33: =Inputs!C104 -> 0.8
B34: Confidence | C34: =Inputs!C106 -> medium
B35: GM gives full-year guidance only: Q3 guidance midpoint is n.a.; column G shows FY26 midpoints (Jul 21 2026) for context.
B37: Model integrity
B38: Linkage confirmation (structural; cannot fail) | C38: =IF(AND(ABS(C29-'Income Statement'!J118)<0.0001,ABS(C21-'Income Statement'!J12)<0.01,ABS(C25-'Income Statement'!J115)<0.01),0,1) -> 0 | K38: C29/C21/C25 are direct links to Income Statement J118/J12/J115, so this is an identity check by construction, not an independent test
B39: Overall check result (excl. IS I141:I144 FY25 diffs) | C39: =IF(SUMPRODUCT(ABS('Revenue summary'!C77:J77))+SUMPRODUCT(ABS('Revenue summary'!C78:J78))+SUMPRODUCT(ABS('Revenue summary'!C79:J79))+SUMPRODUCT(ABS('Segment - GMNA'!C26:J26))+SUMPRODUCT(ABS('Segment - GMNA'!C110:J110))+SUMPRODUCT(ABS('Segment - GMI'!C20:J20))+SUMPRODUCT(ABS('Segment - GMI'!C71:J71))+SUMPRODUCT(ABS('Segment - GM Financial'!C47:J47))+SUMPRODUCT(ABS('Segment - GM Financial'!C53:J53))+SUMPRODUCT(ABS('Segment - GM Financial'!C98:J98))+SUMPRODUCT(ABS('Segment - GM Financial'!C128:J128))+SUMPRODUCT(ABS('Income Statement'!C64:J64))+SUMPRODUCT(ABS('Income Statement'!C66:J66))+SUMPRODUCT(ABS('Income Statement'!C67:J67))+SUMPRODUCT(ABS('Income Statement'!C105:J105))+SUMPRODUCT(ABS('Income Statement'!C127:J127))+SUMPRODUCT(ABS('Income Statement'!C128:J128))+SUMPRODUCT(ABS('Balance Sheet'!C48:J48))+SUMPRODUCT(ABS('Balance Sheet'!C50:J50))+SUMPRODUCT(ABS('Cash Flow Statement'!C43:J43))+SUMPRODUCT(ABS('Cash Flow Statement'!C44:J44))+SUMPRODUCT(ABS('Cash Flow Statement'!C45:J45))+SUMPRODUCT(ABS('Cash Flow Statement'!C62:J62))+SUMPRODUCT(ABS('Cash Flow Statement'!C95:J95))+SUMPRODUCT(ABS(Geo!C18:J18))+SUMPRODUCT(ABS(Geo!C47:J47))+C38=0,"PASS","FAIL") -> PASS | K39: PASS = all inline check rows are 0. Excludes Income Statement!I141:I144 (FY25 FY-less-quarters -4/-5/-5/-19; unresolved, counted in row 41). Revenue summary!I78 (FY25 revenue, -$4M) stays in PASS only within its pre-existing $5M tolerance (see its K78); no tolerance widened
B40: Check rows live inline on each tab; the named assertion table is in artifacts/checks.md.
B41: FY25 reconciliation exceptions (count, unresolved) | C41: =COUNTIF('Income Statement'!I141:I144,"<>0") -> 4 | K41: Count of non-zero FY25 FY-less-quarters rows in Income Statement!I141:I144; disclosed separately, not part of the PASS result
B42: Other consensus observed before cutoff (not the scoring baseline; CapIQ frozen values above are kept; single values in column C, row-5 period band does not apply)
B43: Benzinga preview (2026-10-13) - EPS ($) | C43: 3.61
...

Sheet Revenue summary
B2: General Motors Company (NYSE: GM)
B3: Revenue summary
B4: $ millions, except per share
B5: Period | C5: 1Q25A | D5: 2Q25A | E5: 3Q25A | F5: 4Q25A | G5: 1Q26A | H5: 2Q26A | I5: FY25A | J5: 3Q26E | K5: Notes / sources
B6: Period end | C6: =DATE(2025,3,31) -> 45747 | D6: =DATE(2025,6,30) -> 45838 | E6: =DATE(2025,9,30) -> 45930 | F6: =DATE(2025,12,31) -> 46022 | G6: =DATE(2026,3,31) -> 46112 | H6: =DATE(2026,6,30) -> 46203 | I6: =DATE(2025,12,31) -> 46022 | J6: =DATE(2026,9,30) -> 46295
B7: Days in period | C7: =C6-EOMONTH(C6,-3) -> 90 | D7: =D6-EOMONTH(D6,-3) -> 91 | E7: =E6-EOMONTH(E6,-3) -> 92 | F7: =F6-EOMONTH(F6,-3) -> 92 | G7: =G6-EOMONTH(G6,-3) -> 90 | H7: =H6-EOMONTH(H6,-3) -> 91 | I7: =I6-EOMONTH(I6,-12) -> 365 | J7: =J6-EOMONTH(J6,-3) -> 92
B9: Revenue by reported segment ($ millions) | K9: Segment tabs; S7-S10 Note 2
B10: GM North America (GMNA) | C10: ='Segment - GMNA'!C101 -> 37388 | D10: ='Segment - GMNA'!D101 -> 39486 | E10: ='Segment - GMNA'!E101 -> 40552 | F10: ='Segment - GMNA'!F101 -> 36893 | G10: ='Segment - GMNA'!G101 -> 36401 | H10: ='Segment - GMNA'!H101 -> 39912 | I10: ='Segment - GMNA'!I101 -> 154317 | J10: ='Segment - GMNA'!J101 -> 40928.055
B11: % Y/Y | C11: n.a. | D11: n.a. | E11: n.a. | F11: n.a. | G11: =_xlfn.IFERROR(G10/C10-1,"n.a.") -> -0.026398845 | H11: =_xlfn.IFERROR(H10/D10-1,"n.a.") -> 0.010788634 | I11: n.a. | J11: =_xlfn.IFERROR(J10/E10-1,"n.a.") -> 0.0092734109
B12: % Q/Q | C12: n.a. | D12: =_xlfn.IFERROR(D10/C10-1,"n.a.") -> 0.056114261 | E12: =_xlfn.IFERROR(E10/D10-1,"n.a.") -> 0.02699691 | F12: =_xlfn.IFERROR(F10/E10-1,"n.a.") -> -0.090229828 | G12: =_xlfn.IFERROR(G10/F10-1,"n.a.") -> -0.013335863 | H12: =_xlfn.IFERROR(H10/G10-1,"n.a.") -> 0.096453394 | I12: n.a. | J12: =_xlfn.IFERROR(J10/H10-1,"n.a.") -> 0.02545739
B13: % of total revenue | C13: =_xlfn.IFERROR(C10/C66,"n.a.") -> 0.84932191 | D13: =_xlfn.IFERROR(D10/D66,"n.a.") -> 0.83793477 | E13: =_xlfn.IFERROR(E10/E66,"n.a.") -> 0.83454067 | F13: =_xlfn.IFERROR(F10/F66,"n.a.") -> 0.8146488 | G13: =_xlfn.IFERROR(G10/G66,"n.a.") -> 0.83438775 | H13: =_xlfn.IFERROR(H10/H66,"n.a.") -> 0.83104985 | I13: =_xlfn.IFERROR(I10/I66,"n.a.") -> 0.83406029 | J13: =_xlfn.IFERROR(J10/J66,"n.a.") -> 0.83419781
B14: M&A / scope impact | C14: Unavailable | D14: Unavailable | E14: Unavailable | F14: Unavailable | G14: Unavailable | H14: Unavailable | I14: Unavailable | J14: Unavailable | K14: GM does not disclose an M&A/scope component of revenue growth (10-Q MD&A variance: Volume/Mix/Price/Other only)
B15: FX impact | C15: Unavailable | D15: Unavailable | E15: Unavailable | F15: Unavailable | G15: Unavailable | H15: Unavailable | I15: Unavailable | J15: Unavailable | K15: FX is embedded in 10-Q "Other" variance and not quantified separately; left unavailable, not zero
B16: Organic growth | C16: =IF(AND(ISNUMBER(C11),ISNUMBER(C14),ISNUMBER(C15)),(1+C11)/((1+C14)*(1+C15))-1,"Unavailable") -> Unavailable | D16: =IF(AND(ISNUMBER(D11),ISNUMBER(D14),ISNUMBER(D15)),(1+D11)/((1+D14)*(1+D15))-1,"Unavailable") -> Unavailable | E16: =IF(AND(ISNUMBER(E11),ISNUMBER(E14),ISNUMBER(E15)),(1+E11)/((1+E14)*(1+E15))-1,"Unavailable") -> Unavailable | F16: =IF(AND(ISNUMBER(F11),ISNUMBER(F14),ISNUMBER(F15)),(1+F11)/((1+F14)*(1+F15))-1,"Unavailable") -> Unavailable | G16: =IF(AND(ISNUMBER(G11),ISNUMBER(G14),ISNUMBER(G15)),(1+G11)/((1+G14)*(1+G15))-1,"Unavailable") -> Unavailable | H16: =IF(AND(ISNUMBER(H11),ISNUMBER(H14),ISNUMBER(H15)),(1+H11)/((1+H14)*(1+H15))-1,"Unavailable") -> Unavailable | I16: =IF(AND(ISNUMBER(I11),ISNUMBER(I14),ISNUMBER(I15)),(1+I11)/((1+I14)*(1+I15))-1,"Unavailable") -> Unavailable | J16: =IF(AND(ISNUMBER(J11),ISNUMBER(J14),ISNUMBER(J15)),(1+J11)/((1+J14)*(1+J15))-1,"Unavailable") -> Unavailable
B17: Total Y/Y (reported) | C17: =C11 -> n.a. | D17: =D11 -> n.a. | E17: =E11 -> n.a. | F17: =F11 -> n.a. | G17: =G11 -> -0.026398845 | H17: =H11 -> 0.010788634 | I17: =I11 -> n.a. | J17: =J11 -> 0.0092734109
B18: GM International (GMI) | C18: ='Segment - GMI'!C62 -> 2427 | D18: ='Segment - GMI'!D62 -> 3327 | E18: ='Segment - GMI'!E62 -> 3645 | F18: ='Segment - GMI'!F62 -> 4029 | G18: ='Segment - GMI'!G62 -> 2859 | H18: ='Segment - GMI'!H62 -> 3691 | I18: ='Segment - GMI'!I62 -> 13427 | J18: ='Segment - GMI'!J62 -> 3681.537
B19: % Y/Y | C19: n.a. | D19: n.a. | E19: n.a. | F19: n.a. | G19: =_xlfn.IFERROR(G18/C18-1,"n.a.") -> 0.17799753 | H19: =_xlfn.IFERROR(H18/D18-1,"n.a.") -> 0.10940787 | I19: n.a. | J19: =_xlfn.IFERROR(J18/E18-1,"n.a.") -> 0.010023868
B20: % Q/Q | C20: n.a. | D20: =_xlfn.IFERROR(D18/C18-1,"n.a.") -> 0.37082818 | E20: =_xlfn.IFERROR(E18/D18-1,"n.a.") -> 0.095581605 | F20: =_xlfn.IFERROR(F18/E18-1,"n.a.") -> 0.10534979 | G20: =_xlfn.IFERROR(G18/F18-1,"n.a.") -> -0.29039464 | H20: =_xlfn.IFERROR(H18/G18-1,"n.a.") -> 0.29101084 | I20: n.a. | J20: =_xlfn.IFERROR(J18/H18-1,"n.a.") -> -0.0025638038
B21: % of total revenue | C21: =_xlfn.IFERROR(C18/C66,"n.a.") -> 0.055132778 | D21: =_xlfn.IFERROR(D18/D66,"n.a.") -> 0.070602466 | E21: =_xlfn.IFERROR(E18/E66,"n.a.") -> 0.075012348 | F21: =_xlfn.IFERROR(F18/F66,"n.a.") -> 0.088965928 | G21: =_xlfn.IFERROR(G18/G66,"n.a.") -> 0.065534314 | H21: =_xlfn.IFERROR(H18/H66,"n.a.") -> 0.076854204 | I21: =_xlfn.IFERROR(I18/I66,"n.a.") -> 0.072570925 | J21: =_xlfn.IFERROR(J18/J66,"n.a.") -> 0.075037283
B22: M&A / scope impact | C22: Unavailable | D22: Unavailable | E22: Unavailable | F22: Unavailable | G22: Unavailable | H22: Unavailable | I22: Unavailable | J22: Unavailable | K22: GM does not disclose an M&A/scope component of revenue growth (10-Q MD&A variance: Volume/Mix/Price/Other only)
B23: FX impact | C23: Unavailable | D23: Unavailable | E23: Unavailable | F23: Unavailable | G23: Unavailable | H23: Unavailable | I23: Unavailable | J23: Unavailable | K23: FX is embedded in 10-Q "Other" variance and not quantified separately; left unavailable, not zero
B24: Organic growth | C24: =IF(AND(ISNUMBER(C19),ISNUMBER(C22),ISNUMBER(C23)),(1+C19)/((1+C22)*(1+C23))-1,"Unavailable") -> Unavailable | D24: =IF(AND(ISNUMBER(D19),ISNUMBER(D22),ISNUMBER(D23)),(1+D19)/((1+D22)*(1+D23))-1,"Unavailable") -> Unavailable | E24: =IF(AND(ISNUMBER(E19),ISNUMBER(E22),ISNUMBER(E23)),(1+E19)/((1+E22)*(1+E23))-1,"Unavailable") -> Unavailable | F24: =IF(AND(ISNUMBER(F19),ISNUMBER(F22),ISNUMBER(F23)),(1+F19)/((1+F22)*(1+F23))-1,"Unavailable") -> Unavailable | G24: =IF(AND(ISNUMBER(G19),ISNUMBER(G22),ISNUMBER(G23)),(1+G19)/((1+G22)*(1+G23))-1,"Unavailable") -> Unavailable | H24: =IF(AND(ISNUMBER(H19),ISNUMBER(H22),ISNUMBER(H23)),(1+H19)/((1+H22)*(1+H23))-1,"Unavailable") -> Unavailable | I24: =IF(AND(ISNUMBER(I19),ISNUMBER(I22),ISNUMBER(I23)),(1+I19)/((1+I22)*(1+I23))-1,"Unavailable") -> Unavailable | J24: =IF(AND(ISNUMBER(J19),ISNUMBER(J22),ISNUMBER(J23)),(1+J19)/((1+J22)*(1+J23))-1,"Unavailable") -> Unavailable
B25: Total Y/Y (reported) | C25: =C19 -> n.a. | D25: =D19 -> n.a. | E25: =E19 -> n.a. | F25: =F19 -> n.a. | G25: =G19 -> 0.17799753 | H25: =H19 -> 0.10940787 | I25: =I19 -> n.a. | J25: =J19 -> 0.010023868
B26: Corporate - vehicle, parts and accessories | C26: 18 | D26: 30 | E26: 52 | F26: =F33-F29 -> 46 | G26: 67 | H26: 125 | I26: 145 | J26: 95 | K26: Corporate includes GM Defense and other non-segment revenue; 3Q26E ~1H26 average; 4Q25 = reported Corporate less services
B27: % Y/Y | C27: n.a. | D27: n.a. | E27: n.a. | F27: n.a. | G27: =_xlfn.IFERROR(G26/C26-1,"n.a.") -> 2.7222222 | H27: =_xlfn.IFERROR(H26/D26-1,"n.a.") -> 3.1666667 | I27: n.a. | J27: =_xlfn.IFERROR(J26/E26-1,"n.a.") -> 0.82692308
B28: Q/Q change (abs.) | C28: n.a. | D28: =_xlfn.IFERROR(D26-C26,"n.a.") -> 12 | E28: =_xlfn.IFERROR(E26-D26,"n.a.") -> 22 | F28: =_xlfn.IFERROR(F26-E26,"n.a.") -> -6 | G28: =_xlfn.IFERROR(G26-F26,"n.a.") -> 21 | H28: =_xlfn.IFERROR(H26-G26,"n.a.") -> 58 | I28: n.a. | J28: =_xlfn.IFERROR(J26-H26,"n.a.") -> -30
B29: Corporate - services and other | C29: 28 | D29: 27 | E29: 8 | F29: =I29-C29-D29-E29 -> 19 | G29: 23 | H29: 34 | I29: 82 | J29: 35
B30: % Y/Y | C30: n.a. | D30: n.a. | E30: n.a. | F30: n.a. | G30: =_xlfn.IFERROR(G29/C29-1,"n.a.") -> -0.17857143 | H30: =_xlfn.IFERROR(H29/D29-1,"n.a.") -> 0.25925926 | I30: n.a. | J30: =_xlfn.IFERROR(J29/E29-1,"n.a.") -> 3.375
B31: Q/Q change (abs.) | C31: n.a. | D31: =_xlfn.IFERROR(D29-C29,"n.a.") -> -1 | E31: =_xlfn.IFERROR(E29-D29,"n.a.") -> -19 | F31: =_xlfn.IFERROR(F29-E29,"n.a.") -> 11 | G31: =_xlfn.IFERROR(G29-F29,"n.a.") -> 4 | H31: =_xlfn.IFERROR(H29-G29,"n.a.") -> 11 | I31: n.a. | J31: =_xlfn.IFERROR(J29-H29,"n.a.") -> 1
B32: Corporate | C32: =C26+C29 -> 46 | D32: =D26+D29 -> 57 | E32: =E26+E29 -> 60 | F32: =F26+F29 -> 65 | G32: =G26+G29 -> 90 | H32: =H26+H29 -> 159 | I32: =I26+I29 -> 227 | J32: =J26+J29 -> 130
B33: Memo: Corporate revenue as reported (segment table) | C33: 46 | D33: 57 | E33: 60 | F33: 65 | G33: 90 | H33: 159 | I33: 227 | J33: n.a.
B34: Corporate % Y/Y | C34: n.a. | D34: n.a. | E34: n.a. | F34: n.a. | G34: =_xlfn.IFERROR(G32/C32-1,"n.a.") -> 0.95652174 | H34: =_xlfn.IFERROR(H32/D32-1,"n.a.") -> 1.7894737 | I34: n.a. | J34: =_xlfn.IFERROR(J32/E32-1,"n.a.") -> 1.1666667
B35: Corporate % Q/Q | C35: n.a. | D35: =_xlfn.IFERROR(D32/C32-1,"n.a.") -> 0.23913043 | E35: =_xlfn.IFERROR(E32/D32-1,"n.a.") -> 0.052631579 | F35: =_xlfn.IFERROR(F32/E32-1,"n.a.") -> 0.083333333 | G35: =_xlfn.IFERROR(G32/F32-1,"n.a.") -> 0.38461538 | H35: =_xlfn.IFERROR(H32/G32-1,"n.a.") -> 0.76666667 | I35: n.a. | J35: =_xlfn.IFERROR(J32/H32-1,"n.a.") -> -0.18238994
B36: Corporate % of total revenue | C36: =_xlfn.IFERROR(C32/C66,"n.a.") -> 0.0010449558 | D36: =_xlfn.IFERROR(D32/D66,"n.a.") -> 0.0012096004 | E36: =_xlfn.IFERROR(E32/E66,"n.a.") -> 0.0012347712 | F36: =_xlfn.IFERROR(F32/F66,"n.a.") -> 0.0014352905 | G36: =_xlfn.IFERROR(G32/G66,"n.a.") -> 0.00206299 | H36: =_xlfn.IFERROR(H32/H66,"n.a.") -> 0.0033107067 | I36: =_xlfn.IFERROR(I32/I66,"n.a.") -> 0.001226901 | J36: =_xlfn.IFERROR(J32/J66,"n.a.") -> 0.0026496669
B37: M&A / scope impact | C37: Unavailable | D37: Unavailable | E37: Unavailable | F37: Unavailable | G37: Unavailable | H37: Unavailable | I37: Unavailable | J37: Unavailable | K37: GM does not disclose an M&A/scope component of revenue growth (10-Q MD&A variance: Volume/Mix/Price/Other only)
B38: FX impact | C38: Unavailable | D38: Unavailable | E38: Unavailable | F38: Unavailable | G38: Unavailable | H38: Unavailable | I38: Unavailable | J38: Unavailable | K38: FX is embedded in 10-Q "Other" variance and not quantified separately; left unavailable, not zero
B39: Organic growth | C39: =IF(AND(ISNUMBER(C34),ISNUMBER(C37),ISNUMBER(C38)),(1+C34)/((1+C37)*(1+C38))-1,"Unavailable") -> Unavailable | D39: =IF(AND(ISNUMBER(D34),ISNUMBER(D37),ISNUMBER(D38)),(1+D34)/((1+D37)*(1+D38))-1,"Unavailable") -> Unavailable | E39: =IF(AND(ISNUMBER(E34),ISNUMBER(E37),ISNUMBER(E38)),(1+E34)/((1+E37)*(1+E38))-1,"Unavailable") -> Unavailable | F39: =IF(AND(ISNUMBER(F34),ISNUMBER(F37),ISNUMBER(F38)),(1+F34)/((1+F37)*(1+F38))-1,"Unavailable") -> Unavailable | G39: =IF(AND(ISNUMBER(G34),ISNUMBER(G37),ISNUMBER(G38)),(1+G34)/((1+G37)*(1+G38))-1,"Unavailable") -> Unavailable | H39: =IF(AND(ISNUMBER(H34),ISNUMBER(H37),ISNUMBER(H38)),(1+H34)/((1+H37)*(1+H38))-1,"Unavailable") -> Unavailable | I39: =IF(AND(ISNUMBER(I34),ISNUMBER(I37),ISNUMBER(I38)),(1+I34)/((1+I37)*(1+I38))-1,"Unavailable") -> Unavailable | J39: =IF(AND(ISNUMBER(J34),ISNUMBER(J37),ISNUMBER(J38)),(1+J34)/((1+J37)*(1+J38))-1,"Unavailable") -> Unavailable
B40: Total Y/Y (reported) | C40: =C34 -> n.a. | D40: =D34 -> n.a. | E40: =E34 -> n.a. | F40: =F34 -> n.a. | G40: =G34 -> 0.95652174 | H40: =H34 -> 1.7894737 | I40: =I34 -> n.a. | J40: =J34 -> 1.1666667
B41: Cruise (wound down; combined into GMNA from 2025) | C41: 1 | D41: 0 | E41: 0 | F41: =I41-C41-D41-E41 -> 0 | G41: 0 | H41: 0 | I41: 1 | J41: 0
B42: % of total revenue | C42: =_xlfn.IFERROR(C41/C66,"n.a.") -> 2.2716431e-05 | D42: =_xlfn.IFERROR(D41/D66,"n.a.") -> 0 | E42: =_xlfn.IFERROR(E41/E66,"n.a.") -> 0 | F42: =_xlfn.IFERROR(F41/F66,"n.a.") -> 0 | G42: =_xlfn.IFERROR(G41/G66,"n.a.") -> 0 | H42: =_xlfn.IFERROR(H41/H66,"n.a.") -> 0 | I42: =_xlfn.IFERROR(I41/I66,"n.a.") -> 5.4048503e-06 | J42: =_xlfn.IFERROR(J41/J66,"n.a.") -> 0
...

Sheet Segment - GMNA
B2: General Motors Company (NYSE: GM)
B3: Segment - GM North America (GMNA)
B4: $ millions, except per share
B5: Period | C5: 1Q25A | D5: 2Q25A | E5: 3Q25A | F5: 4Q25A | G5: 1Q26A | H5: 2Q26A | I5: FY25A | J5: 3Q26E | K5: Notes / sources
B6: Period end | C6: =DATE(2025,3,31) -> 45747 | D6: =DATE(2025,6,30) -> 45838 | E6: =DATE(2025,9,30) -> 45930 | F6: =DATE(2025,12,31) -> 46022 | G6: =DATE(2026,3,31) -> 46112 | H6: =DATE(2026,6,30) -> 46203 | I6: =DATE(2025,12,31) -> 46022 | J6: =DATE(2026,9,30) -> 46295
B7: Days in period | C7: =C6-EOMONTH(C6,-3) -> 90 | D7: =D6-EOMONTH(D6,-3) -> 91 | E7: =E6-EOMONTH(E6,-3) -> 92 | F7: =F6-EOMONTH(F6,-3) -> 92 | G7: =G6-EOMONTH(G6,-3) -> 90 | H7: =H6-EOMONTH(H6,-3) -> 91 | I7: =I6-EOMONTH(I6,-12) -> 365 | J7: =J6-EOMONTH(J6,-3) -> 92
B9: U.S. market and GM U.S. deliveries (vehicles in thousands) | K9: S5,S6,S3,S4 vehicle sales tables
B10: U.S. industry vehicle sales | C10: 4032 | D10: 4294 | E10: 4187 | F10: 4097 | G10: 3792 | H10: 4310 | I10: 16631 | J10: =E10*(1+J11) -> 4187 | K10: FY25 16,631k as recorded from the FY source vs sum of quarters 16,610k (+21k): source revision / non-additivity caveat; FY not re-derived
B11: % Y/Y | C11: n.a. | D11: n.a. | E11: n.a. | F11: n.a. | G11: =_xlfn.IFERROR(G10/C10-1,"n.a.") -> -0.05952381 | H11: =_xlfn.IFERROR(H10/D10-1,"n.a.") -> 0.0037261295 | I11: n.a. | J11: 0
B12: Q/Q change (abs.) | C12: n.a. | D12: =_xlfn.IFERROR(D10-C10,"n.a.") -> 262 | E12: =_xlfn.IFERROR(E10-D10,"n.a.") -> -107 | F12: =_xlfn.IFERROR(F10-E10,"n.a.") -> -90 | G12: =_xlfn.IFERROR(G10-F10,"n.a.") -> -305 | H12: =_xlfn.IFERROR(H10-G10,"n.a.") -> 518 | I12: n.a. | J12: =_xlfn.IFERROR(J10-H10,"n.a.") -> -123
B13: GM U.S. deliveries - cars | C13: 17 | D13: 15 | E13: 12 | F13: 13 | G13: 11 | H13: 13 | I13: 57 | J13: =J25*E13/E22 -> 11.324456
B14: % Y/Y | C14: n.a. | D14: n.a. | E14: n.a. | F14: n.a. | G14: =_xlfn.IFERROR(G13/C13-1,"n.a.") -> -0.35294118 | H14: =_xlfn.IFERROR(H13/D13-1,"n.a.") -> -0.13333333 | I14: n.a. | J14: =_xlfn.IFERROR(J13/E13-1,"n.a.") -> -0.056295359
B15: Q/Q change (abs.) | C15: n.a. | D15: =_xlfn.IFERROR(D13-C13,"n.a.") -> -2 | E15: =_xlfn.IFERROR(E13-D13,"n.a.") -> -3 | F15: =_xlfn.IFERROR(F13-E13,"n.a.") -> 1 | G15: =_xlfn.IFERROR(G13-F13,"n.a.") -> -2 | H15: =_xlfn.IFERROR(H13-G13,"n.a.") -> 2 | I15: n.a. | J15: =_xlfn.IFERROR(J13-H13,"n.a.") -> -1.6755443
B16: GM U.S. deliveries - trucks | C16: 344 | D16: 401 | E16: 369 | F16: 402 | G16: 324 | H16: 378 | I16: 1517 | J16: =J25*E16/E22 -> 348.22701
B17: % Y/Y | C17: n.a. | D17: n.a. | E17: n.a. | F17: n.a. | G17: =_xlfn.IFERROR(G16/C16-1,"n.a.") -> -0.058139535 | H17: =_xlfn.IFERROR(H16/D16-1,"n.a.") -> -0.057356608 | I17: n.a. | J17: =_xlfn.IFERROR(J16/E16-1,"n.a.") -> -0.056295359
B18: Q/Q change (abs.) | C18: n.a. | D18: =_xlfn.IFERROR(D16-C16,"n.a.") -> 57 | E18: =_xlfn.IFERROR(E16-D16,"n.a.") -> -32 | F18: =_xlfn.IFERROR(F16-E16,"n.a.") -> 33 | G18: =_xlfn.IFERROR(G16-F16,"n.a.") -> -78 | H18: =_xlfn.IFERROR(H16-G16,"n.a.") -> 54 | I18: n.a. | J18: =_xlfn.IFERROR(J16-H16,"n.a.") -> -29.772987
B19: GM U.S. deliveries - crossovers | C19: 332 | D19: 330 | E19: 330 | F19: 288 | G19: 291 | H19: 324 | I19: 1280 | J19: =J25*E19/E22 -> 311.42253
B20: % Y/Y | C20: n.a. | D20: n.a. | E20: n.a. | F20: n.a. | G20: =_xlfn.IFERROR(G19/C19-1,"n.a.") -> -0.12349398 | H20: =_xlfn.IFERROR(H19/D19-1,"n.a.") -> -0.018181818 | I20: n.a. | J20: =_xlfn.IFERROR(J19/E19-1,"n.a.") -> -0.056295359
B21: Q/Q change (abs.) | C21: n.a. | D21: =_xlfn.IFERROR(D19-C19,"n.a.") -> -2 | E21: =_xlfn.IFERROR(E19-D19,"n.a.") -> 0 | F21: =_xlfn.IFERROR(F19-E19,"n.a.") -> -42 | G21: =_xlfn.IFERROR(G19-F19,"n.a.") -> 3 | H21: =_xlfn.IFERROR(H19-G19,"n.a.") -> 33 | I21: n.a. | J21: =_xlfn.IFERROR(J19-H19,"n.a.") -> -12.577468
B22: GM U.S. deliveries - total | C22: =C13+C16+C19 -> 693 | D22: =D13+D16+D19 -> 746 | E22: =E13+E16+E19 -> 711 | F22: =F13+F16+F19 -> 703 | G22: =G13+G16+G19 -> 626 | H22: =H13+H16+H19 -> 715 | I22: =I13+I16+I19 -> 2854 | J22: =J13+J16+J19 -> 670.974
B23: % Y/Y | C23: n.a. | D23: n.a. | E23: n.a. | F23: n.a. | G23: =_xlfn.IFERROR(G22/C22-1,"n.a.") -> -0.096681097 | H23: =_xlfn.IFERROR(H22/D22-1,"n.a.") -> -0.04155496 | I23: n.a. | J23: =_xlfn.IFERROR(J22/E22-1,"n.a.") -> -0.056295359
B24: Q/Q change (abs.) | C24: n.a. | D24: =_xlfn.IFERROR(D22-C22,"n.a.") -> 53 | E24: =_xlfn.IFERROR(E22-D22,"n.a.") -> -35 | F24: =_xlfn.IFERROR(F22-E22,"n.a.") -> -8 | G24: =_xlfn.IFERROR(G22-F22,"n.a.") -> -77 | H24: =_xlfn.IFERROR(H22-G22,"n.a.") -> 89 | I24: n.a. | J24: =_xlfn.IFERROR(J22-H22,"n.a.") -> -44.026
B25: Memo: GM U.S. deliveries as reported (total) | C25: 693 | D25: 747 | E25: 710 | F25: 703 | G25: 626 | H25: 715 | I25: 2853 | J25: 670.974 | K25: 3Q26E column = actual Q3 2026 U.S. deliveries 670,974 (GM U.S. deliveries release 2026-10-01, S18); type split for 3Q26 not published, estimated at 3Q25 mix
B26: Check: type split less reported total (rounding tol. 2k) | C26: =_xlfn.IFERROR(IF(ABS(C22-C25)<=2,0,C22-C25),1) -> 0 | D26: =_xlfn.IFERROR(IF(ABS(D22-D25)<=2,0,D22-D25),1) -> 0 | E26: =_xlfn.IFERROR(IF(ABS(E22-E25)<=2,0,E22-E25),1) -> 0 | F26: =_xlfn.IFERROR(IF(ABS(F22-F25)<=2,0,F22-F25),1) -> 0 | G26: =_xlfn.IFERROR(IF(ABS(G22-G25)<=2,0,G22-G25),1) -> 0 | H26: =_xlfn.IFERROR(IF(ABS(H22-H25)<=2,0,H22-H25),1) -> 0 | I26: =_xlfn.IFERROR(IF(ABS(I22-I25)<=2,0,I22-I25),1) -> 0 | J26: =_xlfn.IFERROR(IF(ABS(J22-J25)<=2,0,J22-J25),1) -> 0
B27: GM U.S. market share | C27: =_xlfn.IFERROR(C22/C10,"n.a.") -> 0.171875 | D27: =_xlfn.IFERROR(D22/D10,"n.a.") -> 0.17373079 | E27: =_xlfn.IFERROR(E22/E10,"n.a.") -> 0.16981132 | F27: =_xlfn.IFERROR(F22/F10,"n.a.") -> 0.17158897 | G27: =_xlfn.IFERROR(G22/G10,"n.a.") -> 0.16508439 | H27: =_xlfn.IFERROR(H22/H10,"n.a.") -> 0.16589327 | I27: =_xlfn.IFERROR(I22/I10,"n.a.") -> 0.17160724 | J27: =_xlfn.IFERROR(J22/J10,"n.a.") -> 0.16025173
B28: Y/Y change (bps) | C28: n.a. | D28: n.a. | E28: n.a. | F28: n.a. | G28: =_xlfn.IFERROR((G27-C27)*10000,"n.a.") -> -67.906118 | H28: =_xlfn.IFERROR((H27-D27)*10000,"n.a.") -> -78.375157 | I28: n.a. | J28: =_xlfn.IFERROR((J27-E27)*10000,"n.a.") -> -95.595892
B29: Q/Q change (bps) | C29: n.a. | D29: =_xlfn.IFERROR((D27-C27)*10000,"n.a.") -> 18.557871 | E29: =_xlfn.IFERROR((E27-D27)*10000,"n.a.") -> -39.194664 | F29: =_xlfn.IFERROR((F27-E27)*10000,"n.a.") -> 17.776468 | G29: =_xlfn.IFERROR((G27-F27)*10000,"n.a.") -> -65.045794 | H29: =_xlfn.IFERROR((H27-G27)*10000,"n.a.") -> 8.0888328 | I29: n.a. | J29: =_xlfn.IFERROR((J27-H27)*10000,"n.a.") -> -56.415399
B30: Cars % of GM U.S. deliveries | C30: =_xlfn.IFERROR(C13/C22,"n.a.") -> 0.024531025 | D30: =_xlfn.IFERROR(D13/D22,"n.a.") -> 0.020107239 | E30: =_xlfn.IFERROR(E13/E22,"n.a.") -> 0.016877637 | F30: =_xlfn.IFERROR(F13/F22,"n.a.") -> 0.018492176 | G30: =_xlfn.IFERROR(G13/G22,"n.a.") -> 0.017571885 | H30: =_xlfn.IFERROR(H13/H22,"n.a.") -> 0.018181818 | I30: =_xlfn.IFERROR(I13/I22,"n.a.") -> 0.019971969 | J30: =_xlfn.IFERROR(J13/J22,"n.a.") -> 0.016877637
B31: Y/Y change (bps) | C31: n.a. | D31: n.a. | E31: n.a. | F31: n.a. | G31: =_xlfn.IFERROR((G30-C30)*10000,"n.a.") -> -69.591395 | H31: =_xlfn.IFERROR((H30-D30)*10000,"n.a.") -> -19.254204 | I31: n.a. | J31: =_xlfn.IFERROR((J30-E30)*10000,"n.a.") -> 0
B32: Q/Q change (bps) | C32: n.a. | D32: =_xlfn.IFERROR((D30-C30)*10000,"n.a.") -> -44.237859 | E32: =_xlfn.IFERROR((E30-D30)*10000,"n.a.") -> -32.296015 | F32: =_xlfn.IFERROR((F30-E30)*10000,"n.a.") -> 16.145393 | G32: =_xlfn.IFERROR((G30-F30)*10000,"n.a.") -> -9.202914 | H32: =_xlfn.IFERROR((H30-G30)*10000,"n.a.") -> 6.099332 | I32: n.a. | J32: =_xlfn.IFERROR((J30-H30)*10000,"n.a.") -> -13.041811
B33: Trucks % of GM U.S. deliveries | C33: =_xlfn.IFERROR(C16/C22,"n.a.") -> 0.4963925 | D33: =_xlfn.IFERROR(D16/D22,"n.a.") -> 0.53753351 | E33: =_xlfn.IFERROR(E16/E22,"n.a.") -> 0.51898734 | F33: =_xlfn.IFERROR(F16/F22,"n.a.") -> 0.57183499 | G33: =_xlfn.IFERROR(G16/G22,"n.a.") -> 0.51757188 | H33: =_xlfn.IFERROR(H16/H22,"n.a.") -> 0.52867133 | I33: =_xlfn.IFERROR(I16/I22,"n.a.") -> 0.53153469 | J33: =_xlfn.IFERROR(J16/J22,"n.a.") -> 0.51898734
B34: Y/Y change (bps) | C34: n.a. | D34: n.a. | E34: n.a. | F34: n.a. | G34: =_xlfn.IFERROR((G33-C33)*10000,"n.a.") -> 211.79389 | H34: =_xlfn.IFERROR((H33-D33)*10000,"n.a.") -> -88.621834 | I34: n.a. | J34: =_xlfn.IFERROR((J33-E33)*10000,"n.a.") -> 0
B35: Q/Q change (bps) | C35: n.a. | D35: =_xlfn.IFERROR((D33-C33)*10000,"n.a.") -> 411.41016 | E35: =_xlfn.IFERROR((E33-D33)*10000,"n.a.") -> -185.4617 | F35: =_xlfn.IFERROR((F33-E33)*10000,"n.a.") -> 528.47651 | G35: =_xlfn.IFERROR((G33-F33)*10000,"n.a.") -> -542.63108 | H35: =_xlfn.IFERROR((H33-G33)*10000,"n.a.") -> 110.99444 | I35: n.a. | J35: =_xlfn.IFERROR((J33-H33)*10000,"n.a.") -> -96.839869
B36: Crossovers % of GM U.S. deliveries | C36: =_xlfn.IFERROR(C19/C22,"n.a.") -> 0.47907648 | D36: =_xlfn.IFERROR(D19/D22,"n.a.") -> 0.44235925 | E36: =_xlfn.IFERROR(E19/E22,"n.a.") -> 0.46413502 | F36: =_xlfn.IFERROR(F19/F22,"n.a.") -> 0.40967283 | G36: =_xlfn.IFERROR(G19/G22,"n.a.") -> 0.46485623 | H36: =_xlfn.IFERROR(H19/H22,"n.a.") -> 0.45314685 | I36: =_xlfn.IFERROR(I19/I22,"n.a.") -> 0.44849334 | J36: =_xlfn.IFERROR(J19/J22,"n.a.") -> 0.46413502
B37: Y/Y change (bps) | C37: n.a. | D37: n.a. | E37: n.a. | F37: n.a. | G37: =_xlfn.IFERROR((G36-C36)*10000,"n.a.") -> -142.20249 | H37: =_xlfn.IFERROR((H36-D36)*10000,"n.a.") -> 107.87604 | I37: n.a. | J37: =_xlfn.IFERROR((J36-E36)*10000,"n.a.") -> 0
B38: Q/Q change (bps) | C38: n.a. | D38: =_xlfn.IFERROR((D36-C36)*10000,"n.a.") -> -367.1723 | E38: =_xlfn.IFERROR((E36-D36)*10000,"n.a.") -> 217.75772 | F38: =_xlfn.IFERROR((F36-E36)*10000,"n.a.") -> -544.6219 | G38: =_xlfn.IFERROR((G36-F36)*10000,"n.a.") -> 551.83399 | H38: =_xlfn.IFERROR((H36-G36)*10000,"n.a.") -> -117.09377 | I38: n.a. | J38: =_xlfn.IFERROR((J36-H36)*10000,"n.a.") -> 109.88168
B39: GM deliveries - other North America (Canada, Mexico, other) | C39: 126 | D39: 131 | E39: 127 | F39: 124 | G39: 117 | H39: 133 | I39: 507 | J39: =E39*(1+J40) -> 127 | K39: 3Q26E: flat Y/Y assumption - no complete Q3 2026 GM Canada/Mexico totals published before the cutoff
B40: % Y/Y | C40: n.a. | D40: n.a. | E40: n.a. | F40: n.a. | G40: =_xlfn.IFERROR(G39/C39-1,"n.a.") -> -0.071428571 | H40: =_xlfn.IFERROR(H39/D39-1,"n.a.") -> 0.015267176 | I40: n.a. | J40: 0
B41: Q/Q change (abs.) | C41: n.a. | D41: =_xlfn.IFERROR(D39-C39,"n.a.") -> 5 | E41: =_xlfn.IFERROR(E39-D39,"n.a.") -> -4 | F41: =_xlfn.IFERROR(F39-E39,"n.a.") -> -3 | G41: =_xlfn.IFERROR(G39-F39,"n.a.") -> -7 | H41: =_xlfn.IFERROR(H39-G39,"n.a.") -> 16 | I41: n.a. | J41: =_xlfn.IFERROR(J39-H39,"n.a.") -> -6
B42: GM North America deliveries - total | C42: =C22+C39 -> 819 | D42: =D22+D39 -> 877 | E42: =E22+E39 -> 838 | F42: =F22+F39 -> 827 | G42: =G22+G39 -> 743 | H42: =H22+H39 -> 848 | I42: =I22+I39 -> 3361 | J42: =J22+J39 -> 797.974
...

Sheet Segment - GMI
B2: General Motors Company (NYSE: GM)
B3: Segment - GM International (GMI)
B4: $ millions, except per share
B5: Period | C5: 1Q25A | D5: 2Q25A | E5: 3Q25A | F5: 4Q25A | G5: 1Q26A | H5: 2Q26A | I5: FY25A | J5: 3Q26E | K5: Notes / sources
B6: Period end | C6: =DATE(2025,3,31) -> 45747 | D6: =DATE(2025,6,30) -> 45838 | E6: =DATE(2025,9,30) -> 45930 | F6: =DATE(2025,12,31) -> 46022 | G6: =DATE(2026,3,31) -> 46112 | H6: =DATE(2026,6,30) -> 46203 | I6: =DATE(2025,12,31) -> 46022 | J6: =DATE(2026,9,30) -> 46295
B7: Days in period | C7: =C6-EOMONTH(C6,-3) -> 90 | D7: =D6-EOMONTH(D6,-3) -> 91 | E7: =E6-EOMONTH(E6,-3) -> 92 | F7: =F6-EOMONTH(F6,-3) -> 92 | G7: =G6-EOMONTH(G6,-3) -> 90 | H7: =H6-EOMONTH(H6,-3) -> 91 | I7: =I6-EOMONTH(I6,-12) -> 365 | J7: =J6-EOMONTH(J6,-3) -> 92
B9: China joint ventures (vehicles in thousands; equity method, not consolidated) | K9: S3-S6 vehicle sales; S21 GM China Q3 2026
B10: SAIC-GM (SGMS) deliveries | C10: 119 | D10: 132 | E10: 130 | F10: 131 | G10: 116 | H10: 94 | I10: 512 | J10: =J19*E10/E16 -> 99.232409
B11: % Y/Y | C11: n.a. | D11: n.a. | E11: n.a. | F11: n.a. | G11: =_xlfn.IFERROR(G10/C10-1,"n.a.") -> -0.025210084 | H11: =_xlfn.IFERROR(H10/D10-1,"n.a.") -> -0.28787879 | I11: n.a. | J11: =_xlfn.IFERROR(J10/E10-1,"n.a.") -> -0.23667377
B12: Q/Q change (abs.) | C12: n.a. | D12: =_xlfn.IFERROR(D10-C10,"n.a.") -> 13 | E12: =_xlfn.IFERROR(E10-D10,"n.a.") -> -2 | F12: =_xlfn.IFERROR(F10-E10,"n.a.") -> 1 | G12: =_xlfn.IFERROR(G10-F10,"n.a.") -> -15 | H12: =_xlfn.IFERROR(H10-G10,"n.a.") -> -22 | I12: n.a. | J12: =_xlfn.IFERROR(J10-H10,"n.a.") -> 5.2324094
B13: SAIC-GM-Wuling (SGMW) deliveries | C13: 324 | D13: 315 | E13: 339 | F13: 390 | G13: 233 | H13: 263 | I13: 1368 | J13: =J19*E13/E16 -> 258.76759
B14: % Y/Y | C14: n.a. | D14: n.a. | E14: n.a. | F14: n.a. | G14: =_xlfn.IFERROR(G13/C13-1,"n.a.") -> -0.2808642 | H14: =_xlfn.IFERROR(H13/D13-1,"n.a.") -> -0.16507937 | I14: n.a. | J14: =_xlfn.IFERROR(J13/E13-1,"n.a.") -> -0.23667377
B15: Q/Q change (abs.) | C15: n.a. | D15: =_xlfn.IFERROR(D13-C13,"n.a.") -> -9 | E15: =_xlfn.IFERROR(E13-D13,"n.a.") -> 24 | F15: =_xlfn.IFERROR(F13-E13,"n.a.") -> 51 | G15: =_xlfn.IFERROR(G13-F13,"n.a.") -> -157 | H15: =_xlfn.IFERROR(H13-G13,"n.a.") -> 30 | I15: n.a. | J15: =_xlfn.IFERROR(J13-H13,"n.a.") -> -4.2324094
B16: GM China deliveries - total | C16: =C10+C13 -> 443 | D16: =D10+D13 -> 447 | E16: =E10+E13 -> 469 | F16: =F10+F13 -> 521 | G16: =G10+G13 -> 349 | H16: =H10+H13 -> 357 | I16: =I10+I13 -> 1880 | J16: =J10+J13 -> 358
B17: % Y/Y | C17: n.a. | D17: n.a. | E17: n.a. | F17: n.a. | G17: =_xlfn.IFERROR(G16/C16-1,"n.a.") -> -0.21218962 | H17: =_xlfn.IFERROR(H16/D16-1,"n.a.") -> -0.20134228 | I17: n.a. | J17: =_xlfn.IFERROR(J16/E16-1,"n.a.") -> -0.23667377
B18: Q/Q change (abs.) | C18: n.a. | D18: =_xlfn.IFERROR(D16-C16,"n.a.") -> 4 | E18: =_xlfn.IFERROR(E16-D16,"n.a.") -> 22 | F18: =_xlfn.IFERROR(F16-E16,"n.a.") -> 52 | G18: =_xlfn.IFERROR(G16-F16,"n.a.") -> -172 | H18: =_xlfn.IFERROR(H16-G16,"n.a.") -> 8 | I18: n.a. | J18: =_xlfn.IFERROR(J16-H16,"n.a.") -> 1
B19: Memo: GM China deliveries as reported | C19: 443 | D19: 448 | E19: 469 | F19: 521 | G19: 349 | H19: 357 | I19: 1880 | J19: 358 | K19: 3Q26E column = GM China Q3 2026 sales "more than 358,000" (GM release 2026-10-12, Gasgoo 2026-10-10); JV split estimated at 3Q25 mix
B20: Check: JV split less reported total (tol. 2k) | C20: =_xlfn.IFERROR(IF(ABS(C16-C19)<=2,0,C16-C19),1) -> 0 | D20: =_xlfn.IFERROR(IF(ABS(D16-D19)<=2,0,D16-D19),1) -> 0 | E20: =_xlfn.IFERROR(IF(ABS(E16-E19)<=2,0,E16-E19),1) -> 0 | F20: =_xlfn.IFERROR(IF(ABS(F16-F19)<=2,0,F16-F19),1) -> 0 | G20: =_xlfn.IFERROR(IF(ABS(G16-G19)<=2,0,G16-G19),1) -> 0 | H20: =_xlfn.IFERROR(IF(ABS(H16-H19)<=2,0,H16-H19),1) -> 0 | I20: =_xlfn.IFERROR(IF(ABS(I16-I19)<=2,0,I16-I19),1) -> 0 | J20: =_xlfn.IFERROR(IF(ABS(J16-J19)<=2,0,J16-J19),1) -> 0
B21: SGMW % of China deliveries | C21: =_xlfn.IFERROR(C13/C16,"n.a.") -> 0.73137698 | D21: =_xlfn.IFERROR(D13/D16,"n.a.") -> 0.70469799 | E21: =_xlfn.IFERROR(E13/E16,"n.a.") -> 0.7228145 | F21: =_xlfn.IFERROR(F13/F16,"n.a.") -> 0.74856046 | G21: =_xlfn.IFERROR(G13/G16,"n.a.") -> 0.66762178 | H21: =_xlfn.IFERROR(H13/H16,"n.a.") -> 0.73669468 | I21: =_xlfn.IFERROR(I13/I16,"n.a.") -> 0.72765957 | J21: =_xlfn.IFERROR(J13/J16,"n.a.") -> 0.7228145
B22: Y/Y change (bps) | C22: n.a. | D22: n.a. | E22: n.a. | F22: n.a. | G22: =_xlfn.IFERROR((G21-C21)*10000,"n.a.") -> -637.55199 | H22: =_xlfn.IFERROR((H21-D21)*10000,"n.a.") -> 319.96691 | I22: n.a. | J22: =_xlfn.IFERROR((J21-E21)*10000,"n.a.") -> 0
B23: Q/Q change (bps) | C23: n.a. | D23: =_xlfn.IFERROR((D21-C21)*10000,"n.a.") -> -266.78989 | E23: =_xlfn.IFERROR((E21-D21)*10000,"n.a.") -> 181.16512 | F23: =_xlfn.IFERROR((F21-E21)*10000,"n.a.") -> 257.45962 | G23: =_xlfn.IFERROR((G21-F21)*10000,"n.a.") -> -809.38684 | H23: =_xlfn.IFERROR((H21-G21)*10000,"n.a.") -> 690.72901 | I23: n.a. | J23: =_xlfn.IFERROR((J21-H21)*10000,"n.a.") -> -138.80179
B24: China JV equity income ($M) | C24: 45 | D24: 71 | E24: 80 | F24: -513 | G24: 165 | H24: 83 | I24: -316 | J24: =J16*J27/1000 -> 71.6
B25: % Y/Y | C25: n.a. | D25: n.a. | E25: n.a. | F25: n.a. | G25: =_xlfn.IFERROR(G24/C24-1,"n.a.") -> 2.6666667 | H25: =_xlfn.IFERROR(H24/D24-1,"n.a.") -> 0.16901408 | I25: n.a. | J25: =_xlfn.IFERROR(J24/E24-1,"n.a.") -> -0.105
B26: Q/Q change (abs.) | C26: n.a. | D26: =_xlfn.IFERROR(D24-C24,"n.a.") -> 26 | E26: =_xlfn.IFERROR(E24-D24,"n.a.") -> 9 | F26: =_xlfn.IFERROR(F24-E24,"n.a.") -> -593 | G26: =_xlfn.IFERROR(G24-F24,"n.a.") -> 678 | H26: =_xlfn.IFERROR(H24-G24,"n.a.") -> -82 | I26: n.a. | J26: =_xlfn.IFERROR(J24-H24,"n.a.") -> -11.4
B27: Equity income per China delivery ($) | C27: =_xlfn.IFERROR(C24*1000/C16,"n.a.") -> 101.58014 | D27: =_xlfn.IFERROR(D24*1000/D16,"n.a.") -> 158.83669 | E27: =_xlfn.IFERROR(E24*1000/E16,"n.a.") -> 170.57569 | F27: =_xlfn.IFERROR(F24*1000/F16,"n.a.") -> -984.64491 | G27: =_xlfn.IFERROR(G24*1000/G16,"n.a.") -> 472.77937 | H27: =_xlfn.IFERROR(H24*1000/H16,"n.a.") -> 232.493 | I27: =_xlfn.IFERROR(I24*1000/I16,"n.a.") -> -168.08511 | J27: 200 | K27: 3Q26E $200/vehicle: between 3Q25 ($171) and 2Q26 ($232); deliveries -24% Y/Y but NEV mix >60% (S21)
B28: % Y/Y | C28: n.a. | D28: n.a. | E28: n.a. | F28: n.a. | G28: =_xlfn.IFERROR(G27/C27-1,"n.a.") -> 3.6542502 | H28: =_xlfn.IFERROR(H27/D27-1,"n.a.") -> 0.46372352 | I28: n.a. | J28: =_xlfn.IFERROR(J27/E27-1,"n.a.") -> 0.1725
B29: Q/Q change (abs.) | C29: n.a. | D29: =_xlfn.IFERROR(D27-C27,"n.a.") -> 57.256554 | E29: =_xlfn.IFERROR(E27-D27,"n.a.") -> 11.739004 | F29: =_xlfn.IFERROR(F27-E27,"n.a.") -> -1155.2206 | G29: =_xlfn.IFERROR(G27-F27,"n.a.") -> 1457.4243 | H29: =_xlfn.IFERROR(H27-G27,"n.a.") -> -240.28637 | I29: n.a. | J29: =_xlfn.IFERROR(J27-H27,"n.a.") -> -32.492997
B31: GMI wholesale and revenue build
B32: GMI wholesale vehicle sales (thousands) | C32: 85 | D32: 125 | E32: 137 | F32: 157 | G32: 106 | H32: 142 | I32: 503 | J32: =E32*(1+J33) -> 141.11 | K32: 3Q26E +3% Y/Y: South America strong in 1H26 (+23% Brazil Q2), Middle East shipping disruption (Q2 call)
B33: % Y/Y | C33: n.a. | D33: n.a. | E33: n.a. | F33: n.a. | G33: =_xlfn.IFERROR(G32/C32-1,"n.a.") -> 0.24705882 | H33: =_xlfn.IFERROR(H32/D32-1,"n.a.") -> 0.136 | I33: n.a. | J33: 0.03
B34: Q/Q change (abs.) | C34: n.a. | D34: =_xlfn.IFERROR(D32-C32,"n.a.") -> 40 | E34: =_xlfn.IFERROR(E32-D32,"n.a.") -> 12 | F34: =_xlfn.IFERROR(F32-E32,"n.a.") -> 20 | G34: =_xlfn.IFERROR(G32-F32,"n.a.") -> -51 | H34: =_xlfn.IFERROR(H32-G32,"n.a.") -> 36 | I34: n.a. | J34: =_xlfn.IFERROR(J32-H32,"n.a.") -> -0.89
B35: Vehicle, parts and accessories | C35: 2125 | D35: 3075 | E35: 3355 | F35: =F70-F46-F54 -> 3736 | G35: 2571 | H35: 3396 | I35: 12290 | J35: =J32*J43 -> 3386.537 | K35: 4Q25 = reported 4Q25 segment revenue less used and services (each FY25 less 9M25)
B36: % Y/Y | C36: n.a. | D36: n.a. | E36: n.a. | F36: n.a. | G36: =_xlfn.IFERROR(G35/C35-1,"n.a.") -> 0.20988235 | H36: =_xlfn.IFERROR(H35/D35-1,"n.a.") -> 0.10439024 | I36: n.a. | J36: =_xlfn.IFERROR(J35/E35-1,"n.a.") -> 0.0094
B37: % Q/Q | C37: n.a. | D37: =_xlfn.IFERROR(D35/C35-1,"n.a.") -> 0.44705882 | E37: =_xlfn.IFERROR(E35/D35-1,"n.a.") -> 0.091056911 | F37: =_xlfn.IFERROR(F35/E35-1,"n.a.") -> 0.11356185 | G37: =_xlfn.IFERROR(G35/F35-1,"n.a.") -> -0.31183084 | H37: =_xlfn.IFERROR(H35/G35-1,"n.a.") -> 0.32088681 | I37: n.a. | J37: =_xlfn.IFERROR(J35/H35-1,"n.a.") -> -0.0027865135
B38: % of total revenue | C38: =_xlfn.IFERROR(C35/C62,"n.a.") -> 0.87556654 | D38: =_xlfn.IFERROR(D35/D62,"n.a.") -> 0.92425609 | E38: =_xlfn.IFERROR(E35/E62,"n.a.") -> 0.92043896 | F38: =_xlfn.IFERROR(F35/F62,"n.a.") -> 0.92727724 | G38: =_xlfn.IFERROR(G35/G62,"n.a.") -> 0.89926548 | H38: =_xlfn.IFERROR(H35/H62,"n.a.") -> 0.92007586 | I38: =_xlfn.IFERROR(I35/I62,"n.a.") -> 0.91531988 | J38: =_xlfn.IFERROR(J35/J62,"n.a.") -> 0.91987042
B39: M&A / scope impact | C39: Unavailable | D39: Unavailable | E39: Unavailable | F39: Unavailable | G39: Unavailable | H39: Unavailable | I39: Unavailable | J39: Unavailable | K39: GM does not disclose an M&A/scope component of revenue growth (10-Q MD&A variance: Volume/Mix/Price/Other only)
B40: FX impact | C40: Unavailable | D40: Unavailable | E40: Unavailable | F40: Unavailable | G40: Unavailable | H40: Unavailable | I40: Unavailable | J40: Unavailable | K40: FX is embedded in 10-Q "Other" variance and not quantified separately; left unavailable, not zero
B41: Organic growth | C41: =IF(AND(ISNUMBER(C36),ISNUMBER(C39),ISNUMBER(C40)),(1+C36)/((1+C39)*(1+C40))-1,"Unavailable") -> Unavailable | D41: =IF(AND(ISNUMBER(D36),ISNUMBER(D39),ISNUMBER(D40)),(1+D36)/((1+D39)*(1+D40))-1,"Unavailable") -> Unavailable | E41: =IF(AND(ISNUMBER(E36),ISNUMBER(E39),ISNUMBER(E40)),(1+E36)/((1+E39)*(1+E40))-1,"Unavailable") -> Unavailable | F41: =IF(AND(ISNUMBER(F36),ISNUMBER(F39),ISNUMBER(F40)),(1+F36)/((1+F39)*(1+F40))-1,"Unavailable") -> Unavailable | G41: =IF(AND(ISNUMBER(G36),ISNUMBER(G39),ISNUMBER(G40)),(1+G36)/((1+G39)*(1+G40))-1,"Unavailable") -> Unavailable | H41: =IF(AND(ISNUMBER(H36),ISNUMBER(H39),ISNUMBER(H40)),(1+H36)/((1+H39)*(1+H40))-1,"Unavailable") -> Unavailable | I41: =IF(AND(ISNUMBER(I36),ISNUMBER(I39),ISNUMBER(I40)),(1+I36)/((1+I39)*(1+I40))-1,"Unavailable") -> Unavailable | J41: =IF(AND(ISNUMBER(J36),ISNUMBER(J39),ISNUMBER(J40)),(1+J36)/((1+J39)*(1+J40))-1,"Unavailable") -> Unavailable
B42: Total Y/Y (reported) | C42: =C36 -> n.a. | D42: =D36 -> n.a. | E42: =E36 -> n.a. | F42: =F36 -> n.a. | G42: =G36 -> 0.20988235 | H42: =H36 -> 0.10439024 | I42: =I36 -> n.a. | J42: =J36 -> 0.0094
B43: Vehicle revenue per wholesale unit ($000) | C43: =_xlfn.IFERROR(C35/C32,"n.a.") -> 25 | D43: =_xlfn.IFERROR(D35/D32,"n.a.") -> 24.6 | E43: =_xlfn.IFERROR(E35/E32,"n.a.") -> 24.489051 | F43: =_xlfn.IFERROR(F35/F32,"n.a.") -> 23.796178 | G43: =_xlfn.IFERROR(G35/G32,"n.a.") -> 24.254717 | H43: =_xlfn.IFERROR(H35/H32,"n.a.") -> 23.915493 | I43: =_xlfn.IFERROR(I35/I32,"n.a.") -> 24.4334 | J43: =E43*(1+J44) -> 23.99927
...

Sheet Segment - GM Financial
B2: General Motors Company (NYSE: GM)
B3: Segment - GM Financial (GMF)
B4: $ millions, except per share
B5: Period | C5: 1Q25A | D5: 2Q25A | E5: 3Q25A | F5: 4Q25A | G5: 1Q26A | H5: 2Q26A | I5: FY25A | J5: 3Q26E | K5: Notes / sources
B6: Period end | C6: =DATE(2025,3,31) -> 45747 | D6: =DATE(2025,6,30) -> 45838 | E6: =DATE(2025,9,30) -> 45930 | F6: =DATE(2025,12,31) -> 46022 | G6: =DATE(2026,3,31) -> 46112 | H6: =DATE(2026,6,30) -> 46203 | I6: =DATE(2025,12,31) -> 46022 | J6: =DATE(2026,9,30) -> 46295
B7: Days in period | C7: =C6-EOMONTH(C6,-3) -> 90 | D7: =D6-EOMONTH(D6,-3) -> 91 | E7: =E6-EOMONTH(E6,-3) -> 92 | F7: =F6-EOMONTH(F6,-3) -> 92 | G7: =G6-EOMONTH(G6,-3) -> 90 | H7: =H6-EOMONTH(H6,-3) -> 91 | I7: =I6-EOMONTH(I6,-12) -> 365 | J7: =J6-EOMONTH(J6,-3) -> 92
B9: Retail finance receivables ladder ($ millions) | K9: S11-S16 GM Financial earnings releases
B10: Opening retail finance receivables | C10: 76066 | D10: =C15 -> 76995 | E10: =D15 -> 77837 | F10: =E15 -> 75857 | G10: =F15 -> 75404 | H10: =G15 -> 74893 | I10: =C10 -> 76066 | J10: =H15 -> 76064
B11: + Retail loan originations | C11: 9564 | D11: 9534 | E11: 8812 | F11: 8404 | G11: 8253 | H11: 10047 | I11: 36314 | J11: 9800 | K11: 3Q26E: between 2Q26 ($10.0B) and 3Q25 ($8.8B); U.S. deliveries -5.5% Y/Y
B12: % Y/Y | C12: n.a. | D12: n.a. | E12: n.a. | F12: n.a. | G12: =_xlfn.IFERROR(G11/C11-1,"n.a.") -> -0.13707654 | H12: =_xlfn.IFERROR(H11/D11-1,"n.a.") -> 0.053807426 | I12: n.a. | J12: =_xlfn.IFERROR(J11/E11-1,"n.a.") -> 0.11211984
B13: Q/Q change (abs.) | C13: n.a. | D13: =_xlfn.IFERROR(D11-C11,"n.a.") -> -30 | E13: =_xlfn.IFERROR(E11-D11,"n.a.") -> -722 | F13: =_xlfn.IFERROR(F11-E11,"n.a.") -> -408 | G13: =_xlfn.IFERROR(G11-F11,"n.a.") -> -151 | H13: =_xlfn.IFERROR(H11-G11,"n.a.") -> 1794 | I13: n.a. | J13: =_xlfn.IFERROR(J11-H11,"n.a.") -> -247
B14: - Collections, charge-offs and other (derived) | C14: =C15-C10-C11 -> -8635 | D14: =D15-D10-D11 -> -8692 | E14: =E15-E10-E11 -> -10792 | F14: =F15-F10-F11 -> -8857 | G14: =G15-G10-G11 -> -8764 | H14: =H15-H10-H11 -> -8876 | I14: =I15-I10-I11 -> -36976 | J14: =-J10*J19 -> -9014.7819
B15: Closing retail finance receivables | C15: 76995 | D15: 77837 | E15: 75857 | F15: 75404 | G15: 74893 | H15: 76064 | I15: =F15 -> 75404 | J15: =J10+J11+J14 -> 76849.218
B16: % Y/Y | C16: n.a. | D16: n.a. | E16: n.a. | F16: n.a. | G16: =_xlfn.IFERROR(G15/C15-1,"n.a.") -> -0.027300474 | H16: =_xlfn.IFERROR(H15/D15-1,"n.a.") -> -0.02277837 | I16: n.a. | J16: =_xlfn.IFERROR(J15/E15-1,"n.a.") -> 0.013080112
B17: Q/Q change (abs.) | C17: n.a. | D17: =_xlfn.IFERROR(D15-C15,"n.a.") -> 842 | E17: =_xlfn.IFERROR(E15-D15,"n.a.") -> -1980 | F17: =_xlfn.IFERROR(F15-E15,"n.a.") -> -453 | G17: =_xlfn.IFERROR(G15-F15,"n.a.") -> -511 | H17: =_xlfn.IFERROR(H15-G15,"n.a.") -> 1171 | I17: n.a. | J17: =_xlfn.IFERROR(J15-H15,"n.a.") -> 785.21806
B18: Average retail finance receivables | C18: 76940 | D18: 77577 | E18: 76799 | F18: 75610 | G18: 75170 | H18: 75551 | I18: 76717 | J18: =AVERAGE(J10,J15) -> 76456.609
B19: Retail run-off rate (% of opening, quarterly) | C19: =_xlfn.IFERROR(-C14/C10,"n.a.") -> 0.11351984 | D19: =_xlfn.IFERROR(-D14/D10,"n.a.") -> 0.11289045 | E19: =_xlfn.IFERROR(-E14/E10,"n.a.") -> 0.13864871 | F19: =_xlfn.IFERROR(-F14/F10,"n.a.") -> 0.11675917 | G19: =_xlfn.IFERROR(-G14/G10,"n.a.") -> 0.11622726 | H19: =_xlfn.IFERROR(-H14/H10,"n.a.") -> 0.11851575 | I19: n.a. | J19: =H19 -> 0.11851575
B20: Y/Y change (bps) | C20: n.a. | D20: n.a. | E20: n.a. | F20: n.a. | G20: =_xlfn.IFERROR((G19-C19)*10000,"n.a.") -> 27.074178 | H20: =_xlfn.IFERROR((H19-D19)*10000,"n.a.") -> 56.253017 | I20: n.a. | J20: =_xlfn.IFERROR((J19-E19)*10000,"n.a.") -> -201.32965
B21: Q/Q change (bps) | C21: n.a. | D21: =_xlfn.IFERROR((D19-C19)*10000,"n.a.") -> -6.293906 | E21: =_xlfn.IFERROR((E19-D19)*10000,"n.a.") -> 257.58267 | F21: =_xlfn.IFERROR((F19-E19)*10000,"n.a.") -> -218.89549 | G21: =_xlfn.IFERROR((G19-F19)*10000,"n.a.") -> -5.3190942 | H21: =_xlfn.IFERROR((H19-G19)*10000,"n.a.") -> 22.884933 | I21: n.a. | J21: =_xlfn.IFERROR((J19-H19)*10000,"n.a.") -> 0
B22: Commercial (dealer floorplan) finance receivables
B23: Opening commercial finance receivables | C23: 19901 | D23: =C25 -> 16885 | E23: =D25 -> 16723 | F23: =E25 -> 17081 | G23: =F25 -> 17365 | H23: =G25 -> 15684 | I23: =C23 -> 19901 | J23: =H25 -> 16519
B24: + Net change (derived) | C24: =C25-C23 -> -3016 | D24: =D25-D23 -> -162 | E24: =E25-E23 -> 358 | F24: =F25-F23 -> 284 | G24: =G25-G23 -> -1681 | H24: =H25-H23 -> 835 | I24: =I25-I23 -> -2536 | J24: =J25-J23 -> 981
B25: Closing commercial finance receivables | C25: 16885 | D25: 16723 | E25: 17081 | F25: 17365 | G25: 15684 | H25: 16519 | I25: =F25 -> 17365 | J25: 17500 | K25: 3Q26E: U.S. dealer inventory +57k units in Q3 (S20) lifts floorplan balances
B26: % Y/Y | C26: n.a. | D26: n.a. | E26: n.a. | F26: n.a. | G26: =_xlfn.IFERROR(G25/C25-1,"n.a.") -> -0.07112822 | H26: =_xlfn.IFERROR(H25/D25-1,"n.a.") -> -0.012198768 | I26: n.a. | J26: =_xlfn.IFERROR(J25/E25-1,"n.a.") -> 0.02453018
B27: Q/Q change (abs.) | C27: n.a. | D27: =_xlfn.IFERROR(D25-C25,"n.a.") -> -162 | E27: =_xlfn.IFERROR(E25-D25,"n.a.") -> 358 | F27: =_xlfn.IFERROR(F25-E25,"n.a.") -> 284 | G27: =_xlfn.IFERROR(G25-F25,"n.a.") -> -1681 | H27: =_xlfn.IFERROR(H25-G25,"n.a.") -> 835 | I27: n.a. | J27: =_xlfn.IFERROR(J25-H25,"n.a.") -> 981
B28: Average commercial finance receivables | C28: 18031 | D28: 16628 | E28: 16589 | F28: 17334 | G28: 15764 | H28: 16053 | I28: 17203 | J28: =AVERAGE(J23,J25) -> 17009.5
B29: Leased vehicles, net
B30: Opening leased vehicles, net | C30: 31586 | D30: =C35 -> 32239 | E30: =D35 -> 33196 | F30: =E35 -> 33609 | G30: =F35 -> 33686 | H30: =G35 -> 33344 | I30: =C30 -> 31586 | J30: =H35 -> 32881
B31: + Operating lease originations | C31: 4984 | D31: 5398 | E31: 4956 | F31: 4229 | G31: 4047 | H31: 4129 | I31: 19567 | J31: 4200 | K31: 3Q26E: ~1H26 run-rate ($4.0-4.1B)
B32: % Y/Y | C32: n.a. | D32: n.a. | E32: n.a. | F32: n.a. | G32: =_xlfn.IFERROR(G31/C31-1,"n.a.") -> -0.18800161 | H32: =_xlfn.IFERROR(H31/D31-1,"n.a.") -> -0.23508707 | I32: n.a. | J32: =_xlfn.IFERROR(J31/E31-1,"n.a.") -> -0.15254237
B33: Q/Q change (abs.) | C33: n.a. | D33: =_xlfn.IFERROR(D31-C31,"n.a.") -> 414 | E33: =_xlfn.IFERROR(E31-D31,"n.a.") -> -442 | F33: =_xlfn.IFERROR(F31-E31,"n.a.") -> -727 | G33: =_xlfn.IFERROR(G31-F31,"n.a.") -> -182 | H33: =_xlfn.IFERROR(H31-G31,"n.a.") -> 82 | I33: n.a. | J33: =_xlfn.IFERROR(J31-H31,"n.a.") -> 71
B34: - Depreciation, terminations and other (derived) | C34: =C35-C30-C31 -> -4331 | D34: =D35-D30-D31 -> -4441 | E34: =E35-E30-E31 -> -4543 | F34: =F35-F30-F31 -> -4152 | G34: =G35-G30-G31 -> -4389 | H34: =H35-H30-H31 -> -4592 | I34: =I35-I30-I31 -> -17467 | J34: =-J30*J39 -> -4528.2375
B35: Closing leased vehicles, net | C35: 32239 | D35: 33196 | E35: 33609 | F35: 33686 | G35: 33344 | H35: 32881 | I35: =F35 -> 33686 | J35: =J30+J31+J34 -> 32552.762
B36: % Y/Y | C36: n.a. | D36: n.a. | E36: n.a. | F36: n.a. | G36: =_xlfn.IFERROR(G35/C35-1,"n.a.") -> 0.034275257 | H36: =_xlfn.IFERROR(H35/D35-1,"n.a.") -> -0.0094890951 | I36: n.a. | J36: =_xlfn.IFERROR(J35/E35-1,"n.a.") -> -0.031427223
B37: Q/Q change (abs.) | C37: n.a. | D37: =_xlfn.IFERROR(D35-C35,"n.a.") -> 957 | E37: =_xlfn.IFERROR(E35-D35,"n.a.") -> 413 | F37: =_xlfn.IFERROR(F35-E35,"n.a.") -> 77 | G37: =_xlfn.IFERROR(G35-F35,"n.a.") -> -342 | H37: =_xlfn.IFERROR(H35-G35,"n.a.") -> -463 | I37: n.a. | J37: =_xlfn.IFERROR(J35-H35,"n.a.") -> -328.23752
B38: Average leased vehicles, net | C38: 31941 | D38: 32786 | E38: 33377 | F38: 33662 | G38: 33542 | H38: 33196 | I38: 32925 | J38: =AVERAGE(J30,J35) -> 32716.881
B39: Lease run-off rate (% of opening, quarterly) | C39: =_xlfn.IFERROR(-C34/C30,"n.a.") -> 0.13711771 | D39: =_xlfn.IFERROR(-D34/D30,"n.a.") -> 0.13775241 | E39: =_xlfn.IFERROR(-E34/E30,"n.a.") -> 0.13685384 | F39: =_xlfn.IFERROR(-F34/F30,"n.a.") -> 0.12353834 | G39: =_xlfn.IFERROR(-G34/G30,"n.a.") -> 0.13029152 | H39: =_xlfn.IFERROR(-H34/H30,"n.a.") -> 0.13771593 | I39: n.a. | J39: =H39 -> 0.13771593
B40: Y/Y change (bps) | C40: n.a. | D40: n.a. | E40: n.a. | F40: n.a. | G40: =_xlfn.IFERROR((G39-C39)*10000,"n.a.") -> -68.261946 | H40: =_xlfn.IFERROR((H39-D39)*10000,"n.a.") -> -0.36480773 | I40: n.a. | J40: =_xlfn.IFERROR((J39-E39)*10000,"n.a.") -> 8.6209309
B41: Q/Q change (bps) | C41: n.a. | D41: =_xlfn.IFERROR((D39-C39)*10000,"n.a.") -> 6.347013 | E41: =_xlfn.IFERROR((E39-D39)*10000,"n.a.") -> -8.9857386 | F41: =_xlfn.IFERROR((F39-E39)*10000,"n.a.") -> -133.155 | G41: =_xlfn.IFERROR((G39-F39)*10000,"n.a.") -> 67.531778 | H41: =_xlfn.IFERROR((H39-G39)*10000,"n.a.") -> 74.244151 | I41: n.a. | J41: =_xlfn.IFERROR((J39-H39)*10000,"n.a.") -> 0
B42: Earning assets
...

Sheet Income Statement
B2: General Motors Company (NYSE: GM)
B3: Income Statement
B4: $ millions, except per share
B5: Period | C5: 1Q25A | D5: 2Q25A | E5: 3Q25A | F5: 4Q25A | G5: 1Q26A | H5: 2Q26A | I5: FY25A | J5: 3Q26E | K5: Notes / sources
B6: Period end | C6: =DATE(2025,3,31) -> 45747 | D6: =DATE(2025,6,30) -> 45838 | E6: =DATE(2025,9,30) -> 45930 | F6: =DATE(2025,12,31) -> 46022 | G6: =DATE(2026,3,31) -> 46112 | H6: =DATE(2026,6,30) -> 46203 | I6: =DATE(2025,12,31) -> 46022 | J6: =DATE(2026,9,30) -> 46295
B7: Days in period | C7: =C6-EOMONTH(C6,-3) -> 90 | D7: =D6-EOMONTH(D6,-3) -> 91 | E7: =E6-EOMONTH(E6,-3) -> 92 | F7: =F6-EOMONTH(F6,-3) -> 92 | G7: =G6-EOMONTH(G6,-3) -> 90 | H7: =H6-EOMONTH(H6,-3) -> 91 | I7: =I6-EOMONTH(I6,-12) -> 365 | J7: =J6-EOMONTH(J6,-3) -> 92
B9: Income statement as reported ($ millions) | K9: S3-S6 combining income statements; 4Q25 = FY25 less 9M25 where no three-month statement
B10: Automotive net sales and revenue | C10: ='Revenue summary'!C44 -> 39862 | D10: ='Revenue summary'!D44 -> 42870 | E10: ='Revenue summary'!E44 -> 44257 | F10: ='Revenue summary'!F44 -> 40986 | G10: ='Revenue summary'!G44 -> 39350 | H10: ='Revenue summary'!H44 -> 43762 | I10: ='Revenue summary'!I44 -> 167971 | J10: ='Revenue summary'!J44 -> 44739.592
B11: GM Financial net sales and revenue | C11: ='Revenue summary'!C62 -> 4159 | D11: ='Revenue summary'!D62 -> 4253 | E11: ='Revenue summary'!E62 -> 4335 | F11: ='Revenue summary'!F62 -> 4301 | G11: ='Revenue summary'!G62 -> 4276 | H11: ='Revenue summary'!H62 -> 4264 | I11: ='Revenue summary'!I62 -> 17048 | J11: ='Revenue summary'!J62 -> 4323.1779
B12: Total net sales and revenue | C12: =C10+C11 -> 44021 | D12: =D10+D11 -> 47123 | E12: =E10+E11 -> 48592 | F12: =F10+F11 -> 45287 | G12: =G10+G11 -> 43626 | H12: =H10+H11 -> 48026 | I12: =I10+I11 -> 185019 | J12: =J10+J11 -> 49062.77
B13: % Y/Y | C13: n.a. | D13: n.a. | E13: n.a. | F13: n.a. | G13: =_xlfn.IFERROR(G12/C12-1,"n.a.") -> -0.0089729902 | H13: =_xlfn.IFERROR(H12/D12-1,"n.a.") -> 0.019162617 | I13: n.a. | J13: =_xlfn.IFERROR(J12/E12-1,"n.a.") -> 0.0096882262
B14: % Q/Q | C14: n.a. | D14: =_xlfn.IFERROR(D12/C12-1,"n.a.") -> 0.070466368 | E14: =_xlfn.IFERROR(E12/D12-1,"n.a.") -> 0.031173737 | F14: =_xlfn.IFERROR(F12/E12-1,"n.a.") -> -0.068015311 | G14: =_xlfn.IFERROR(G12/F12-1,"n.a.") -> -0.036677192 | H14: =_xlfn.IFERROR(H12/G12-1,"n.a.") -> 0.10085729 | I14: n.a. | J14: =_xlfn.IFERROR(J12/H12-1,"n.a.") -> 0.021587688
B15: Automotive and other cost of sales | C15: 35191 | D15: 39289 | E15: 41936 | F15: =I15-C15-D15-E15 -> 42712 | G15: 35028 | H15: 40696 | I15: 159128 | J15: =J20-J16-J17 -> 39487.704 | K15: 3Q26E residual, not modelled: = total costs (J20) less GMF expenses (J16) and SG&A (J17); J20 = revenue less operating income (J21). Absorbs non-operating inputs (J33, J36) and special items
B16: GM Financial interest, operating and other expenses | C16: 3491 | D16: 3567 | E16: 3542 | F16: =I16-C16-D16-E16 -> 3695 | G16: 3601 | H16: 3674 | I16: 14295 | J16: ='Segment - GM Financial'!J117 -> 3689.5823
B17: Automotive and other SG&A | C17: 1985 | D17: 2139 | E17: 2037 | F17: =I17-C17-D17-E17 -> 2526 | G17: 2069 | H17: 2197 | I17: 8687 | J17: 2150 | K17: 3Q26E: ~1H26 run-rate ($2.07-2.20B)
B18: % Y/Y | C18: n.a. | D18: n.a. | E18: n.a. | F18: n.a. | G18: =_xlfn.IFERROR(G17/C17-1,"n.a.") -> 0.04231738 | H18: =_xlfn.IFERROR(H17/D17-1,"n.a.") -> 0.027115475 | I18: n.a. | J18: =_xlfn.IFERROR(J17/E17-1,"n.a.") -> 0.055473736
B19: Q/Q change (abs.) | C19: n.a. | D19: =_xlfn.IFERROR(D17-C17,"n.a.") -> 154 | E19: =_xlfn.IFERROR(E17-D17,"n.a.") -> -102 | F19: =_xlfn.IFERROR(F17-E17,"n.a.") -> 489 | G19: =_xlfn.IFERROR(G17-F17,"n.a.") -> -457 | H19: =_xlfn.IFERROR(H17-G17,"n.a.") -> 128 | I19: n.a. | J19: =_xlfn.IFERROR(J17-H17,"n.a.") -> -47
B20: Total costs and expenses | C20: =C15+C16+C17 -> 40667 | D20: =D15+D16+D17 -> 44995 | E20: =E15+E16+E17 -> 47515 | F20: =F15+F16+F17 -> 48933 | G20: =G15+G16+G17 -> 40698 | H20: =H15+H16+H17 -> 46567 | I20: =I15+I16+I17 -> 182110 | J20: =J12-J21 -> 45327.287
B21: Operating income (loss) | C21: =C12-C20 -> 3354 | D21: =D12-D20 -> 2128 | E21: =E12-E20 -> 1077 | F21: =F12-F20 -> -3646 | G21: =G12-G20 -> 2928 | H21: =H12-H20 -> 1459 | I21: =I12-I20 -> 2909 | J21: =J40+J30-J33-J36 -> 3735.4836 | K21: 3Q26E residual: backed out of PBT (J40+J30-J33-J36), i.e. EBIT-adjusted build less special items and non-operating items; not an independent operating forecast
B22: % Y/Y | C22: n.a. | D22: n.a. | E22: n.a. | F22: n.a. | G22: =_xlfn.IFERROR(G21/C21-1,"n.a.") -> -0.12701252 | H22: =_xlfn.IFERROR(H21/D21-1,"n.a.") -> -0.3143797 | I22: n.a. | J22: =_xlfn.IFERROR(J21/E21-1,"n.a.") -> 2.4684156
B23: Operating margin | C23: =_xlfn.IFERROR(C21/C12,"n.a.") -> 0.076190909 | D23: =_xlfn.IFERROR(D21/D12,"n.a.") -> 0.045158415 | E23: =_xlfn.IFERROR(E21/E12,"n.a.") -> 0.022164142 | F23: =_xlfn.IFERROR(F21/F12,"n.a.") -> -0.080508755 | G23: =_xlfn.IFERROR(G21/G12,"n.a.") -> 0.06711594 | H23: =_xlfn.IFERROR(H21/H12,"n.a.") -> 0.030379378 | I23: =_xlfn.IFERROR(I21/I12,"n.a.") -> 0.01572271 | J23: =_xlfn.IFERROR(J21/J12,"n.a.") -> 0.076136827
B24: Y/Y change (bps) | C24: n.a. | D24: n.a. | E24: n.a. | F24: n.a. | G24: =_xlfn.IFERROR((G23-C23)*10000,"n.a.") -> -90.749688 | H24: =_xlfn.IFERROR((H23-D23)*10000,"n.a.") -> -147.79037 | I24: n.a. | J24: =_xlfn.IFERROR((J23-E23)*10000,"n.a.") -> 539.72685
B25: Q/Q change (bps) | C25: n.a. | D25: =_xlfn.IFERROR((D23-C23)*10000,"n.a.") -> -310.32494 | E25: =_xlfn.IFERROR((E23-D23)*10000,"n.a.") -> -229.94273 | F25: =_xlfn.IFERROR((F23-E23)*10000,"n.a.") -> -1026.729 | G25: =_xlfn.IFERROR((G23-F23)*10000,"n.a.") -> 1476.247 | H25: =_xlfn.IFERROR((H23-G23)*10000,"n.a.") -> -367.36562 | I25: n.a. | J25: =_xlfn.IFERROR((J23-H23)*10000,"n.a.") -> 457.57449
B26: Automotive gross profit (derived: auto revenue less auto cost of sales) | C26: =C10-C15 -> 4671 | D26: =D10-D15 -> 3581 | E26: =E10-E15 -> 2321 | F26: =F10-F15 -> -1726 | G26: =G10-G15 -> 4322 | H26: =H10-H15 -> 3066 | I26: =I10-I15 -> 8843 | J26: =J10-J15 -> 5251.888 | K26: Not an issuer-defined metric; GM does not report gross profit. 3Q26E derived from residual cost of sales (K15) - non-independent output
B27: Automotive gross margin (derived) | C27: =_xlfn.IFERROR(C26/C10,"n.a.") -> 0.11717927 | D27: =_xlfn.IFERROR(D26/D10,"n.a.") -> 0.083531607 | E27: =_xlfn.IFERROR(E26/E10,"n.a.") -> 0.052443681 | F27: =_xlfn.IFERROR(F26/F10,"n.a.") -> -0.042111941 | G27: =_xlfn.IFERROR(G26/G10,"n.a.") -> 0.10983482 | H27: =_xlfn.IFERROR(H26/H10,"n.a.") -> 0.070060783 | I27: =_xlfn.IFERROR(I26/I10,"n.a.") -> 0.052645992 | J27: =_xlfn.IFERROR(J26/J10,"n.a.") -> 0.11738793 | K27: 3Q26E derived from residual cost of sales (K15); non-independent output, not a modelled margin driver
B28: Y/Y change (bps) | C28: n.a. | D28: n.a. | E28: n.a. | F28: n.a. | G28: =_xlfn.IFERROR((G27-C27)*10000,"n.a.") -> -73.444527 | H28: =_xlfn.IFERROR((H27-D27)*10000,"n.a.") -> -134.70824 | I28: n.a. | J28: =_xlfn.IFERROR((J27-E27)*10000,"n.a.") -> 649.44246
B29: Q/Q change (bps) | C29: n.a. | D29: =_xlfn.IFERROR((D27-C27)*10000,"n.a.") -> -336.47661 | E29: =_xlfn.IFERROR((E27-D27)*10000,"n.a.") -> -310.87926 | F29: =_xlfn.IFERROR((F27-E27)*10000,"n.a.") -> -945.55622 | G29: =_xlfn.IFERROR((G27-F27)*10000,"n.a.") -> 1519.4676 | H29: =_xlfn.IFERROR((H27-G27)*10000,"n.a.") -> -397.74032 | I29: n.a. | J29: =_xlfn.IFERROR((J27-H27)*10000,"n.a.") -> 473.27144
B30: Automotive interest expense | C30: 152 | D30: 198 | E30: 209 | F30: 167 | G30: 158 | H30: 151 | I30: 727 | J30: 150
B31: % Y/Y | C31: n.a. | D31: n.a. | E31: n.a. | F31: n.a. | G31: =_xlfn.IFERROR(G30/C30-1,"n.a.") -> 0.039473684 | H31: =_xlfn.IFERROR(H30/D30-1,"n.a.") -> -0.23737374 | I31: n.a. | J31: =_xlfn.IFERROR(J30/E30-1,"n.a.") -> -0.28229665
B32: Q/Q change (abs.) | C32: n.a. | D32: =_xlfn.IFERROR(D30-C30,"n.a.") -> 46 | E32: =_xlfn.IFERROR(E30-D30,"n.a.") -> 11 | F32: =_xlfn.IFERROR(F30-E30,"n.a.") -> -42 | G32: =_xlfn.IFERROR(G30-F30,"n.a.") -> -9 | H32: =_xlfn.IFERROR(H30-G30,"n.a.") -> -7 | I32: n.a. | J32: =_xlfn.IFERROR(J30-H30,"n.a.") -> -1
B33: Interest income and other non-operating income, net | C33: 310 | D33: 366 | E33: 475 | F33: =I33-C33-D33-E33 -> 384 | G33: 307 | H33: 223 | I33: 1535 | J33: 215 | K33: 3Q26E: ~2Q26 level; lower automotive cash
B34: % Y/Y | C34: n.a. | D34: n.a. | E34: n.a. | F34: n.a. | G34: =_xlfn.IFERROR(G33/C33-1,"n.a.") -> -0.0096774194 | H34: =_xlfn.IFERROR(H33/D33-1,"n.a.") -> -0.39071038 | I34: n.a. | J34: =_xlfn.IFERROR(J33/E33-1,"n.a.") -> -0.54736842
B35: Q/Q change (abs.) | C35: n.a. | D35: =_xlfn.IFERROR(D33-C33,"n.a.") -> 56 | E35: =_xlfn.IFERROR(E33-D33,"n.a.") -> 109 | F35: =_xlfn.IFERROR(F33-E33,"n.a.") -> -91 | G35: =_xlfn.IFERROR(G33-F33,"n.a.") -> -77 | H35: =_xlfn.IFERROR(H33-G33,"n.a.") -> -84 | I35: n.a. | J35: =_xlfn.IFERROR(J33-H33,"n.a.") -> -8
B36: Equity income (loss) | C36: 62 | D36: 80 | E36: 77 | F36: =I36-C36-D36-E36 -> -819 | G36: 272 | H36: 36 | I36: -600 | J36: ='Segment - GMI'!J24+'Segment - GM Financial'!J118+J39 -> 84.6 | K36: 3Q26E: China JV (GMI tab) + GMF equity income + other
B37: % Y/Y | C37: n.a. | D37: n.a. | E37: n.a. | F37: n.a. | G37: =_xlfn.IFERROR(G36/C36-1,"n.a.") -> 3.3870968 | H37: =_xlfn.IFERROR(H36/D36-1,"n.a.") -> -0.55 | I37: n.a. | J37: =_xlfn.IFERROR(J36/E36-1,"n.a.") -> 0.098701299
B38: Q/Q change (abs.) | C38: n.a. | D38: =_xlfn.IFERROR(D36-C36,"n.a.") -> 18 | E38: =_xlfn.IFERROR(E36-D36,"n.a.") -> -3 | F38: =_xlfn.IFERROR(F36-E36,"n.a.") -> -896 | G38: =_xlfn.IFERROR(G36-F36,"n.a.") -> 1091 | H38: =_xlfn.IFERROR(H36-G36,"n.a.") -> -236 | I38: n.a. | J38: =_xlfn.IFERROR(J36-H36,"n.a.") -> 48.6
