Workbook

Sheet Cover
C2: Company Model — built by Shortcut
C3: Neogen Corporation (NasdaqGS: NEOG)
C4: $ millions, except per share
B5: Forecast period | C5: 1Q27E
B6: Period end | C6: 46265
B7: Days in period | C7: 92
B9: Company | C9: Neogen Corporation
B10: Ticker | C10: NEOG
B11: Exchange | C11: Nasdaq Global Select (NasdaqGS)
B12: Fiscal year end | C12: May 31
B13: Reporting currency | C13: USD
B14: EPS basis | C14: Adjusted (normalized) diluted EPS — CapIQ normalized = company Adjusted EPS
B15: Information cutoff | C15: 2026-10-04 22:22 UTC
B16: Expected report date | C16: 2026-10-06 (after market close)
B17: Market cap / S&P 500 | C17: ="$"&TEXT(Inputs!C111,"0.00")&"B at Oct 2, 2026 close — "&Inputs!C112&"-cap; S&P 500 member: "&Inputs!C113 -> $2.65B at Oct 2, 2026 close — mid-cap; S&P 500 member: N
B18: Author | C18: Shortcut
B20: Headline estimates (1Q27E) | C20: Shortcut est. | D20: Consensus | E20: Var. $ | F20: Var. % | G20: Guide mid | H20: Est. vs guide | I20: # est.
B21: Revenue ($M) | C21: ='Revenue summary'!H35 -> 212.16268 | D21: =Inputs!C65 -> 208.18 | E21: =C21-D21 -> 3.9826831 | F21: =IF(D21=0,"n/a",(C21-D21)/ABS(D21)) -> 0.019130959 | G21: =Guidance!G27 -> 208 | H21: =C21-G21 -> 4.1626831 | I21: =Inputs!C70 -> 4
B22: Adj. net income, cons. basis ($M) | C22: ='Income Statement'!H157 -> 12.326192 | D22: =Inputs!C78 -> 10.1 | E22: =C22-D22 -> 2.226192 | F22: =IF(D22=0,"n/a",(C22-D22)/ABS(D22)) -> 0.22041505 | G22: =Guidance!G36 -> 11.84 | H22: =C22-G22 -> 0.48619197
B23: Adj. diluted EPS, cons. basis ($) | C23: ='Income Statement'!H164 -> 0.06 | D23: =Inputs!C49 -> 0.05 | E23: =C23-D23 -> 0.01 | F23: =IF(D23=0,"n/a",(C23-D23)/ABS(D23)) -> 0.2 | G23: =Guidance!G37 -> 0.054235793 | H23: =C23-G23 -> 0.0057642065 | I23: =Inputs!C54 -> 3
B24: Adjusted EBITDA ($M) | C24: ='Income Statement'!H199 -> 37.657016 | D24: =Inputs!C74 -> 36.67 | E24: =C24-D24 -> 0.98701618 | F24: =IF(D24=0,"n/a",(C24-D24)/ABS(D24)) -> 0.026916176 | G24: =Guidance!G28 -> 37 | H24: =C24-G24 -> 0.65701618
B25: GAAP net income ($M) | C25: ='Income Statement'!H92 -> -18.249808 | D25: =Inputs!C79 -> -15.37 | E25: =C25-D25 -> -2.879808 | F25: =IF(D25=0,"n/a",(C25-D25)/ABS(D25)) -> -0.18736552 | G25: not guided | H25: n/a
B26: GAAP diluted EPS ($) | C26: ='Income Statement'!H104 -> -0.08 | D26: =Inputs!C58 -> -0.07 | E26: =C26-D26 -> -0.01 | F26: =IF(D26=0,"n/a",(C26-D26)/ABS(D26)) -> -0.14285714 | G26: not guided | H26: n/a
B27: P(beat consensus EPS) | C27: =Inputs!C122 -> 0.62
B28: Confidence | C28: =Inputs!C125 -> low
B29: Identity: Cover = statements | C29: =AND(C21='Revenue summary'!H35,C22='Income Statement'!H157,C23='Income Statement'!H164,C24='Income Statement'!H199,C25='Income Statement'!H92,C26='Income Statement'!H104,C27=Inputs!C122) -> TRUE
B30: Model check (excl. identities) | C30: =IF(AND('Revenue summary'!C45,'Revenue summary'!D45,'Revenue summary'!E45,'Revenue summary'!F45,'Revenue summary'!G45,'Segment - Food Safety'!C113,'Segment - Food Safety'!D113,'Segment - Food Safety'!E113,'Segment - Food Safety'!F113,'Segment - Food Safety'!G113,'Segment - Food Safety'!G114,'Segment - Animal Safety'!C97,'Segment - Animal Safety'!D97,'Segment - Animal Safety'!E97,'Segment - Animal Safety'!F97,'Segment - Animal Safety'!G97,'Segment - Animal Safety'!G98,'Income Statement'!G28,'Income Statement'!G97,'Income Statement'!C109,'Income Statement'!D109,'Income Statement'!E109,'Income Statement'!F109,'Income Statement'!G109,'Income Statement'!C159,'Income Statement'!D159,'Income Statement'!E159,'Income Statement'!F159,'Income Statement'!G159,'Income Statement'!C166,'Income Statement'!D166,'Income Statement'!E166,'Income Statement'!F166,'Income Statement'!G166,'Income Statement'!C201,'Income Statement'!D201,'Income Statement'!E201,'Income Statement'!F201,'Income Statement'!G201,'Income Statement'!C224,'Income Statement'!D224,'Income Statement'!E224,'Income Statement'!F224,'Income Statement'!G224,'Balance Sheet'!C47,'Balance Sheet'!D47,'Balance Sheet'!E47,'Balance Sheet'!F47,'Balance Sheet'!G47,'Balance Sheet'!H47,'Balance Sheet'!C48,'Balance Sheet'!D48,'Balance Sheet'!E48,'Balance Sheet'!F48,'Balance Sheet'!G48,'Cash Flow Statement'!C91,'Cash Flow Statement'!D91,'Cash Flow Statement'!E91,'Cash Flow Statement'!F91,'Cash Flow Statement'!G91,'Cash Flow Statement'!C94,'Cash Flow Statement'!D94,'Cash Flow Statement'!E94,'Cash Flow Statement'!F94,'Cash Flow Statement'!G94,'Cash Flow Statement'!C135,'Cash Flow Statement'!D135,'Cash Flow Statement'!E135,'Cash Flow Statement'!F135,Geo!C35,Geo!D35,Geo!E35,Geo!F35,Geo!G35,Geo!G36,Inputs!J18),"PASS","FAIL") -> PASS
B32: Key drivers
B33: ="• Revenue built bottom-up by product category: Food Safety core growth "&TEXT('Segment - Food Safety'!H119,"0.0%")&" on an easy 1Q26 comp, Animal Safety core "&TEXT('Segment - Animal Safety'!H103,"0.0%")&", $"&TEXT(-('Segment - Food Safety'!H122+'Segment - Animal Safety'!H106),"0.0")&"M divested C&D revenue removed from the base, FX "&TEXT('Revenue summary'!H41,"0.0%")&"." -> • Revenue built bottom-up by product category: Food Safety core growth 4.9% on an easy 1Q26 comp, Animal Safety core 2.0%, $6.0M divested C&D revenue removed from the base, FX 0.2%.
B34: ="• Adjusted EBITDA $"&TEXT('Income Statement'!H199,"0.0")&"M vs ~$"&TEXT(Guidance!G28,"0")&"M guide: management beat or raised every FY26 guide; revenue upside partly reinvested (FY27 plan: R&D +50%; Q1 global sales meeting)." -> • Adjusted EBITDA $37.7M vs ~$37M guide: management beat or raised every FY26 guide; revenue upside partly reinvested (FY27 plan: R&D +50%; Q1 global sales meeting).
B35: ="• Adjusted EPS $"&TEXT('Income Statement'!H163,"0.0000")&" unrounded → $"&TEXT('Income Statement'!H164,"0.00")&" as reported; guide-midpoint EBITDA implies $"&TEXT(Guidance!G37,"0.0000")&" — a strict beat requires beating the EBITDA guide." -> • Adjusted EPS $0.0565 unrounded → $0.06 as reported; guide-midpoint EBITDA implies $0.0542 — a strict beat requires beating the EBITDA guide.
B37: * G22:H23 = guide-implied model values (Shortcut calculation), not issuer guidance; the company gives no NI/EPS guidance.
B38: Method: ~$37M adj. EBITDA guide less model D&A, interest and tax, over model shares (Guidance!B30:G37). G21, G24 = issuer guidance (S9).

Sheet Revenue summary
B2: Neogen Corporation (NasdaqGS: NEOG)
B3: Revenue summary
B4: $ millions, except per share
B5: Period | C5: 1Q26A | D5: 2Q26A | E5: 3Q26A | F5: 4Q26A | G5: FY26A | H5: 1Q27E | I5: Src
B6: Period end | C6: 45900 | D6: 45991 | E6: 46081 | F6: 46173 | G6: 46173 | H6: 46265
B7: Days in period | C7: 92 | D7: 91 | E7: 90 | F7: 92 | G7: 365 | H7: 92
B9: Revenue by segment
B10: Food Safety revenue | C10: ='Segment - Food Safety'!C110 -> 152.05 | D10: ='Segment - Food Safety'!D110 -> 165.554 | E10: ='Segment - Food Safety'!E110 -> 156.7 | F10: ='Segment - Food Safety'!F110 -> 166.8 | G10: ='Segment - Food Safety'!G110 -> 641.1 | H10: ='Segment - Food Safety'!H110 -> 157.94177
B11: Year-ago period revenue | C11: ='Segment - Food Safety'!C115 -> 159.345 | D11: ='Segment - Food Safety'!D115 -> 164.238 | E11: ='Segment - Food Safety'!E115 -> 152.8 | F11: ='Segment - Food Safety'!F115 -> 161.8 | G11: ='Segment - Food Safety'!G115 -> 638.1 | H11: ='Segment - Food Safety'!H115 -> 152.05
B12: % Y/Y | C12: =C10/C11-1 -> -0.045781167 | D12: =D10/D11-1 -> 0.008012762 | E12: =E10/E11-1 -> 0.02552356 | F12: =F10/F11-1 -> 0.030902349 | G12: =G10/G11-1 -> 0.0047014575 | H12: =H10/H11-1 -> 0.038748919
B13: $ Q/Q change | C13: =C10-F11 -> -9.75 | D13: =D10-C10 -> 13.504 | E13: =E10-D10 -> -8.854 | F13: =F10-E10 -> 10.1 | H13: =H10-F10 -> -8.8582269
B14: % Q/Q | C14: =C10/F11-1 -> -0.06025958 | D14: =D10/C10-1 -> 0.08881289 | E14: =E10/D10-1 -> -0.053481039 | F14: =F10/E10-1 -> 0.064454371 | H14: =H10/F10-1 -> -0.053106876
B15: % of total revenue | C15: =C10/C35 -> 0.72685466 | D15: =D10/D35 -> 0.73680744 | E15: =E10/E35 -> 0.74195076 | F15: =F10/F35 -> 0.74034621 | G15: =G10/G35 -> 0.7365579 | H15: =H10/H35 -> 0.7444371
B16: Mix change, bps Y/Y | C16: =(C15-C11/C36)*10000 -> -75.759343 | D16: =(D15-D11/D36)*10000 -> 266.13628 | E16: =(E15-E11/E36)*10000 -> 505.48043 | F16: =(F15-F11/F36)*10000 -> 228.29575 | G16: =(G15-G11/G36)*10000 -> 233.57949 | H16: =(H15-H11/H36)*10000 -> 175.8244
B17: FX impact % | C17: ='Segment - Food Safety'!C117 -> 0.008 | D17: ='Segment - Food Safety'!D117 -> 0.013 | E17: ='Segment - Food Safety'!E117 -> 0.04 | F17: ='Segment - Food Safety'!F117 -> 0.023 | G17: ='Segment - Food Safety'!G117 -> 0.021 | H17: ='Segment - Food Safety'!H117 -> 0.003
B18: M&A / divestiture impact % | C18: ='Segment - Food Safety'!C118 -> -0.037 | D18: ='Segment - Food Safety'!D118 -> -0.046 | E18: ='Segment - Food Safety'!E118 -> -0.054 | F18: ='Segment - Food Safety'!F118 -> -0.05 | G18: ='Segment - Food Safety'!G118 -> -0.047 | H18: ='Segment - Food Safety'!H118 -> -0.013153568
B19: Organic growth % | C19: =(1+C12)/((1+C18)*(1+C17))-1 -> -0.016982692 | D19: =(1+D12)/((1+D18)*(1+D17))-1 -> 0.043057405 | E19: =(1+E12)/((1+E18)*(1+E17))-1 -> 0.042368231 | F19: =(1+F12)/((1+F18)*(1+F17))-1 -> 0.060762822 | G19: =(1+G12)/((1+G18)*(1+G17))-1 -> 0.032567353 | H19: =(1+H12)/((1+H18)*(1+H17))-1 -> 0.049445951
B20: Core growth % (company definition) | C20: ='Segment - Food Safety'!C119 -> -0.017 | D20: ='Segment - Food Safety'!D119 -> 0.041 | E20: ='Segment - Food Safety'!E119 -> 0.04 | F20: ='Segment - Food Safety'!F119 -> 0.058 | G20: ='Segment - Food Safety'!G119 -> 0.031 | H20: ='Segment - Food Safety'!H119 -> 0.049445951
B22: Animal Safety revenue | C22: ='Segment - Animal Safety'!C94 -> 57.139 | D22: ='Segment - Animal Safety'!D94 -> 59.137 | E22: ='Segment - Animal Safety'!E94 -> 54.5 | F22: ='Segment - Animal Safety'!F94 -> 58.5 | G22: ='Segment - Animal Safety'!G94 -> 229.3 | H22: ='Segment - Animal Safety'!H94 -> 54.22091
B23: Year-ago period revenue | C23: ='Segment - Animal Safety'!C99 -> 57.619 | D23: ='Segment - Animal Safety'!D99 -> 67.02 | E23: ='Segment - Animal Safety'!E99 -> 68.2 | F23: ='Segment - Animal Safety'!F99 -> 63.7 | G23: ='Segment - Animal Safety'!G99 -> 256.6 | H23: ='Segment - Animal Safety'!H99 -> 57.139
B24: % Y/Y | C24: =C22/C23-1 -> -0.0083305854 | D24: =D22/D23-1 -> -0.11762161 | E24: =E22/E23-1 -> -0.20087977 | F24: =F22/F23-1 -> -0.081632653 | G24: =G22/G23-1 -> -0.10639127 | H24: =H22/H23-1 -> -0.051070022
B25: $ Q/Q change | C25: =C22-F23 -> -6.561 | D25: =D22-C22 -> 1.998 | E25: =E22-D22 -> -4.637 | F25: =F22-E22 -> 4 | H25: =H22-F22 -> -4.27909
B26: % Q/Q | C26: =C22/F23-1 -> -0.10299843 | D26: =D22/C22-1 -> 0.03496736 | E26: =E22/D22-1 -> -0.078411147 | F26: =F22/E22-1 -> 0.073394495 | H26: =H22/F22-1 -> -0.073146838
B27: % of total revenue | C27: =C22/C35 -> 0.27314534 | D27: =D22/D35 -> 0.26319256 | E27: =E22/E35 -> 0.25804924 | F27: =F22/F35 -> 0.25965379 | G27: =G22/G35 -> 0.2634421 | H27: =H22/H35 -> 0.2555629
B28: Mix change, bps Y/Y | C28: =(C27-C23/C36)*10000 -> 75.759343 | D28: =(D27-D23/D36)*10000 -> -266.13628 | E28: =(E27-E23/E36)*10000 -> -505.48043 | F28: =(F27-F23/F36)*10000 -> -228.29575 | G28: =(G27-G23/G36)*10000 -> -233.57949 | H28: =(H27-H23/H36)*10000 -> -175.8244
B29: FX impact % | C29: ='Segment - Animal Safety'!C101 -> -0.002 | D29: ='Segment - Animal Safety'!D101 -> -0.002 | E29: ='Segment - Animal Safety'!E101 -> 0.0051202346 | F29: ='Segment - Animal Safety'!F101 -> 0.007 | G29: ='Segment - Animal Safety'!G101 -> 0.0016087295 | H29: ='Segment - Animal Safety'!H101 -> 0
B30: M&A / divestiture impact % | C30: ='Segment - Animal Safety'!C102 -> -0.064 | D30: ='Segment - Animal Safety'!D102 -> -0.117 | E30: ='Segment - Animal Safety'!E102 -> -0.119 | F30: ='Segment - Animal Safety'!F102 -> -0.094 | G30: ='Segment - Animal Safety'!G102 -> -0.1 | H30: ='Segment - Animal Safety'!H102 -> -0.070004725
B31: Organic growth % | C31: =(1+C24)/((1+C30)*(1+C29))-1 -> 0.061599068 | D31: =(1+D24)/((1+D30)*(1+D29))-1 -> 0.0012986273 | E31: =(1+E24)/((1+E30)*(1+E29))-1 -> -0.097560278 | F31: =(1+F24)/((1+F30)*(1+F29))-1 -> 0.0066042635 | G31: =(1+G24)/((1+G30)*(1+G29))-1 -> -0.0086961514 | H31: =(1+H24)/((1+H30)*(1+H29))-1 -> 0.020359999
B32: Core growth % (company definition) | C32: ='Segment - Animal Safety'!C103 -> 0.058 | D32: ='Segment - Animal Safety'!D103 -> 0.001 | E32: ='Segment - Animal Safety'!E103 -> -0.087 | F32: ='Segment - Animal Safety'!F103 -> 0.005 | G32: ='Segment - Animal Safety'!G103 -> -0.008 | H32: ='Segment - Animal Safety'!H103 -> 0.020359999
B34: Total company
B35: Total revenue | C35: =C10+C22 -> 209.189 | D35: =D10+D22 -> 224.691 | E35: =E10+E22 -> 211.2 | F35: =F10+F22 -> 225.3 | G35: =G10+G22 -> 870.4 | H35: =H10+H22 -> 212.16268
B36: Year-ago period revenue | C36: =C11+C23 -> 216.964 | D36: =D11+D23 -> 231.258 | E36: =E11+E23 -> 221 | F36: =F11+F23 -> 225.5 | G36: =G11+G23 -> 894.7 | H36: =H11+H23 -> 209.189
B37: % Y/Y | C37: =C35/C36-1 -> -0.035835438 | D37: =D35/D36-1 -> -0.028396855 | E37: =E35/E36-1 -> -0.044343891 | F37: =F35/F36-1 -> -0.00088691796 | G37: =G35/G36-1 -> -0.027159942 | H37: =H35/H36-1 -> 0.014215294
B38: $ Q/Q change | C38: =C35-F36 -> -16.311 | D38: =D35-C35 -> 15.502 | E38: =E35-D35 -> -13.491 | F38: =F35-E35 -> 14.1 | H38: =H35-F35 -> -13.137317
B39: % Q/Q | C39: =C35/F36-1 -> -0.072332594 | D39: =D35/C35-1 -> 0.074105235 | E39: =E35/D35-1 -> -0.060042458 | F39: =F35/E35-1 -> 0.066761364 | H39: =H35/F35-1 -> -0.058310328
B40: % of total revenue | C40: =C35/C35 -> 1 | D40: =D35/D35 -> 1 | E40: =E35/E35 -> 1 | F40: =F35/F35 -> 1 | G40: =G35/G35 -> 1 | H40: =H35/H35 -> 1
B41: FX impact % | C41: 0.005 | D41: 0.009 | E41: 0.03 | F41: 0.019 | G41: 0.016 | H41: =('Segment - Food Safety'!H121+'Segment - Animal Safety'!H105)/H36 -> 0.0022582836 | I41: S3,S5,S7,S9
B42: M&A / divestiture impact % | C42: -0.044 | D42: -0.066 | E42: -0.075 | F42: -0.063 | G42: -0.062 | H42: =('Segment - Food Safety'!H122+'Segment - Animal Safety'!H106)/H36 -> -0.028682196 | I42: S3,S5,S7,S9
B43: Organic growth % | C43: =(1+C37)/((1+C42)*(1+C41))-1 -> 0.0035227231 | D43: =(1+D37)/((1+D42)*(1+D41))-1 -> 0.030981493 | E43: =(1+E37)/((1+E42)*(1+E41))-1 -> 0.0030502321 | F43: =(1+F37)/((1+F42)*(1+F41))-1 -> 0.046407565 | G43: =(1+G37)/((1+G42)*(1+G41))-1 -> 0.02080996 | H43: =(1+H37)/((1+H42)*(1+H41))-1 -> 0.041811511
B44: Core growth % (company basis) | C44: 0.003 | D44: 0.029 | E44: 0.001 | F44: 0.043 | G44: 0.019 | H44: =('Segment - Food Safety'!H123+'Segment - Animal Safety'!H107)/(H36+'Segment - Food Safety'!H122+'Segment - Animal Safety'!H106) -> 0.041839248 | I44: S3,S5,S7,S9
...

Sheet Segment - Food Safety
B2: Neogen Corporation (NasdaqGS: NEOG)
B3: Segment - Food Safety
B4: $ millions, except per share
B5: Period | C5: 1Q26A | D5: 2Q26A | E5: 3Q26A | F5: 4Q26A | G5: FY26A | H5: 1Q27E | I5: Src
B6: Period end | C6: 45900 | D6: 45991 | E6: 46081 | F6: 46173 | G6: 46173 | H6: 46265
B7: Days in period | C7: 92 | D7: 91 | E7: 90 | F7: 92 | G7: 365 | H7: 92
B9: Food Safety revenue build by product category (driver ladder)
B10: Neogen does not disclose units, customers, price or volume. Ladder per line: year-ago revenue → less divested → comparable base → + core growth $ → + FX $ → revenue.
B11: “unavailable” = not disclosed by the company at this level; no zero is assumed.
B13: Natural Toxins & Allergens | C13: 19.962 | D13: 20.439 | E13: 17.9 | F13: 19.2 | G13: 77.5 | H13: =H16+H17+H18 -> 20.322214 | I13: S4,S6,S7,S9
B14: Year-ago period revenue (opening) | C14: 20.376 | D14: 20.508 | E14: 17.6 | F14: 18.5 | G14: 77 | H14: =C13 -> 19.962 | I14: S4,S6,S7,S9
B15: Less: divested in year-ago | C15: unavailable | D15: unavailable | E15: unavailable | F15: unavailable | G15: unavailable | H15: 0
B16: Comparable base | C16: unavailable | D16: unavailable | E16: unavailable | F16: unavailable | G16: unavailable | H16: =H14+H15 -> 19.962
B17: + Core (organic) growth, $ | C17: unavailable | D17: unavailable | E17: unavailable | F17: unavailable | G17: unavailable | H17: =H16*H19 -> 0.29943
B18: + FX translation, $ | C18: unavailable | D18: unavailable | E18: unavailable | F18: unavailable | G18: unavailable | H18: =(H16+H17)*H20 -> 0.06078429
B19: Core growth % (driver) | C19: unavailable | D19: unavailable | E19: unavailable | F19: unavailable | G19: unavailable | H19: 0.015
B20: FX impact % (driver) | C20: unavailable | D20: unavailable | E20: unavailable | F20: unavailable | G20: unavailable | H20: =H117 -> 0.003
B21: M&A / divestiture impact % | C21: unavailable | D21: unavailable | E21: unavailable | F21: unavailable | G21: unavailable | H21: =H15/H14 -> 0
B22: Total % Y/Y | C22: =C13/C14-1 -> -0.020318021 | D22: =D13/D14-1 -> -0.0033645407 | E22: =E13/E14-1 -> 0.017045455 | F22: =F13/F14-1 -> 0.037837838 | G22: =G13/G14-1 -> 0.0064935065 | H22: =H13/H14-1 -> 0.018045
B23: Organic growth % | C23: unavailable | D23: unavailable | E23: unavailable | F23: unavailable | G23: unavailable | H23: =(1+H22)/((1+H21)*(1+H20))-1 -> 0.015
B24: $ Q/Q change | C24: =C13-F14 -> 1.462 | D24: =D13-C13 -> 0.477 | E24: =E13-D13 -> -2.539 | F24: =F13-E13 -> 1.3 | H24: =H13-F13 -> 1.1222143
B25: % Q/Q | C25: =C13/F14-1 -> 0.079027027 | D25: =D13/C13-1 -> 0.023895401 | E25: =E13/D13-1 -> -0.1242233 | F25: =F13/E13-1 -> 0.072625698 | H25: =H13/F13-1 -> 0.058448661
B26: % of segment revenue | C26: =C13/C110 -> 0.13128576 | D26: =D13/D110 -> 0.12345821 | E26: =E13/E110 -> 0.11423101 | F26: =F13/F110 -> 0.11510791 | G26: =G13/G110 -> 0.12088598 | H26: =H13/H110 -> 0.12866903
B27: Mix change, bps Y/Y | C27: =(C26-C14/C115)*10000 -> 34.122792 | D27: =(D26-D14/D115)*10000 -> -14.093632 | E27: =(E26-E14/E115)*10000 -> -9.522314 | F27: =(F26-F14/F115)*10000 -> 7.6922393 | G27: =(G26-G14/G115)*10000 -> 2.1523596 | H27: =(H26-H14/H115)*10000 -> -26.167341
B29: Bacterial & General Sanitation | C29: 41.649 | D29: 44.915 | E29: 42.1 | F29: 46.7 | G29: 175.4 | H29: =H32+H33+H34 -> 44.071514 | I29: S4,S6,S7,S9
B30: Year-ago period revenue (opening) | C30: 39.899 | D30: 42.536 | E30: 39.9 | F30: 42.5 | G30: 164.8 | H30: =C29 -> 41.649 | I30: S4,S6,S7,S9
B31: Less: divested in year-ago | C31: unavailable | D31: unavailable | E31: unavailable | F31: unavailable | G31: unavailable | H31: 0
B32: Comparable base | C32: unavailable | D32: unavailable | E32: unavailable | F32: unavailable | G32: unavailable | H32: =H30+H31 -> 41.649
B33: + Core (organic) growth, $ | C33: unavailable | D33: unavailable | E33: unavailable | F33: unavailable | G33: unavailable | H33: =H32*H35 -> 2.290695
B34: + FX translation, $ | C34: unavailable | D34: unavailable | E34: unavailable | F34: unavailable | G34: unavailable | H34: =(H32+H33)*H36 -> 0.13181909
B35: Core growth % (driver) | C35: unavailable | D35: unavailable | E35: unavailable | F35: unavailable | G35: unavailable | H35: 0.055
B36: FX impact % (driver) | C36: unavailable | D36: unavailable | E36: unavailable | F36: unavailable | G36: unavailable | H36: =H117 -> 0.003
B37: M&A / divestiture impact % | C37: unavailable | D37: unavailable | E37: unavailable | F37: unavailable | G37: unavailable | H37: =H31/H30 -> 0
B38: Total % Y/Y | C38: =C29/C30-1 -> 0.043860748 | D38: =D29/D30-1 -> 0.055929095 | E38: =E29/E30-1 -> 0.055137845 | F38: =F29/F30-1 -> 0.098823529 | G38: =G29/G30-1 -> 0.064320388 | H38: =H29/H30-1 -> 0.058165
B39: Organic growth % | C39: unavailable | D39: unavailable | E39: unavailable | F39: unavailable | G39: unavailable | H39: =(1+H38)/((1+H37)*(1+H36))-1 -> 0.055
B40: $ Q/Q change | C40: =C29-F30 -> -0.851 | D40: =D29-C29 -> 3.266 | E40: =E29-D29 -> -2.815 | F40: =F29-E29 -> 4.6 | H40: =H29-F29 -> -2.6284859
B41: % Q/Q | C41: =C29/F30-1 -> -0.020023529 | D41: =D29/C29-1 -> 0.078417249 | E41: =E29/D29-1 -> -0.06267394 | F41: =F29/E29-1 -> 0.10926366 | H41: =H29/F29-1 -> -0.056284495
B42: % of segment revenue | C42: =C29/C110 -> 0.27391647 | D42: =D29/D110 -> 0.27130121 | E42: =E29/E110 -> 0.26866624 | F42: =F29/F110 -> 0.27997602 | G42: =G29/G110 -> 0.27359226 | H42: =H29/H110 -> 0.27903647
B43: Mix change, bps Y/Y | C43: =(C42-C30/C115)*10000 -> 235.22675 | D43: =(D42-D30/D115)*10000 -> 123.11205 | E43: =(E42-E30/E115)*10000 -> 75.405868 | F43: =(F42-F30/F115)*10000 -> 173.06056 | G43: =(G42-G30/G115)*10000 -> 153.25534 | H43: =(H42-H30/H115)*10000 -> 51.199904
B45: Indicator Testing & Culture Media | C45: =D136-D45 -> 76.784 | D45: 86.109 | E45: 83 | F45: 86.8 | G45: 332.7 | H45: =H48+H49+H50 -> 81.635213 | I45: S4,S6,S7,S9
...

Sheet Segment - Animal Safety
B2: Neogen Corporation (NasdaqGS: NEOG)
B3: Segment - Animal Safety
B4: $ millions, except per share
B5: Period | C5: 1Q26A | D5: 2Q26A | E5: 3Q26A | F5: 4Q26A | G5: FY26A | H5: 1Q27E | I5: Src
B6: Period end | C6: 45900 | D6: 45991 | E6: 46081 | F6: 46173 | G6: 46173 | H6: 46265
B7: Days in period | C7: 92 | D7: 91 | E7: 90 | F7: 92 | G7: 365 | H7: 92
B9: Animal Safety revenue build by product category (driver ladder)
B10: Neogen does not disclose units, customers, price or volume. Ladder per line: year-ago revenue → less divested → comparable base → + core growth $ → + FX $ → revenue.
B11: “unavailable” = not disclosed by the company at this level; no zero is assumed.
B13: Life Sciences | C13: 1.859 | D13: 1.448 | E13: 1.5 | F13: 1.8 | G13: 6.6 | H13: =H16+H17+H18 -> 1.859 | I13: S4,S6,S7,S9
B14: Year-ago period revenue (opening) | C14: 1.733 | D14: 1.627 | E14: 1.5 | F14: 1.6 | G14: 6.5 | H14: =C13 -> 1.859 | I14: S4,S6,S7,S9
B15: Less: divested in year-ago | C15: unavailable | D15: unavailable | E15: unavailable | F15: unavailable | G15: unavailable | H15: 0
B16: Comparable base | C16: unavailable | D16: unavailable | E16: unavailable | F16: unavailable | G16: unavailable | H16: =H14+H15 -> 1.859
B17: + Core (organic) growth, $ | C17: unavailable | D17: unavailable | E17: unavailable | F17: unavailable | G17: unavailable | H17: =H16*H19 -> 0
B18: + FX translation, $ | C18: unavailable | D18: unavailable | E18: unavailable | F18: unavailable | G18: unavailable | H18: =(H16+H17)*H20 -> 0
B19: Core growth % (driver) | C19: unavailable | D19: unavailable | E19: unavailable | F19: unavailable | G19: unavailable | H19: 0
B20: FX impact % (driver) | C20: unavailable | D20: unavailable | E20: unavailable | F20: unavailable | G20: unavailable | H20: =H101 -> 0
B21: M&A / divestiture impact % | C21: unavailable | D21: unavailable | E21: unavailable | F21: unavailable | G21: unavailable | H21: =H15/H14 -> 0
B22: Total % Y/Y | C22: =C13/C14-1 -> 0.07270629 | D22: =D13/D14-1 -> -0.11001844 | E22: =E13/E14-1 -> 0 | F22: =F13/F14-1 -> 0.125 | G22: =G13/G14-1 -> 0.015384615 | H22: =H13/H14-1 -> 0
B23: Organic growth % | C23: unavailable | D23: unavailable | E23: unavailable | F23: unavailable | G23: unavailable | H23: =(1+H22)/((1+H21)*(1+H20))-1 -> 0
B24: $ Q/Q change | C24: =C13-F14 -> 0.259 | D24: =D13-C13 -> -0.411 | E24: =E13-D13 -> 0.052 | F24: =F13-E13 -> 0.3 | H24: =H13-F13 -> 0.059
B25: % Q/Q | C25: =C13/F14-1 -> 0.161875 | D25: =D13/C13-1 -> -0.22108661 | E25: =E13/D13-1 -> 0.035911602 | F25: =F13/E13-1 -> 0.2 | H25: =H13/F13-1 -> 0.032777778
B26: % of segment revenue | C26: =C13/C94 -> 0.032534696 | D26: =D13/D94 -> 0.024485517 | E26: =E13/E94 -> 0.027522936 | F26: =F13/F94 -> 0.030769231 | G26: =G13/G94 -> 0.028783253 | H26: =H13/H94 -> 0.034285666
B27: Mix change, bps Y/Y | C27: =(C26-C14/C99)*10000 -> 24.578117 | D27: =(D26-D14/D99)*10000 -> 2.0918126 | E27: =(E26-E14/E99)*10000 -> 55.288009 | F27: =(F26-F14/F99)*10000 -> 56.514914 | G27: =(G26-G14/G99)*10000 -> 34.519985 | H27: =(H26-H14/H99)*10000 -> 17.509697
B29: Veterinary Instruments & Disposables | C29: 11.908 | D29: 13.684 | E29: 15.5 | F29: 15.8 | G29: 56.9 | H29: =H32+H33+H34 -> 12.5034 | I29: S4,S6,S7,S9
B30: Year-ago period revenue (opening) | C30: 12.523 | D30: 17.274 | E30: 15.5 | F30: 16.1 | G30: 61.5 | H30: =C29 -> 11.908 | I30: S4,S6,S7,S9
B31: Less: divested in year-ago | C31: unavailable | D31: unavailable | E31: unavailable | F31: unavailable | G31: unavailable | H31: 0
B32: Comparable base | C32: unavailable | D32: unavailable | E32: unavailable | F32: unavailable | G32: unavailable | H32: =H30+H31 -> 11.908
B33: + Core (organic) growth, $ | C33: unavailable | D33: unavailable | E33: unavailable | F33: unavailable | G33: unavailable | H33: =H32*H35 -> 0.5954
B34: + FX translation, $ | C34: unavailable | D34: unavailable | E34: unavailable | F34: unavailable | G34: unavailable | H34: =(H32+H33)*H36 -> 0
B35: Core growth % (driver) | C35: unavailable | D35: unavailable | E35: unavailable | F35: unavailable | G35: unavailable | H35: 0.05
B36: FX impact % (driver) | C36: unavailable | D36: unavailable | E36: unavailable | F36: unavailable | G36: unavailable | H36: =H101 -> 0
B37: M&A / divestiture impact % | C37: unavailable | D37: unavailable | E37: unavailable | F37: unavailable | G37: unavailable | H37: =H31/H30 -> 0
B38: Total % Y/Y | C38: =C29/C30-1 -> -0.049109638 | D38: =D29/D30-1 -> -0.20782679 | E38: =E29/E30-1 -> 0 | F38: =F29/F30-1 -> -0.01863354 | G38: =G29/G30-1 -> -0.074796748 | H38: =H29/H30-1 -> 0.05
B39: Organic growth % | C39: unavailable | D39: unavailable | E39: unavailable | F39: unavailable | G39: unavailable | H39: =(1+H38)/((1+H37)*(1+H36))-1 -> 0.05
B40: $ Q/Q change | C40: =C29-F30 -> -4.192 | D40: =D29-C29 -> 1.776 | E40: =E29-D29 -> 1.816 | F40: =F29-E29 -> 0.3 | H40: =H29-F29 -> -3.2966
B41: % Q/Q | C41: =C29/F30-1 -> -0.26037267 | D41: =D29/C29-1 -> 0.14914343 | E41: =E29/D29-1 -> 0.13270973 | F41: =F29/E29-1 -> 0.019354839 | H41: =H29/F29-1 -> -0.20864557
B42: % of segment revenue | C42: =C29/C94 -> 0.20840407 | D42: =D29/D94 -> 0.2313949 | E42: =E29/E94 -> 0.28440367 | F42: =F29/F94 -> 0.27008547 | G42: =G29/G94 -> 0.24814653 | H42: =H29/H94 -> 0.23060107
B43: Mix change, bps Y/Y | C43: =(C42-C30/C99)*10000 -> -89.374347 | D43: =(D42-D30/D99)*10000 -> -263.4906 | E43: =(E42-E30/E99)*10000 -> 571.30942 | F43: =(F42-F30/F99)*10000 -> 173.38217 | G43: =(G42-G30/G99)*10000 -> 84.738907 | H43: =(H42-H30/H99)*10000 -> 221.97005
B45: Animal Care & Other | C45: 7.578 | D45: =D120+D121 -> 8.891 | E45: 5.9 | F45: 7 | G45: 29.3 | H45: =H48+H49+H50 -> 6.97176 | I45: S4,S6,S7,S9
...

Sheet Income Statement
B2: Neogen Corporation (NasdaqGS: NEOG)
B3: Income Statement
B4: $ millions, except per share
B5: Period | C5: 1Q26A | D5: 2Q26A | E5: 3Q26A | F5: 4Q26A | G5: FY26A | H5: 1Q27E | I5: Src
B6: Period end | C6: 45900 | D6: 45991 | E6: 46081 | F6: 46173 | G6: 46173 | H6: 46265
B7: Days in period | C7: 92 | D7: 91 | E7: 90 | F7: 92 | G7: 365 | H7: 92
B9: Revenue
B10: Product revenues | C10: 184.138 | D10: 199.005 | E10: 186.2 | F10: 198.8 | G10: 768.2 | H10: =H22-H16 -> 187.12749 | I10: S4,S6,S7,S9
B11: % Y/Y | C11: =C10/C228-1 -> -0.043528397 | D11: =D10/D228-1 -> -0.041166182 | E11: =E10/E228-1 -> -0.052417303 | F11: =F10/F228-1 -> -0.0099601594 | G11: =G10/G228-1 -> -0.036619012 | H11: =H10/H228-1 -> 0.016235033
B12: $ Q/Q change | C12: =C10-F228 -> -16.662 | D12: =D10-C10 -> 14.867 | E12: =E10-D10 -> -12.805 | F12: =F10-E10 -> 12.6 | H12: =H10-F10 -> -11.672514
B13: FX impact % | C13: unavailable | D13: unavailable | E13: unavailable | F13: unavailable | G13: unavailable | H13: unavailable
B14: M&A / divestiture impact % | C14: unavailable | D14: unavailable | E14: unavailable | F14: unavailable | G14: unavailable | H14: unavailable
B15: Organic growth % | C15: unavailable | D15: unavailable | E15: unavailable | F15: unavailable | G15: unavailable | H15: unavailable
B16: Service revenues | C16: 25.051 | D16: 25.686 | E16: 25 | F16: 26.5 | G16: 102.2 | H16: =H22*H29 -> 25.035197 | I16: S4,S6,S7,S9
B17: % Y/Y | C17: =C16/C229-1 -> 0.024748425 | D17: =D16/D229-1 -> 0.083386056 | E17: =E16/E229-1 -> 0.020408163 | F17: =F16/F229-1 -> 0.072874494 | G17: =G16/G229-1 -> 0.050359712 | H17: =H16/H229-1 -> -0.00063084886
B18: $ Q/Q change | C18: =C16-F229 -> 0.351 | D18: =D16-C16 -> 0.635 | E18: =E16-D16 -> -0.686 | F18: =F16-E16 -> 1.5 | H18: =H16-F16 -> -1.4648034
B19: FX impact % | C19: unavailable | D19: unavailable | E19: unavailable | F19: unavailable | G19: unavailable | H19: unavailable
B20: M&A / divestiture impact % | C20: unavailable | D20: unavailable | E20: unavailable | F20: unavailable | G20: unavailable | H20: unavailable
B21: Organic growth % | C21: unavailable | D21: unavailable | E21: unavailable | F21: unavailable | G21: unavailable | H21: unavailable
B22: Total revenues | C22: =C10+C16 -> 209.189 | D22: =D10+D16 -> 224.691 | E22: =E10+E16 -> 211.2 | F22: =F10+F16 -> 225.3 | G22: =G10+G16 -> 870.4 | H22: ='Revenue summary'!H35 -> 212.16268
B23: % Y/Y | C23: =C22/C227-1 -> -0.035835438 | D23: =D22/D227-1 -> -0.028396855 | E23: =E22/E227-1 -> -0.044343891 | F23: =F22/F227-1 -> -0.00088691796 | G23: =G22/G227-1 -> -0.027159942 | H23: =H22/H227-1 -> 0.014215294
B24: $ Q/Q change | C24: =C22-F227 -> -16.311 | D24: =D22-C22 -> 15.502 | E24: =E22-D22 -> -13.491 | F24: =F22-E22 -> 14.1 | H24: =H22-F22 -> -13.137317
B25: FX impact % | C25: ='Revenue summary'!C41 -> 0.005 | D25: ='Revenue summary'!D41 -> 0.009 | E25: ='Revenue summary'!E41 -> 0.03 | F25: ='Revenue summary'!F41 -> 0.019 | G25: ='Revenue summary'!G41 -> 0.016 | H25: ='Revenue summary'!H41 -> 0.0022582836
B26: M&A / divestiture impact % | C26: ='Revenue summary'!C42 -> -0.044 | D26: ='Revenue summary'!D42 -> -0.066 | E26: ='Revenue summary'!E42 -> -0.075 | F26: ='Revenue summary'!F42 -> -0.063 | G26: ='Revenue summary'!G42 -> -0.062 | H26: ='Revenue summary'!H42 -> -0.028682196
B27: Organic growth % | C27: =(1+C23)/((1+C26)*(1+C25))-1 -> 0.0035227231 | D27: =(1+D23)/((1+D26)*(1+D25))-1 -> 0.030981493 | E27: =(1+E23)/((1+E26)*(1+E25))-1 -> 0.0030502321 | F27: =(1+F23)/((1+F26)*(1+F25))-1 -> 0.046407565 | G27: =(1+G23)/((1+G26)*(1+G25))-1 -> 0.02080996 | H27: =(1+H23)/((1+H26)*(1+H25))-1 -> 0.041811511
B28: Check: FY revenue = Σ quarters | G28: =ABS(G22-SUM(C22:F22))<0.15 -> TRUE
B29: Service revenue % of total | C29: =C16/C22 -> 0.11975295 | D29: =D16/D22 -> 0.114317 | E29: =E16/E22 -> 0.11837121 | F29: =F16/F22 -> 0.11762095 | G29: =G16/G22 -> 0.11741728 | H29: 0.118
B30: Service mix change, bps Y/Y | C30: =(C29-C229/C227)*10000 -> 70.798805 | D30: =(D29-D229/D227)*10000 -> 117.95137 | E30: =(E29-E229/E227)*10000 -> 75.114836 | F30: =(F29-F229/F227)*10000 -> 80.865818 | G30: =(G29-G229/G227)*10000 -> 86.657426 | H30: =(H29-H229/H227)*10000 -> -17.529507
B31: Service mix change, bps Q/Q | D31: =(D29-C29)*10000 -> -54.359553 | E31: =(E29-D29)*10000 -> 40.542168 | F31: =(F29-E29)*10000 -> -7.5026228 | H31: =(H29-F29)*10000 -> 3.7905016
B33: Cost of revenues and gross profit
B34: Cost of product revenues | C34: 97.932 | D34: 102.653 | E34: 96 | F34: 102.2 | G34: 398.8 | H34: =H40-H37 -> 94.283845 | I34: S4,S6,S7,S9
B35: % Y/Y | C35: =C34/(C227-C231-C230)-1 -> 0.0009812339 | D35: =D34/(D227-D231-D230)-1 -> 0.028205976 | E35: =E34/(E227-E231-E230)-1 -> 0.0020876827 | F35: =F34/(F227-F231-F230)-1 -> -0.13389831 | G35: =G34/(G227-G231-G230)-1 -> -0.030862697 | H35: =H34/(H227-H231-H230)-1 -> -0.03725192
B36: $ Q/Q change | C36: =C34-(F227-F231-F230) -> -20.068 | D36: =D34-C34 -> 4.721 | E36: =E34-D34 -> -6.653 | F36: =F34-E34 -> 6.2 | H36: =H34-F34 -> -7.916155
B37: Cost of service revenues | C37: 16.287 | D37: 15.354 | E37: 16.2 | F37: 15.3 | G37: 63.1 | H37: =H16*H43 -> 15.521822 | I37: S4,S6,S7,S9
B38: % Y/Y | C38: =C37/C230-1 -> 0.14681031 | D38: =D37/D230-1 -> -0.1512907 | E38: =E37/E230-1 -> 0.087248322 | F38: =F37/F230-1 -> 0.047945205 | G38: =G37/G230-1 -> 0.021035599 | H38: =H37/H230-1 -> -0.046980911
B39: $ Q/Q change | C39: =C37-F230 -> 1.687 | D39: =D37-C37 -> -0.933 | E39: =E37-D37 -> 0.846 | F39: =F37-E37 -> -0.9 | H39: =H37-F37 -> 0.2218219
B40: Total cost of revenues | C40: =C34+C37 -> 114.219 | D40: =D34+D37 -> 118.007 | E40: =E34+E37 -> 112.2 | F40: =F34+F37 -> 117.5 | G40: =G34+G37 -> 461.9 | H40: =H22-H46 -> 109.80567
B41: % Y/Y | C41: =C40/(C227-C231)-1 -> 0.01946661 | D41: =D40/(D227-D231)-1 -> 0.00066990028 | E41: =E40/(E227-E231)-1 -> 0.013550136 | F41: =F40/(F227-F231)-1 -> -0.11387632 | G41: =G40/(G227-G231)-1 -> -0.024086203 | H41: =H40/(H227-H231)-1 -> -0.03863922
B42: $ Q/Q change | C42: =C40-(F227-F231) -> -18.381 | D42: =D40-C40 -> 3.788 | E42: =E40-D40 -> -5.807 | F42: =F40-E40 -> 5.3 | H42: =H40-F40 -> -7.6943331
B43: Service cost ratio % | C43: =C37/C16 -> 0.65015369 | D43: =D37/D16 -> 0.59775753 | E43: =E37/E16 -> 0.648 | F43: =F37/F16 -> 0.57735849 | G43: =G37/G16 -> 0.61741683 | H43: 0.62
...

Sheet Balance Sheet
B2: Neogen Corporation (NasdaqGS: NEOG)
B3: Balance Sheet
B4: $ millions, except per share
B5: Period | C5: 1Q26A | D5: 2Q26A | E5: 3Q26A | F5: 4Q26A | G5: FY26A | H5: 1Q27E | I5: Src
B6: Period end | C6: 45900 | D6: 45991 | E6: 46081 | F6: 46173 | G6: 46173 | H6: 46265
B7: Days in period | C7: 92 | D7: 91 | E7: 90 | F7: 92 | G7: 365 | H7: 92
B9: Assets
B10: Cash and cash equivalents | C10: 138.883 | D10: 145.34 | E10: 159.9 | F10: 185.5 | G10: =F10 -> 185.5 | H10: ='Cash Flow Statement'!H88 -> 153.05019 | I10: S3,S5,S7,S9
B11: Accounts receivable, net | C11: 138.459 | D11: 132 | E11: 137.1 | F11: 146.8 | G11: =F11 -> 146.8 | H11: =F11-'Cash Flow Statement'!H40 -> 141.8 | I11: S3,S5,S7,S9
B12: Inventories, net | C12: 193.414 | D12: 162.766 | E12: 161.7 | F12: 144.3 | G12: =F12 -> 144.3 | H12: =F12-'Cash Flow Statement'!H43 -> 147.3 | I12: S3,S5,S7,S9
B13: Prepaid & other current assets | C13: 53.304 | D13: 57.714 | E13: 63.1 | F13: 60 | G13: =F13 -> 60 | H13: =F13-'Cash Flow Statement'!H46 -> 60 | I13: S3,S5,S7,S9
B14: Assets held for sale | C14: 0 | D14: 76.756 | E14: 68.2 | F14: 68 | G14: =F14 -> 68 | H14: =F14 -> 68 | I14: S3,S5,S7,S9
B15: Total current assets | C15: =SUM(C10:C14) -> 524.06 | D15: =SUM(D10:D14) -> 574.576 | E15: =SUM(E10:E14) -> 590 | F15: =SUM(F10:F14) -> 604.6 | G15: =SUM(G10:G14) -> 604.6 | H15: =SUM(H10:H14) -> 570.15019
B16: Property and equipment, net | C16: 345.893 | D16: 332.362 | E16: 331.9 | F16: 329.8 | G16: =F16 -> 329.8 | H16: =F16-'Cash Flow Statement'!H60-'Income Statement'!H190 -> 332.5 | I16: S3,S5,S7,S9
B17: Right of use assets | C17: 16.994 | D17: 15.096 | E17: 15.7 | F17: 16.6 | G17: =F17 -> 16.6 | H17: =F17 -> 16.6 | I17: S3,S5,S7,S9
B18: Goodwill | C18: 1065.889 | D18: 1046.042 | E18: 1047.8 | F18: 1047.2 | G18: =F18 -> 1047.2 | H18: =F18 -> 1047.2 | I18: S3,S5,S7,S9
B19: Amortizable intangible assets, net | C19: 1389.141 | D19: 1359.375 | E19: 1341.8 | F19: 1318 | G19: =F19 -> 1318 | H19: =F19-'Income Statement'!H114 -> 1296.1 | I19: S3,S5,S7,S9
B20: Other non-current assets | C20: 36.179 | D20: 32.502 | E20: 31.8 | F20: 29.8 | G20: =F20 -> 29.8 | H20: =F20 -> 29.8 | I20: S3,S5,S7,S9
B21: Total assets | C21: =C15+SUM(C16:C20) -> 3378.156 | D21: =D15+SUM(D16:D20) -> 3359.953 | E21: =E15+SUM(E16:E20) -> 3359 | F21: =F15+SUM(F16:F20) -> 3346 | G21: =G15+SUM(G16:G20) -> 3346 | H21: =H15+SUM(H16:H20) -> 3292.3502
B22: Total assets, as reported | C22: 3378.156 | D22: 3359.953 | E22: 3359 | F22: 3346 | G22: 3346 | I22: S3,S5,S7,S9
B24: Liabilities
B25: Current portion of debt | C25: 0 | D25: 0 | E25: 0 | F25: 0 | G25: =F25 -> 0 | H25: =F25 -> 0 | I25: S3,S5,S7,S9
B26: Accounts payable | C26: 76.596 | D26: 63.04 | E26: 75.2 | F26: 79.1 | G26: =F26 -> 79.1 | H26: =F26+'Cash Flow Statement'!H97 -> 79.1 | I26: S3,S5,S7,S9
B27: Accrued compensation | C27: 20.273 | D27: 20.28 | E27: 23.5 | F27: 26.8 | G27: =F27 -> 26.8 | H27: =F27+'Cash Flow Statement'!H100 -> 18.8 | I27: S3,S5,S7,S9
B28: Income tax payable | C28: 9.449 | D28: 8.963 | E28: 9.9 | F28: 7.2 | G28: =F28 -> 7.2 | H28: =F28 -> 7.2 | I28: S3,S5,S7,S9
B29: Accrued interest | C29: 3.556 | D29: 11.018 | E29: 3.5 | F29: 11 | G29: =F29 -> 11 | H29: =F29+'Cash Flow Statement'!H103 -> 3.6 | I29: S3,S5,S7,S9
B30: Deferred revenue | C30: 5.824 | D30: 3.874 | E30: 3.9 | F30: 3.6 | G30: =F30 -> 3.6 | H30: =F30 -> 3.6 | I30: S3,S5,S7,S9
B31: Other current liabilities | C31: 30.507 | D31: 30.768 | E31: 28.2 | F31: 23.9 | G31: =F31 -> 23.9 | H31: =F31 -> 23.9 | I31: S3,S5,S7,S9
B32: Liabilities held for sale | C32: 0 | D32: 9.107 | E32: 6.4 | F32: 6.6 | G32: =F32 -> 6.6 | H32: =F32 -> 6.6 | I32: S3,S5,S7,S9
B33: Total current liabilities | C33: =SUM(C25:C32) -> 146.205 | D33: =SUM(D25:D32) -> 147.05 | E33: =SUM(E25:E32) -> 150.6 | F33: =SUM(F25:F32) -> 158.2 | G33: =SUM(G25:G32) -> 158.2 | H33: =SUM(H25:H32) -> 142.8
B34: Deferred income tax liability | C34: 277.253 | D34: 273.947 | E34: 269.2 | F34: 257.6 | G34: =F34 -> 257.6 | H34: =F34+'Cash Flow Statement'!H16 -> 252.6 | I34: S3,S5,S7,S9
B35: Non-current debt | C35: 792.53 | D35: 792.926 | E35: 793.3 | F35: 793.7 | G35: =F35 -> 793.7 | H35: =F35+'Cash Flow Statement'!H77+'Cash Flow Statement'!H25 -> 774.2 | I35: S3,S5,S7,S9
B36: Other non-current liabilities | C36: 43.519 | D36: 41.542 | E36: 43.5 | F36: 43.6 | G36: =F36 -> 43.6 | H36: =F36+'Cash Flow Statement'!H55+'Cash Flow Statement'!H80 -> 43.5 | I36: S3,S5,S7,S9
B37: Total liabilities | C37: =C33+SUM(C34:C36) -> 1259.507 | D37: =D33+SUM(D34:D36) -> 1255.465 | E37: =E33+SUM(E34:E36) -> 1256.6 | F37: =F33+SUM(F34:F36) -> 1253.1 | G37: =G33+SUM(G34:G36) -> 1253.1 | H37: =H33+SUM(H34:H36) -> 1213.1
B39: Stockholders' equity
B40: Common stock | C40: 34.768 | D40: 34.804 | E40: 34.8 | F40: 34.8 | G40: =F40 -> 34.8 | H40: =F40 -> 34.8 | I40: S3,S5,S7,S9
B41: Additional paid-in capital | C41: 2607.452 | D41: 2611.303 | E41: 2613.1 | F41: 2616 | G41: =F41 -> 2616 | H41: =F41+'Cash Flow Statement'!H19+'Cash Flow Statement'!H71+'Cash Flow Statement'!H74 -> 2620.6 | I41: S3,S5,S7,S9
B42: Accumulated other comprehensive loss | C42: -23.485 | D42: -25.609 | E42: -12.5 | F42: -13.6 | G42: =F42 -> -13.6 | H42: =F42 -> -13.6 | I42: S3,S5,S7,S9
B43: Accumulated deficit | C43: -500.086 | D43: -516.01 | E43: -533 | F43: -544.3 | G43: =F43 -> -544.3 | H43: =F43+'Income Statement'!H92 -> -562.54981 | I43: S3,S5,S7,S9
B44: Total stockholders' equity | C44: =SUM(C40:C43) -> 2118.649 | D44: =SUM(D40:D43) -> 2104.488 | E44: =SUM(E40:E43) -> 2102.4 | F44: =SUM(F40:F43) -> 2092.9 | G44: =SUM(G40:G43) -> 2092.9 | H44: =SUM(H40:H43) -> 2079.2502
...

Sheet Cash Flow Statement
B2: Neogen Corporation (NasdaqGS: NEOG)
B3: Cash Flow Statement
B4: $ millions, except per share
B5: Period | C5: 1Q26A | D5: 2Q26A | E5: 3Q26A | F5: 4Q26A | G5: FY26A | H5: 1Q27E | I5: Src
B6: Period end | C6: 45900 | D6: 45991 | E6: 46081 | F6: 46173 | G6: 46173 | H6: 46265
B7: Days in period | C7: 92 | D7: 91 | E7: 90 | F7: 92 | G7: 365 | H7: 92
B9: Quarterly cash flow (1Q26 as reported; 2Q-4Q = year-to-date less prior year-to-date; FY = 12M as reported)
B10: Net income (loss) | C10: =C108 -> 36.338 | D10: =D108-C108 -> -15.924 | E10: =E108-D108 -> -17.014 | F10: =F108-E108 -> -11.3 | G10: =F108 -> -7.9 | H10: ='Income Statement'!H92 -> -18.249808
B11: $ Q/Q change | D11: =D10-C10 -> -52.262 | E11: =E10-D10 -> -1.09 | F11: =F10-E10 -> 5.714 | H11: =H10-F10 -> -6.949808
B12: $ change Y/Y (1Q27E vs 1Q26A) | H12: =H10-C10 -> -54.587808
B13: Depreciation and amortization | C13: =C109 -> 29.055 | D13: =D109-C109 -> 28.927 | E13: =E109-D109 -> 28.918 | F13: =F109-E109 -> 29.4 | G13: =F109 -> 116.3 | H13: ='Income Statement'!H189 -> 29.2
B14: $ Q/Q change | D14: =D13-C13 -> -0.128 | E14: =E13-D13 -> -0.009 | F14: =F13-E13 -> 0.482 | H14: =H13-F13 -> -0.2
B15: $ change Y/Y (1Q27E vs 1Q26A) | H15: =H13-C13 -> 0.145
B16: Deferred income taxes | C16: =C110 -> -5.83 | D16: =D110-C110 -> -5.4 | E16: =E110-D110 -> -4.27 | F16: =F110-E110 -> -8.8 | G16: =F110 -> -24.3 | H16: -5
B17: $ Q/Q change | D17: =D16-C16 -> 0.43 | E17: =E16-D16 -> 1.13 | F17: =F16-E16 -> -4.53 | H17: =H16-F16 -> 3.8
B18: $ change Y/Y (1Q27E vs 1Q26A) | H18: =H16-C16 -> 0.83
B19: Share-based compensation | C19: =C111 -> 4.962 | D19: =D111-C111 -> 4.338 | E19: =E111-D111 -> 1.1 | F19: =F111-E111 -> 3 | G19: =F111 -> 13.4 | H19: ='Income Statement'!H117 -> 4
B20: $ Q/Q change | D20: =D19-C19 -> -0.624 | E20: =E19-D19 -> -3.238 | F20: =F19-E19 -> 1.9 | H20: =H19-F19 -> 1
B21: $ change Y/Y (1Q27E vs 1Q26A) | H21: =H19-C19 -> -0.962
B22: Loss on disposal of PP&E | C22: =C112 -> 0.699 | D22: =D112-C112 -> 0.267 | E22: =E112-D112 -> 0.234 | F22: =F112-E112 -> 0 | G22: =F112 -> 1.2 | H22: 0
B23: $ Q/Q change | D23: =D22-C22 -> -0.432 | E23: =E22-D22 -> -0.033 | F23: =F22-E22 -> -0.234 | H23: =H22-F22 -> 0
B24: $ change Y/Y (1Q27E vs 1Q26A) | H24: =H22-C22 -> -0.699
B25: Amort. of debt issuance costs | C25: =C113 -> 0.539 | D25: =D113-C113 -> 0.482 | E25: =E113-D113 -> 0.479 | F25: =F113-E113 -> 0.5 | G25: =F113 -> 2 | H25: 0.5
B26: $ Q/Q change | D26: =D25-C25 -> -0.057 | E26: =E25-D25 -> -0.003 | F26: =F25-E25 -> 0.021 | H26: =H25-F25 -> 0
B27: $ change Y/Y (1Q27E vs 1Q26A) | H27: =H25-C25 -> -0.039
B28: Loss on debt extinguishment | C28: =C114 -> 0.393 | D28: =D114-C114 -> 0 | E28: =E114-D114 -> 0.007 | F28: =F114-E114 -> 0 | G28: =F114 -> 0.4 | H28: 0
B29: $ Q/Q change | D29: =D28-C28 -> -0.393 | E29: =E28-D28 -> 0.007 | F29: =F28-E28 -> -0.007 | H29: =H28-F28 -> 0
B30: $ change Y/Y (1Q27E vs 1Q26A) | H30: =H28-C28 -> -0.393
B31: ROU asset amortization (FY only) | C31: =C115 -> 0 | D31: =D115-C115 -> 0 | E31: =E115-D115 -> 0 | F31: =F115-E115 -> 5.6 | G31: =F115 -> 5.6 | H31: 0
B32: $ Q/Q change | D32: =D31-C31 -> 0 | E32: =E31-D31 -> 0 | F32: =F31-E31 -> 5.6 | H32: =H31-F31 -> -5.6
B33: $ change Y/Y (1Q27E vs 1Q26A) | H33: =H31-C31 -> 0
B34: Gain on sale of business | C34: =C116 -> -76.39 | D34: =D116-C116 -> 0 | E34: =E116-D116 -> -0.01 | F34: =F116-E116 -> 0 | G34: =F116 -> -76.4 | H34: =-'Income Statement'!H79 -> 0
B35: $ Q/Q change | D35: =D34-C34 -> 76.39 | E35: =E34-D34 -> -0.01 | F35: =F34-E34 -> 0.01 | H35: =H34-F34 -> 0
B36: $ change Y/Y (1Q27E vs 1Q26A) | H36: =H34-C34 -> 76.39
B37: Other non-cash items | C37: =C117 -> -0.382 | D37: =D117-C117 -> -0.045 | E37: =E117-D117 -> 0.227 | F37: =F117-E117 -> 1 | G37: =F117 -> 0.8 | H37: 0
B38: $ Q/Q change | D38: =D37-C37 -> 0.337 | E38: =E37-D37 -> 0.272 | F38: =F37-E37 -> 0.773 | H38: =H37-F37 -> -1
B39: $ change Y/Y (1Q27E vs 1Q26A) | H39: =H37-C37 -> 0.382
B40: Change in accounts receivable | C40: =C118 -> 17.607 | D40: =D118-C118 -> -6.259 | E40: =E118-D118 -> 5.252 | F40: =F118-E118 -> -9.8 | G40: =F118 -> 6.8 | H40: 5
B41: $ Q/Q change | D41: =D40-C40 -> -23.866 | E41: =E40-D40 -> 11.511 | F41: =F40-E40 -> -15.052 | H41: =H40-F40 -> 14.8
B42: $ change Y/Y (1Q27E vs 1Q26A) | H42: =H40-C40 -> -12.607
...

Sheet Geo
B2: Neogen Corporation (NasdaqGS: NEOG)
B3: Geo — revenue by geography
B4: $ millions, except per share
B5: Period | C5: 1Q26A | D5: 2Q26A | E5: 3Q26A | F5: 4Q26A | G5: FY26A | H5: 1Q27E | I5: Src
B6: Period end | C6: 45900 | D6: 45991 | E6: 46081 | F6: 46173 | G6: 46173 | H6: 46265
B7: Days in period | C7: 92 | D7: 91 | E7: 90 | F7: 92 | G7: 365 | H7: 92
B9: Revenue by geography (company-disclosed: domestic = United States)
B10: Domestic revenue | C10: 102.074 | D10: 110.436 | E10: 102.3 | F10: 110.3 | G10: 425.1 | H10: =H34-H21 -> 103.32323 | I10: S4,S6,S8,S9
B11: Year-ago period revenue | C11: 104.383 | D11: 113.761 | E11: 115.4 | F11: 112.5 | G11: 446 | H11: =C10 -> 102.074 | I11: S4,S6,S8,S9
B12: % Y/Y | C12: =C10/C11-1 -> -0.02212046 | D12: =D10/D11-1 -> -0.029227943 | E12: =E10/E11-1 -> -0.1135182 | F12: =F10/F11-1 -> -0.019555556 | G12: =G10/G11-1 -> -0.046860987 | H12: =H10/H11-1 -> 0.012238441
B13: $ Q/Q change | C13: =C10-F11 -> -10.426 | D13: =D10-C10 -> 8.362 | E13: =E10-D10 -> -8.136 | F13: =F10-E10 -> 8 | H13: =H10-F10 -> -6.9767733
B14: % Q/Q | C14: =C10/F11-1 -> -0.092675556 | D14: =D10/C10-1 -> 0.081920959 | E14: =E10/D10-1 -> -0.073671629 | F14: =F10/E10-1 -> 0.078201369 | H14: =H10/F10-1 -> -0.063252705
B15: % of total revenue | C15: =C10/C32 -> 0.48795109 | D15: =D10/D32 -> 0.49150166 | E15: =E10/E32 -> 0.484375 | F15: =F10/F32 -> 0.48956946 | G15: =G10/G32 -> 0.48839614 | H15: =H10/H32 -> 0.487
B16: Mix change, bps Y/Y | C16: =(C15-C11/C33)*10000 -> 68.436225 | D16: =(D15-D11/D33)*10000 -> -4.2077932 | E16: =(E15-E11/E33)*10000 -> -377.96946 | F16: =(F15-F11/F33)*10000 -> -93.218896 | G16: =(G15-G11/G33)*10000 -> -100.94975 | H16: =(H15-H11/H33)*10000 -> -9.5108729
B17: FX impact % | C17: unavailable | D17: unavailable | E17: unavailable | F17: unavailable | G17: unavailable | H17: unavailable
B18: M&A / divestiture impact % | C18: unavailable | D18: unavailable | E18: unavailable | F18: unavailable | G18: unavailable | H18: unavailable
B19: Organic growth % | C19: unavailable | D19: unavailable | E19: unavailable | F19: unavailable | G19: unavailable | H19: unavailable
B21: International revenue | C21: 107.115 | D21: 114.255 | E21: 108.9 | F21: 115 | G21: 445.3 | H21: =H34*H26 -> 108.83946 | I21: S4,S6,S8,S9
B22: Year-ago period revenue | C22: 112.581 | D22: 117.497 | E22: 105.6 | F22: 113 | G22: 448.7 | H22: =C21 -> 107.115 | I22: S4,S6,S8,S9
B23: % Y/Y | C23: =C21/C22-1 -> -0.048551709 | D23: =D21/D22-1 -> -0.027592194 | E23: =E21/E22-1 -> 0.03125 | F23: =F21/F22-1 -> 0.017699115 | G23: =G21/G22-1 -> -0.007577446 | H23: =H21/H22-1 -> 0.016099112
B24: $ Q/Q change | C24: =C21-F22 -> -5.885 | D24: =D21-C21 -> 7.14 | E24: =E21-D21 -> -5.355 | F24: =F21-E21 -> 6.1 | H24: =H21-F21 -> -6.1605436
B25: % Q/Q | C25: =C21/F22-1 -> -0.052079646 | D25: =D21/C21-1 -> 0.066657331 | E25: =E21/D21-1 -> -0.046868846 | F25: =F21/E21-1 -> 0.056014692 | H25: =H21/F21-1 -> -0.053569944
B26: % of total revenue (1Q27E driver) | C26: =C21/C32 -> 0.51204891 | D26: =D21/D32 -> 0.50849834 | E26: =E21/E32 -> 0.515625 | F26: =F21/F32 -> 0.51043054 | G26: =G21/G32 -> 0.51160386 | H26: 0.513
B27: Mix change, bps Y/Y | C27: =(C26-C22/C33)*10000 -> -68.436225 | D27: =(D26-D22/D33)*10000 -> 4.2077932 | E27: =(E26-E22/E33)*10000 -> 377.96946 | F27: =(F26-F22/F33)*10000 -> 93.218896 | G27: =(G26-G22/G33)*10000 -> 100.94975 | H27: =(H26-H22/H33)*10000 -> 9.5108729
B28: FX impact % | C28: unavailable | D28: unavailable | E28: unavailable | F28: unavailable | G28: unavailable | H28: unavailable
B29: M&A / divestiture impact % | C29: unavailable | D29: unavailable | E29: unavailable | F29: unavailable | G29: unavailable | H29: unavailable
B30: Organic growth % | C30: unavailable | D30: unavailable | E30: unavailable | F30: unavailable | G30: unavailable | H30: unavailable
B32: Total revenue (sum of geographies) | C32: =C10+C21 -> 209.189 | D32: =D10+D21 -> 224.691 | E32: =E10+E21 -> 211.2 | F32: =F10+F21 -> 225.3 | G32: =G10+G21 -> 870.4 | H32: =H10+H21 -> 212.16268
B33: Year-ago period revenue | C33: =C11+C22 -> 216.964 | D33: =D11+D22 -> 231.258 | E33: =E11+E22 -> 221 | F33: =F11+F22 -> 225.5 | G33: =G11+G22 -> 894.7 | H33: =H11+H22 -> 209.189
B34: Total revenue per Revenue summary | C34: ='Revenue summary'!C35 -> 209.189 | D34: ='Revenue summary'!D35 -> 224.691 | E34: ='Revenue summary'!E35 -> 211.2 | F34: ='Revenue summary'!F35 -> 225.3 | G34: ='Revenue summary'!G35 -> 870.4 | H34: ='Revenue summary'!H35 -> 212.16268
B35: Check: geographies = total revenue | C35: =ABS(C32-C34)<0.05 -> TRUE | D35: =ABS(D32-D34)<0.05 -> TRUE | E35: =ABS(E32-E34)<0.05 -> TRUE | F35: =ABS(F32-F34)<0.05 -> TRUE | G35: =ABS(G32-G34)<0.05 -> TRUE | H35: =ABS(H32-H34)<0.05 -> TRUE
B36: Check: FY = Σ quarters (±0.15) | G36: =ABS(G32-SUM(C32:F32))<0.15 -> TRUE

Sheet Share Count
B2: Neogen Corporation (NasdaqGS: NEOG)
B3: Share Count
B4: Shares in millions; $ in millions
B5: Period | C5: 1Q26A | D5: 2Q26A | E5: 3Q26A | F5: 4Q26A | G5: FY26A | H5: 1Q27E | I5: Src
B6: Period end | C6: 45900 | D6: 45991 | E6: 46081 | F6: 46173 | G6: 46173 | H6: 46265
B7: Days in period | C7: 92 | D7: 91 | E7: 90 | F7: 92 | G7: 365 | H7: 92
B9: Weighted average shares (millions)
B10: Weighted average shares — basic | C10: 217.21784 | D10: 217.40827 | E10: 217.7 | F10: 217.7 | G10: 217.5 | H10: =H27+H28 -> 218.30602 | I10: S4,S6,S8,S10
B11: Year-ago basic shares | C11: 216.69535 | D11: 216.81379 | E11: 217 | F11: 217 | G11: 216.9 | H11: =C10 -> 217.21784 | I11: S4,S6,S8,S10
B12: % Y/Y | C12: =C10/C11-1 -> 0.0024111639 | D12: =D10/D11-1 -> 0.0027419013 | E12: =E10/E11-1 -> 0.0032258065 | F12: =F10/F11-1 -> 0.0032258065 | G12: =G10/G11-1 -> 0.0027662517 | H12: =H10/H11-1 -> 0.0050096255
B13: Change Q/Q (m) | D13: =D10-C10 -> 0.190434 | E13: =E10-D10 -> 0.29173 | F13: =F10-E10 -> 0 | H13: =H10-F10 -> 0.606016
B14: Dilutive options/RSUs included | C14: =C16-C10 -> 0.11709 | D14: =D16-D10 -> 0 | E14: =E16-E10 -> 0 | F14: =F16-F10 -> 0 | G14: =G16-G10 -> 0 | H14: =IF('Income Statement'!H92>=0,H15,0) -> 0
B15: Potential dilution if profitable | H15: 0.5
B16: Weighted average shares — diluted | C16: 217.33493 | D16: 217.40827 | E16: 217.7 | F16: 217.7 | G16: 217.5 | H16: =H10+H14 -> 218.30602 | I16: S4,S6,S8,S10
B17: Anti-dilutive options/RSUs excluded | C17: 0.661 | D17: unavailable | E17: 1.663343 | F17: unavailable | G17: unavailable | H17: unavailable | I17: S4,S8
B18: Shares used for Adjusted EPS | C18: =C16 -> 217.33493 | D18: =D16 -> 217.40827 | E18: =E16 -> 217.7 | F18: =F16 -> 217.7 | G18: =G16 -> 217.5 | H18: =H16 -> 218.30602
B19: Share count behind 1Q27E EPS | H19: =H18 -> 218.30602
B21: Shares outstanding and capital returns
B22: Shares outstanding, end of period | C22: 217.29863 | D22: 217.52598 | E22: 217.7 | F22: 217.7 | G22: =F22 -> 217.7 | H22: =H27+H29 -> 218.55602 | I22: S4,S6,S8,S10
B23: Shares outstanding, beginning | C23: 217.0441 | D23: =C22 -> 217.29863 | E23: =D22 -> 217.52598 | F23: =E22 -> 217.7 | G23: =C23 -> 217.0441 | H23: =F22 -> 217.7 | I23: S3
B24: Net shares issued (equity comp) | C24: =C22-C23-C25 -> 0.254528 | D24: =D22-D23-D25 -> 0.227355 | E24: =E22-E23-E25 -> 0.174019 | F24: =F22-F23-F25 -> 0 | G24: =G22-G23-G25 -> 0.655902 | H24: =H22-H23-H25 -> 0.856016
B25: Shares repurchased | C25: 0 | D25: 0 | E25: 0 | F25: 0 | G25: 0 | H25: 0 | I25: S3,S5,S7,S9
B26: Share repurchases, $ | C26: 0 | D26: 0 | E26: 0 | F26: 0 | G26: 0 | H26: 0 | I26: S3,S5,S7,S9
B27: Memo: shares out. 2026-06-30 | H27: 218.05602 | I27: S10
B28: Avg. incremental shares (weighted) | H28: 0.25
B29: Shares issued Jul-Aug 2026 | H29: 0.5

Sheet Guidance
B2: Neogen Corporation (NasdaqGS: NEOG)
B3: Guidance
B4: $ millions, except per share
B5: Forecast period | C5: 1Q27E
B6: Period end | C6: 46265
B7: Days in period | C7: 92
B9: Metric | C9: Date given | D9: Period | E9: Low | F9: High | G9: Midpoint | H9: Actual | I9: Beat / miss | J9: Src
B10: Revenue | C10: 45868 | D10: FY26 | E10: 820 | F10: 840 | G10: =AVERAGE(E10,F10) -> 830 | H10: ='Income Statement'!G22 -> 870.4 | I10: =IF(H10>F10,"Beat",IF(H10<E10,"Miss","In range")) -> Beat | J10: S20
B11: Adjusted EBITDA | C11: 45868 | D11: FY26 | E11: 165 | F11: 175 | G11: =AVERAGE(E11,F11) -> 170 | H11: ='Income Statement'!G199 -> 177.809 | I11: =IF(H11>F11,"Beat",IF(H11<E11,"Miss","In range")) -> Beat | J11: S20
B12: Capital expenditures | C12: 45868 | D12: FY26 | E12: 50 | F12: 50 | G12: =AVERAGE(E12,F12) -> 50 | H12: =-'Cash Flow Statement'!G60 -> 51.3 | I12: =IF(H12>F12,"Above",IF(H12<E12,"Below","In line")) -> Above | J12: S20
B13: Revenue (reaffirmed) | C13: 45939 | D13: FY26 | E13: 820 | F13: 840 | G13: =AVERAGE(E13,F13) -> 830 | H13: ='Income Statement'!G22 -> 870.4 | I13: =IF(H13>F13,"Beat",IF(H13<E13,"Miss","In range")) -> Beat | J13: S3
B14: Adjusted EBITDA (reaffirmed) | C14: 45939 | D14: FY26 | E14: 165 | F14: 175 | G14: =AVERAGE(E14,F14) -> 170 | H14: ='Income Statement'!G199 -> 177.809 | I14: =IF(H14>F14,"Beat",IF(H14<E14,"Miss","In range")) -> Beat | J14: S3
B15: Revenue (raised) | C15: 46030 | D15: FY26 | E15: 845 | F15: 855 | G15: =AVERAGE(E15,F15) -> 850 | H15: ='Income Statement'!G22 -> 870.4 | I15: =IF(H15>F15,"Beat",IF(H15<E15,"Miss","In range")) -> Beat | J15: S5
B16: Adjusted EBITDA (raised) | C16: 46030 | D16: FY26 | E16: 175 | F16: 175 | G16: =AVERAGE(E16,F16) -> 175 | H16: ='Income Statement'!G199 -> 177.809 | I16: =IF(H16>F16,"Beat",IF(H16<E16,"Miss","In range")) -> Beat | J16: S5
B17: Revenue (raised) | C17: 46121 | D17: FY26 | E17: 857 | F17: 860 | G17: =AVERAGE(E17,F17) -> 858.5 | H17: ='Income Statement'!G22 -> 870.4 | I17: =IF(H17>F17,"Beat",IF(H17<E17,"Miss","In range")) -> Beat | J17: S7
B18: Adjusted EBITDA (maintained) | C18: 46121 | D18: FY26 | E18: 175 | F18: 175 | G18: =AVERAGE(E18,F18) -> 175 | H18: ='Income Statement'!G199 -> 177.809 | I18: =IF(H18>F18,"Beat",IF(H18<E18,"Miss","In range")) -> Beat | J18: S7
B19: Revenue = FY guide − 9M actual | C19: 46121 | D19: 4Q26 impl. | E19: =E17-('Income Statement'!C22+'Income Statement'!D22+'Income Statement'!E22) -> 211.92 | F19: =F17-('Income Statement'!C22+'Income Statement'!D22+'Income Statement'!E22) -> 214.92 | G19: =AVERAGE(E19,F19) -> 213.42 | H19: ='Income Statement'!F22 -> 225.3 | I19: =IF(H19>F19,"Beat",IF(H19<E19,"Miss","In range")) -> Beat | J19: S7
B20: Adj. EBITDA = FY guide − 9M actual | C20: 46121 | D20: 4Q26 impl. | E20: =E18-('Income Statement'!C199+'Income Statement'!D199+'Income Statement'!E199) -> 42.567 | F20: =F18-('Income Statement'!C199+'Income Statement'!D199+'Income Statement'!E199) -> 42.567 | G20: =AVERAGE(E20,F20) -> 42.567 | H20: ='Income Statement'!F199 -> 45.4 | I20: =IF(H20>F20,"Beat",IF(H20<E20,"Miss","In range")) -> Beat | J20: S7
B21: Revenue | C21: 46233 | D21: FY27 | E21: 880 | F21: 885 | G21: =AVERAGE(E21,F21) -> 882.5 | H21: pending | I21: n/a | J21: S9
B22: Adjusted EBITDA | C22: 46233 | D22: FY27 | E22: 180 | F22: 182 | G22: =AVERAGE(E22,F22) -> 181 | H22: pending | I22: n/a | J22: S9
B23: Genomics revenue included in guide | C23: 46233 | D23: FY27 | E23: 92 | F23: 92 | G23: =AVERAGE(E23,F23) -> 92 | H23: pending | I23: n/a | J23: S9
B24: Genomics adj. EBITDA included in guide | C24: 46233 | D24: FY27 | E24: 13 | F24: 13 | G24: =AVERAGE(E24,F24) -> 13 | H24: pending | I24: n/a | J24: S9
B25: Core growth % (approx.) | C25: 46233 | D25: FY27 | E25: 0.03 | F25: 0.03 | G25: =AVERAGE(E25,F25) -> 0.03 | H25: pending | I25: n/a | J25: S9
B26: FX impact on revenue % (approx.) | C26: 46233 | D26: FY27 | E26: -0.01 | F26: -0.01 | G26: =AVERAGE(E26,F26) -> -0.01 | H26: pending | I26: n/a | J26: S9
B27: Revenue | C27: 46233 | D27: 1Q27 | E27: 207 | F27: 209 | G27: =AVERAGE(E27,F27) -> 208 | H27: pending | I27: n/a | J27: S9
B28: Adjusted EBITDA (approx.) | C28: 46233 | D28: 1Q27 | E28: 37 | F28: 37 | G28: =AVERAGE(E28,F28) -> 37 | H28: pending | I28: n/a | J28: S9
B30: Guidance-implied 1Q27 adjusted EPS (Shortcut calculation using model D&A, interest, tax and shares)
B31: Adjusted EBITDA — guidance midpoint | G31: =G28 -> 37
B32: Less: dep. & non-acq. amortization | G32: =-'Income Statement'!H190 -> -7.3
B33: Less: net interest expense | G33: ='Income Statement'!H76 -> -13.7
B34: Adjusted pre-tax income implied | G34: =G31+G32+G33 -> 16
B35: Less: adjusted tax at model rate | G35: =-G34*'Income Statement'!H210 -> -4.16
B36: Guidance-implied adj. net income | G36: =G34+G35 -> 11.84
B37: Guidance-implied adj. EPS | G37: =G36/'Income Statement'!H162 -> 0.054235793
B38: Shortcut 1Q27E adjusted EBITDA | G38: ='Income Statement'!H199 -> 37.657016
B39: Shortcut 1Q27E revenue | G39: ='Revenue summary'!H35 -> 212.16268

Sheet Sources
B2: Neogen Corporation (NasdaqGS: NEOG)
B3: Sources
B4: $ millions, except per share
B5: Forecast period | C5: 1Q27E
B6: Period end | C6: 46265
B7: Days in period | C7: 92
B9: Title / description | C9: ID | D9: Published | E9: Publisher | F9: URL or file | G9: Feeds
B10: NEOG_history.csv — six quarters of normalized/GAAP EPS and revenue consensus vs actual | C10: S1 | D10: 2026-10-04 | E10: S&P Capital IQ (supplied file) | F10: workspace/NEOG_history.csv | G10: Inputs history; beat-rate prior; Cover history check
B11: NEOG_consensus.json — frozen 1Q27 consensus (EPS 0.05, revenue 208.18) | C11: S2 | D11: 2026-10-04 | E11: S&P Capital IQ (supplied file) | F11: workspace/NEOG_consensus.json | G11: Cover consensus columns; Inputs summary row
B12: Neogen Announces First-Quarter 2026 Results | C12: S3 | D12: 2025-10-09 | E12: Neogen / SEC (8-K EX-99.1) | F12: https://www.sec.gov/Archives/edgar/data/711377/000119312525235081/neog-ex99_1.htm | G12: 1Q26 IS, BS, CF, non-GAAP bridge, core growth
B13: 10-Q for quarter ended 2025-08-31 | C13: S4 | D13: 2025-10-09 | E13: Neogen / SEC (10-Q) | F13: https://www.sec.gov/Archives/edgar/data/711377/000119312525235720/neog-20250831.htm | G13: 1Q26 product lines, geography, segment OI, shares
B14: Neogen Announces Second-Quarter 2026 Results | C14: S5 | D14: 2026-01-08 | E14: Neogen / SEC (8-K EX-99.1) | F14: https://www.sec.gov/Archives/edgar/data/711377/000119312526006990/neog-ex99_1.htm | G14: 2Q26 IS, BS, 6M CF, non-GAAP bridge, guidance raise
B15: 10-Q for quarter ended 2025-11-30 | C15: S6 | D15: 2026-01-08 | E15: Neogen / SEC (10-Q) | F15: https://www.sec.gov/Archives/edgar/data/711377/000119312526007682/neog-20251130.htm | G15: 2Q26 product lines (3M and 6M), geography, segment OI, product/service split
B16: Neogen Reports Third Quarter Fiscal Year 2026 Financial Results | C16: S7 | D16: 2026-04-09 | E16: Neogen / SEC (8-K EX-99.1) | F16: https://www.sec.gov/Archives/edgar/data/711377/000119312526148851/neog-ex99_1.htm | G16: 3Q26 IS, BS, 9M CF, product lines, adj. GP/OI, guidance
B17: 10-Q for quarter ended 2026-02-28 | C17: S8 | D17: 2026-04-09 | E17: Neogen / SEC (10-Q) | F17: https://www.sec.gov/Archives/edgar/data/711377/000119312526149599/neog-20260228.htm | G17: 3Q26 segment OI, 9M FY25 segment OI, anti-dilutive shares, geography
B18: Neogen Reports Fourth Quarter and Full Fiscal Year 2026 Financial Results | C18: S9 | D18: 2026-07-30 | E18: Neogen / SEC (8-K EX-99.1) | F18: https://www.sec.gov/Archives/edgar/data/711377/000119312526324860/neog-ex99_1.htm | G18: 4Q26/FY26 IS, BS, FY CF, product lines, bridges, 1Q27 and FY27 guidance
B19: Form 10-K for fiscal year ended 2026-05-31 | C19: S10 | D19: 2026-07-30 | E19: Neogen / SEC (10-K) | F19: https://www.sec.gov/Archives/edgar/data/711377/000119312526326092/neog-20260531.htm | G19: FY26 segment OI, shares outstanding (May-26 and 2026-06-30), Genomics sale status
B20: Neogen (NEOG) Q4 2026 Earnings Call Transcript | C20: S11 | D20: Call 2026-07-30; page 2026-08-07 (URL path) | E20: The Motley Fool (transcript) | F20: https://www.fool.com/earnings/call-transcripts/2026/08/07/neogen-neog-q4-2026-earnings-call-transcript/ | G20: Guidance assumptions: C&D ~$6M in 1Q26, FX -1%, R&D +50%, $20M term-loan paydown, NWS, Iran-war cost pressure
... B30: Neogen set to post quarterly earnings — consensus $0.0533 EPS, $207.9M revenue | C30: S21 | D30: 2026-09-29 | E30: American Banking News (MarketBeat data) | F30: https://www.americanbankingnews.com/2026/09/29/neogen-neog-set-to-post-quarterly-earnings-on-tuesday.html | G30: Alternative consensus reference only (not the scoring baseline)
B32: Retrieval: web sources were retrieved live on 2026-10-04 between 23:30 and 23:55 UTC, after the 22:22 UTC information cutoff (live retrievals, not frozen pre-cutoff snapshots). Only content with a publication date on or before the cutoff was used. No 1Q27 actual results were seen. CapIQ files S1-S2 carry date-only capture precision (2026-10-04).
B33: Tabs: all standard tabs carry content — two reported segments (Food Safety, Animal Safety) and two disclosed geographies (domestic, international) per the FY26 10-K (S10); no tab omitted.
B34: Segment driver ladders: the FY26 10-K and FY26 10-Qs disclose no units, customers, price or volume, so ladders run year-ago base → divestiture → core growth → FX by product category.
B35: Retrieval timestamps (UTC): S3-S11 2026-10-04T23:3x; S12-S21 2026-10-04T23:4x; files S1-S2 read 2026-10-04T23:4x. Exact timestamps are in artifacts/input-usage.json and artifacts/prior-calibration.json.

Sheet Inputs
B2: Neogen Corporation (NasdaqGS: NEOG)
B3: Inputs — S&P Capital IQ raw data and beat-probability calibration
B4: $ millions, except per share
B5: Forecast period | C5: 1Q27E
B6: Period end | C6: 46265
B7: Days in period | C7: 92
